{"text_format":"1","workbook":"xlsx","n_sheets":3,"sheets":["SAMPLES","MEASUREMENTS","Time constants"],"not_rendered":{"charts":0,"images":0,"macros":1,"external_links":0,"defined_names":1,"comments":0,"pivot_tables":0},"unopened":[],"bounds":{"document_bytes":16777216,"sheet_cells":100000,"rows_first":2000,"rows_last":500,"rows_between":2000,"halvings":0,"cell_chars":16384,"cell_head_chars":4096},"cells_cut":0,"cells_raw":0,"read":"whole","date_system":"1900"}

{"sheet":"SAMPLES","index":0,"n_rows":9,"n_cols":13,"rows_kept":9,"cut":false,"hidden":false,"merged":[]}
[]
[]
[null,"IPTS number"]
[null,"PI and PI's email"]
[null,null,null,null,"Lattice constants"]
[null,"Sample Name","Chemical Formula (e.g. H2O)","mass (g)","a (Å)","b (Å)","c (Å)","α (deg)","β (deg)","γ (deg)","Z","Solid density (g/cm^3)","ITEMS"]
[null,"Sample 1 Name"]
[null,"Sample 2 Name"]
[null,"Sample 3 Name"]

{"sheet":"MEASUREMENTS","index":1,"n_rows":106,"n_cols":11,"rows_kept":106,"cut":false,"hidden":false,"merged":[]}
[]
[]
[]
[null,null,null,null,null,null,null,null,"Maximum Measurement time (hours)",24]
["NOTES","Temp. (K)  (5 to 320 K)","Sample","Incident Energy (meV)","High Flux / High Res","Time to measure (Coulombs)  (4.9 C/hour at 1.4 MW)","Time to set Temperature (minutes)","Time to set Config. (minutes)","Elapsed Time for commands (minutes)","Total Elapsed time (hours)","Putative Title"]
["INITIAL CONFIGURATION",290,null,60,"High Flux"]
["Example 1",5,"Sample 1 Name",60,"High Flux",12,{"$f":"IF(IF($B7>0,$B7-INDEX($B:$B,_xlfn.AGGREGATE(14,6,1/(LEN($B$1:INDEX(B:B,ROW()-1))>0)*ROW(B:B),1)),\"\")<>\"\",     ABS(IF($B7>0,$B7-INDEX($B:$B,_xlfn.AGGREGATE(14,6,1/(LEN($B$1:INDEX(B:B,ROW()-1))>0)*ROW(B:B),1)),\"\"))/'Time constants'!$C$8+IF(B7=B6,0,1)*'Time constants'!$C$7,\"\")","v":91.509316770186331},{"$f":"IF(OR(E7=\"High Resolution\",E7=\"High Flux\"),IF(E7=E6,0,1)*'Time constants'!$C$5+IF(D7=D6,0,1)*'Time constants'!$C$4,\"\")","v":0},{"$f":"IF(IF(F7=\"\",0,F7/'Time constants'!$C$6)+IF(G7=\"\",0,G7)+IF(H7=\"\",0,H7)=0,\"\",IF(F7=\"\",0,F7/'Time constants'!$C$6)+IF(G7=\"\",0,G7)+IF(H7=\"\",0,H7))","v":238.4480922803904},{"$f":"IF(I7/60=\"\",\"\",I7/60)","v":3.9741348713398401},{"$f":"IF(C7=\"\",\"\",TEXT(C7,\"0\") &\", \" & TEXT(E7,\"0\") & \" \" & TEXT(D7,\"0.0\") & \" meV, \" & \"T=\" & TEXT(B7,\"0.00\") & \" K, \" &TEXT(F7,\"0.00\") & \"C\")","v":"Sample 1 Name, High Flux 60.0 meV, T=5.00 K, 12.00C"}]
["Example 2",5,"Sample 2 Name",60,"High Flux",12,{"$f":"IF(IF($B8>0,$B8-INDEX($B:$B,_xlfn.AGGREGATE(14,6,1/(LEN($B$1:INDEX(B:B,ROW()-1))>0)*ROW(B:B),1)),\"\")<>\"\",     ABS(IF($B8>0,$B8-INDEX($B:$B,_xlfn.AGGREGATE(14,6,1/(LEN($B$1:INDEX(B:B,ROW()-1))>0)*ROW(B:B),1)),\"\"))/'Time constants'!$C$8+IF(B8=B7,0,1)*'Time constants'!$C$7,\"\")","v":0},{"$f":"IF(OR(E8=\"High Resolution\",E8=\"High Flux\"),IF(E8=E7,0,1)*'Time constants'!$C$5+IF(D8=D7,0,1)*'Time constants'!$C$4,\"\")","v":0},{"$f":"IF(IF(F8=\"\",0,F8/'Time constants'!$C$6)+IF(G8=\"\",0,G8)+IF(H8=\"\",0,H8)=0,\"\",IF(F8=\"\",0,F8/'Time constants'!$C$6)+IF(G8=\"\",0,G8)+IF(H8=\"\",0,H8))","v":146.93877551020407},{"$f":"IF(I8=\"\",\"\",I8/60+J7)","v":6.4231144631765744},{"$f":"IF(C8=\"\",\"\",TEXT(C8,\"0\") &\", \" & TEXT(E8,\"0\") & \" \" & TEXT(D8,\"0.0\") & \" meV, \" & \"T=\" & TEXT(B8,\"0.00\") & \" K, \" &TEXT(F8,\"0.00\") & \"C\")","v":"Sample 2 Name, High Flux 60.0 meV, T=5.00 K, 12.00C"}]
["Example 3",5,"Sample 3 Name",60,"High Flux",12,{"$f":"IF(IF($B9>0,$B9-INDEX($B:$B,_xlfn.AGGREGATE(14,6,1/(LEN($B$1:INDEX(B:B,ROW()-1))>0)*ROW(B:B),1)),\"\")<>\"\",     ABS(IF($B9>0,$B9-INDEX($B:$B,_xlfn.AGGREGATE(14,6,1/(LEN($B$1:INDEX(B:B,ROW()-1))>0)*ROW(B:B),1)),\"\"))/'Time constants'!$C$8+IF(B9=B8,0,1)*'Time constants'!$C$7,\"\")","v":0},{"$f":"IF(OR(E9=\"High Resolution\",E9=\"High Flux\"),IF(E9=E8,0,1)*'Time constants'!$C$5+IF(D9=D8,0,1)*'Time constants'!$C$4,\"\")","v":0},{"$f":"IF(IF(F9=\"\",0,F9/'Time constants'!$C$6)+IF(G9=\"\",0,G9)+IF(H9=\"\",0,H9)=0,\"\",IF(F9=\"\",0,F9/'Time constants'!$C$6)+IF(G9=\"\",0,G9)+IF(H9=\"\",0,H9))","v":146.93877551020407},8.8720940550133083,{"$f":"IF(C9=\"\",\"\",TEXT(C9,\"0\") &\", \" & TEXT(E9,\"0\") & \" \" & TEXT(D9,\"0.0\") & \" meV, \" & \"T=\" & TEXT(B9,\"0.00\") & \" K, \" &TEXT(F9,\"0.00\") & \"C\")","v":"Sample 3 Name, High Flux 60.0 meV, T=5.00 K, 12.00C"}]
["Example 4",120,"Sample 1 Name",120,"High Resolution",24,{"$f":"IF(IF($B10>0,$B10-INDEX($B:$B,_xlfn.AGGREGATE(14,6,1/(LEN($B$1:INDEX(B:B,ROW()-1))>0)*ROW(B:B),1)),\"\")<>\"\",     ABS(IF($B10>0,$B10-INDEX($B:$B,_xlfn.AGGREGATE(14,6,1/(LEN($B$1:INDEX(B:B,ROW()-1))>0)*ROW(B:B),1)),\"\"))/'Time constants'!$C$8+IF(B10=B9,0,1)*'Time constants'!$C$7,\"\")","v":38.714285714285715},{"$f":"IF(OR(E10=\"High Resolution\",E10=\"High Flux\"),IF(E10=E9,0,1)*'Time constants'!$C$5+IF(D10=D9,0,1)*'Time constants'!$C$4,\"\")","v":20},{"$f":"IF(IF(F10=\"\",0,F10/'Time constants'!$C$6)+IF(G10=\"\",0,G10)+IF(H10=\"\",0,H10)=0,\"\",IF(F10=\"\",0,F10/'Time constants'!$C$6)+IF(G10=\"\",0,G10)+IF(H10=\"\",0,H10))","v":352.59183673469386},14.748624667258206,{"$f":"IF(C10=\"\",\"\",TEXT(C10,\"0\") &\", \" & TEXT(E10,\"0\") & \" \" & TEXT(D10,\"0.0\") & \" meV, \" & \"T=\" & TEXT(B10,\"0.00\") & \" K, \" &TEXT(F10,\"0.00\") & \"C\")","v":"Sample 1 Name, High Resolution 120.0 meV, T=120.00 K, 24.00C"}]
["Example 5",120,"Sample 2 Name",120,"High Resolution",24,{"$f":"IF(IF($B11>0,$B11-INDEX($B:$B,_xlfn.AGGREGATE(14,6,1/(LEN($B$1:INDEX(B:B,ROW()-1))>0)*ROW(B:B),1)),\"\")<>\"\",     ABS(IF($B11>0,$B11-INDEX($B:$B,_xlfn.AGGREGATE(14,6,1/(LEN($B$1:INDEX(B:B,ROW()-1))>0)*ROW(B:B),1)),\"\"))/'Time constants'!$C$8+IF(B11=B10,0,1)*'Time constants'!$C$7,\"\")","v":0},{"$f":"IF(OR(E11=\"High Resolution\",E11=\"High Flux\"),IF(E11=E10,0,1)*'Time constants'!$C$5+IF(D11=D10,0,1)*'Time constants'!$C$4,\"\")","v":0},{"$f":"IF(IF(F11=\"\",0,F11/'Time constants'!$C$6)+IF(G11=\"\",0,G11)+IF(H11=\"\",0,H11)=0,\"\",IF(F11=\"\",0,F11/'Time constants'!$C$6)+IF(G11=\"\",0,G11)+IF(H11=\"\",0,H11))","v":293.87755102040813},19.646583850931673,"Sample 2 Name, High Resolution 120.0 meV, T=120.00 K, 24.00C"]
["Example 6",120,"Sample 3 Name",120,"High Resolution",24,{"$f":"IF(IF($B12>0,$B12-INDEX($B:$B,_xlfn.AGGREGATE(14,6,1/(LEN($B$1:INDEX(B:B,ROW()-1))>0)*ROW(B:B),1)),\"\")<>\"\",     ABS(IF($B12>0,$B12-INDEX($B:$B,_xlfn.AGGREGATE(14,6,1/(LEN($B$1:INDEX(B:B,ROW()-1))>0)*ROW(B:B),1)),\"\"))/'Time constants'!$C$8+IF(B12=B11,0,1)*'Time constants'!$C$7,\"\")","v":0},{"$f":"IF(OR(E12=\"High Resolution\",E12=\"High Flux\"),IF(E12=E11,0,1)*'Time constants'!$C$5+IF(D12=D11,0,1)*'Time constants'!$C$4,\"\")","v":0},{"$f":"IF(IF(F12=\"\",0,F12/'Time constants'!$C$6)+IF(G12=\"\",0,G12)+IF(H12=\"\",0,H12)=0,\"\",IF(F12=\"\",0,F12/'Time constants'!$C$6)+IF(G12=\"\",0,G12)+IF(H12=\"\",0,H12))","v":293.87755102040813},24.544543034605141,"Sample 3 Name, High Resolution 120.0 meV, T=120.00 K, 24.00C"]
[null,null,null,null,null,null,{"$f":"IF(IF($B13>0,$B13-INDEX($B:$B,_xlfn.AGGREGATE(14,6,1/(LEN($B$1:INDEX(B:B,ROW()-1))>0)*ROW(B:B),1)),\"\")<>\"\",     ABS(IF($B13>0,$B13-INDEX($B:$B,_xlfn.AGGREGATE(14,6,1/(LEN($B$1:INDEX(B:B,ROW()-1))>0)*ROW(B:B),1)),\"\"))/'Time constants'!$C$8+IF(B13=B12,0,1)*'Time constants'!$C$7,\"\")","v":""},{"$f":"IF(OR(E13=\"High Resolution\",E13=\"High Flux\"),IF(E13=E12,0,1)*'Time constants'!$C$5+IF(D13=D12,0,1)*'Time constants'!$C$4,\"\")","v":""},{"$f":"IF(IF(F13=\"\",0,F13/'Time constants'!$C$6)+IF(G13=\"\",0,G13)+IF(H13=\"\",0,H13)=0,\"\",IF(F13=\"\",0,F13/'Time constants'!$C$6)+IF(G13=\"\",0,G13)+IF(H13=\"\",0,H13))","v":""},"",""]
[null,null,null,null,null,null,{"$f":"IF(IF($B14>0,$B14-INDEX($B:$B,_xlfn.AGGREGATE(14,6,1/(LEN($B$1:INDEX(B:B,ROW()-1))>0)*ROW(B:B),1)),\"\")<>\"\",     ABS(IF($B14>0,$B14-INDEX($B:$B,_xlfn.AGGREGATE(14,6,1/(LEN($B$1:INDEX(B:B,ROW()-1))>0)*ROW(B:B),1)),\"\"))/'Time constants'!$C$8+IF(B14=B13,0,1)*'Time constants'!$C$7,\"\")","v":""},{"$f":"IF(OR(E14=\"High Resolution\",E14=\"High Flux\"),IF(E14=E13,0,1)*'Time constants'!$C$5+IF(D14=D13,0,1)*'Time constants'!$C$4,\"\")","v":""},{"$f":"IF(IF(F14=\"\",0,F14/'Time constants'!$C$6)+IF(G14=\"\",0,G14)+IF(H14=\"\",0,H14)=0,\"\",IF(F14=\"\",0,F14/'Time constants'!$C$6)+IF(G14=\"\",0,G14)+IF(H14=\"\",0,H14))","v":""},"",""]
[null,null,null,null,null,null,{"$f":"IF(IF($B15>0,$B15-INDEX($B:$B,_xlfn.AGGREGATE(14,6,1/(LEN($B$1:INDEX(B:B,ROW()-1))>0)*ROW(B:B),1)),\"\")<>\"\",     ABS(IF($B15>0,$B15-INDEX($B:$B,_xlfn.AGGREGATE(14,6,1/(LEN($B$1:INDEX(B:B,ROW()-1))>0)*ROW(B:B),1)),\"\"))/'Time constants'!$C$8+IF(B15=B14,0,1)*'Time constants'!$C$7,\"\")","v":""},{"$f":"IF(OR(E15=\"High Resolution\",E15=\"High Flux\"),IF(E15=E14,0,1)*'Time constants'!$C$5+IF(D15=D14,0,1)*'Time constants'!$C$4,\"\")","v":""},{"$f":"IF(IF(F15=\"\",0,F15/'Time constants'!$C$6)+IF(G15=\"\",0,G15)+IF(H15=\"\",0,H15)=0,\"\",IF(F15=\"\",0,F15/'Time constants'!$C$6)+IF(G15=\"\",0,G15)+IF(H15=\"\",0,H15))","v":""},"",""]
[null,null,null,null,null,null,{"$f":"IF(IF($B16>0,$B16-INDEX($B:$B,_xlfn.AGGREGATE(14,6,1/(LEN($B$1:INDEX(B:B,ROW()-1))>0)*ROW(B:B),1)),\"\")<>\"\",     ABS(IF($B16>0,$B16-INDEX($B:$B,_xlfn.AGGREGATE(14,6,1/(LEN($B$1:INDEX(B:B,ROW()-1))>0)*ROW(B:B),1)),\"\"))/'Time constants'!$C$8+IF(B16=B15,0,1)*'Time constants'!$C$7,\"\")","v":""},{"$f":"IF(OR(E16=\"High Resolution\",E16=\"High Flux\"),IF(E16=E15,0,1)*'Time constants'!$C$5+IF(D16=D15,0,1)*'Time constants'!$C$4,\"\")","v":""},{"$f":"IF(IF(F16=\"\",0,F16/'Time constants'!$C$6)+IF(G16=\"\",0,G16)+IF(H16=\"\",0,H16)=0,\"\",IF(F16=\"\",0,F16/'Time constants'!$C$6)+IF(G16=\"\",0,G16)+IF(H16=\"\",0,H16))","v":""},"",""]
[null,null,null,null,null,null,{"$f":"IF(IF($B17>0,$B17-INDEX($B:$B,_xlfn.AGGREGATE(14,6,1/(LEN($B$1:INDEX(B:B,ROW()-1))>0)*ROW(B:B),1)),\"\")<>\"\",     ABS(IF($B17>0,$B17-INDEX($B:$B,_xlfn.AGGREGATE(14,6,1/(LEN($B$1:INDEX(B:B,ROW()-1))>0)*ROW(B:B),1)),\"\"))/'Time constants'!$C$8+IF(B17=B16,0,1)*'Time constants'!$C$7,\"\")","v":""},{"$f":"IF(OR(E17=\"High Resolution\",E17=\"High Flux\"),IF(E17=E16,0,1)*'Time constants'!$C$5+IF(D17=D16,0,1)*'Time constants'!$C$4,\"\")","v":""},{"$f":"IF(IF(F17=\"\",0,F17/'Time constants'!$C$6)+IF(G17=\"\",0,G17)+IF(H17=\"\",0,H17)=0,\"\",IF(F17=\"\",0,F17/'Time constants'!$C$6)+IF(G17=\"\",0,G17)+IF(H17=\"\",0,H17))","v":""},"",""]
[null,null,null,null,null,null,{"$f":"IF(IF($B18>0,$B18-INDEX($B:$B,_xlfn.AGGREGATE(14,6,1/(LEN($B$1:INDEX(B:B,ROW()-1))>0)*ROW(B:B),1)),\"\")<>\"\",     ABS(IF($B18>0,$B18-INDEX($B:$B,_xlfn.AGGREGATE(14,6,1/(LEN($B$1:INDEX(B:B,ROW()-1))>0)*ROW(B:B),1)),\"\"))/'Time constants'!$C$8+IF(B18=B17,0,1)*'Time constants'!$C$7,\"\")","v":""},{"$f":"IF(OR(E18=\"High Resolution\",E18=\"High Flux\"),IF(E18=E17,0,1)*'Time constants'!$C$5+IF(D18=D17,0,1)*'Time constants'!$C$4,\"\")","v":""},{"$f":"IF(IF(F18=\"\",0,F18/'Time constants'!$C$6)+IF(G18=\"\",0,G18)+IF(H18=\"\",0,H18)=0,\"\",IF(F18=\"\",0,F18/'Time constants'!$C$6)+IF(G18=\"\",0,G18)+IF(H18=\"\",0,H18))","v":""},"",""]
[null,null,null,null,null,null,{"$f":"IF(IF($B19>0,$B19-INDEX($B:$B,_xlfn.AGGREGATE(14,6,1/(LEN($B$1:INDEX(B:B,ROW()-1))>0)*ROW(B:B),1)),\"\")<>\"\",     ABS(IF($B19>0,$B19-INDEX($B:$B,_xlfn.AGGREGATE(14,6,1/(LEN($B$1:INDEX(B:B,ROW()-1))>0)*ROW(B:B),1)),\"\"))/'Time constants'!$C$8+IF(B19=B18,0,1)*'Time constants'!$C$7,\"\")","v":""},{"$f":"IF(OR(E19=\"High Resolution\",E19=\"High Flux\"),IF(E19=E18,0,1)*'Time constants'!$C$5+IF(D19=D18,0,1)*'Time constants'!$C$4,\"\")","v":""},{"$f":"IF(IF(F19=\"\",0,F19/'Time constants'!$C$6)+IF(G19=\"\",0,G19)+IF(H19=\"\",0,H19)=0,\"\",IF(F19=\"\",0,F19/'Time constants'!$C$6)+IF(G19=\"\",0,G19)+IF(H19=\"\",0,H19))","v":""},{"$f":"IF(I19=\"\",\"\",I19/60+J18)","v":""},""]
[null,null,null,null,null,null,{"$f":"IF(IF($B20>0,$B20-INDEX($B:$B,_xlfn.AGGREGATE(14,6,1/(LEN($B$1:INDEX(B:B,ROW()-1))>0)*ROW(B:B),1)),\"\")<>\"\",     ABS(IF($B20>0,$B20-INDEX($B:$B,_xlfn.AGGREGATE(14,6,1/(LEN($B$1:INDEX(B:B,ROW()-1))>0)*ROW(B:B),1)),\"\"))/'Time constants'!$C$8+IF(B20=B19,0,1)*'Time constants'!$C$7,\"\")","v":""},{"$f":"IF(OR(E20=\"High Resolution\",E20=\"High Flux\"),IF(E20=E19,0,1)*'Time constants'!$C$5+IF(D20=D19,0,1)*'Time constants'!$C$4,\"\")","v":""},{"$f":"IF(IF(F20=\"\",0,F20/'Time constants'!$C$6)+IF(G20=\"\",0,G20)+IF(H20=\"\",0,H20)=0,\"\",IF(F20=\"\",0,F20/'Time constants'!$C$6)+IF(G20=\"\",0,G20)+IF(H20=\"\",0,H20))","v":""},"",""]
[null,null,null,null,null,null,{"$f":"IF(IF($B21>0,$B21-INDEX($B:$B,_xlfn.AGGREGATE(14,6,1/(LEN($B$1:INDEX(B:B,ROW()-1))>0)*ROW(B:B),1)),\"\")<>\"\",     ABS(IF($B21>0,$B21-INDEX($B:$B,_xlfn.AGGREGATE(14,6,1/(LEN($B$1:INDEX(B:B,ROW()-1))>0)*ROW(B:B),1)),\"\"))/'Time constants'!$C$8+IF(B21=B20,0,1)*'Time constants'!$C$7,\"\")","v":""},{"$f":"IF(OR(E21=\"High Resolution\",E21=\"High Flux\"),IF(E21=E20,0,1)*'Time constants'!$C$5+IF(D21=D20,0,1)*'Time constants'!$C$4,\"\")","v":""},{"$f":"IF(IF(F21=\"\",0,F21/'Time constants'!$C$6)+IF(G21=\"\",0,G21)+IF(H21=\"\",0,H21)=0,\"\",IF(F21=\"\",0,F21/'Time constants'!$C$6)+IF(G21=\"\",0,G21)+IF(H21=\"\",0,H21))","v":""},"",""]
[null,null,null,null,null,null,{"$f":"IF(IF($B22>0,$B22-INDEX($B:$B,_xlfn.AGGREGATE(14,6,1/(LEN($B$1:INDEX(B:B,ROW()-1))>0)*ROW(B:B),1)),\"\")<>\"\",     ABS(IF($B22>0,$B22-INDEX($B:$B,_xlfn.AGGREGATE(14,6,1/(LEN($B$1:INDEX(B:B,ROW()-1))>0)*ROW(B:B),1)),\"\"))/'Time constants'!$C$8+IF(B22=B21,0,1)*'Time constants'!$C$7,\"\")","v":""},{"$f":"IF(OR(E22=\"High Resolution\",E22=\"High Flux\"),IF(E22=E21,0,1)*'Time constants'!$C$5+IF(D22=D21,0,1)*'Time constants'!$C$4,\"\")","v":""},{"$f":"IF(IF(F22=\"\",0,F22/'Time constants'!$C$6)+IF(G22=\"\",0,G22)+IF(H22=\"\",0,H22)=0,\"\",IF(F22=\"\",0,F22/'Time constants'!$C$6)+IF(G22=\"\",0,G22)+IF(H22=\"\",0,H22))","v":""},"",""]
[null,null,null,null,null,null,{"$f":"IF(IF($B23>0,$B23-INDEX($B:$B,_xlfn.AGGREGATE(14,6,1/(LEN($B$1:INDEX(B:B,ROW()-1))>0)*ROW(B:B),1)),\"\")<>\"\",     ABS(IF($B23>0,$B23-INDEX($B:$B,_xlfn.AGGREGATE(14,6,1/(LEN($B$1:INDEX(B:B,ROW()-1))>0)*ROW(B:B),1)),\"\"))/'Time constants'!$C$8+IF(B23=B22,0,1)*'Time constants'!$C$7,\"\")","v":""},{"$f":"IF(OR(E23=\"High Resolution\",E23=\"High Flux\"),IF(E23=E22,0,1)*'Time constants'!$C$5+IF(D23=D22,0,1)*'Time constants'!$C$4,\"\")","v":""},{"$f":"IF(IF(F23=\"\",0,F23/'Time constants'!$C$6)+IF(G23=\"\",0,G23)+IF(H23=\"\",0,H23)=0,\"\",IF(F23=\"\",0,F23/'Time constants'!$C$6)+IF(G23=\"\",0,G23)+IF(H23=\"\",0,H23))","v":""},"",""]
[null,null,null,null,null,null,{"$f":"IF(IF($B24>0,$B24-INDEX($B:$B,_xlfn.AGGREGATE(14,6,1/(LEN($B$1:INDEX(B:B,ROW()-1))>0)*ROW(B:B),1)),\"\")<>\"\",     ABS(IF($B24>0,$B24-INDEX($B:$B,_xlfn.AGGREGATE(14,6,1/(LEN($B$1:INDEX(B:B,ROW()-1))>0)*ROW(B:B),1)),\"\"))/'Time constants'!$C$8+IF(B24=B23,0,1)*'Time constants'!$C$7,\"\")","v":""},{"$f":"IF(OR(E24=\"High Resolution\",E24=\"High Flux\"),IF(E24=E23,0,1)*'Time constants'!$C$5+IF(D24=D23,0,1)*'Time constants'!$C$4,\"\")","v":""},{"$f":"IF(IF(F24=\"\",0,F24/'Time constants'!$C$6)+IF(G24=\"\",0,G24)+IF(H24=\"\",0,H24)=0,\"\",IF(F24=\"\",0,F24/'Time constants'!$C$6)+IF(G24=\"\",0,G24)+IF(H24=\"\",0,H24))","v":""},"",""]
[null,null,null,null,null,null,{"$f":"IF(IF($B25>0,$B25-INDEX($B:$B,_xlfn.AGGREGATE(14,6,1/(LEN($B$1:INDEX(B:B,ROW()-1))>0)*ROW(B:B),1)),\"\")<>\"\",     ABS(IF($B25>0,$B25-INDEX($B:$B,_xlfn.AGGREGATE(14,6,1/(LEN($B$1:INDEX(B:B,ROW()-1))>0)*ROW(B:B),1)),\"\"))/'Time constants'!$C$8+IF(B25=B24,0,1)*'Time constants'!$C$7,\"\")","v":""},{"$f":"IF(OR(E25=\"High Resolution\",E25=\"High Flux\"),IF(E25=E24,0,1)*'Time constants'!$C$5+IF(D25=D24,0,1)*'Time constants'!$C$4,\"\")","v":""},{"$f":"IF(IF(F25=\"\",0,F25/'Time constants'!$C$6)+IF(G25=\"\",0,G25)+IF(H25=\"\",0,H25)=0,\"\",IF(F25=\"\",0,F25/'Time constants'!$C$6)+IF(G25=\"\",0,G25)+IF(H25=\"\",0,H25))","v":""},"",""]
[null,null,null,null,null,null,{"$f":"IF(IF($B26>0,$B26-INDEX($B:$B,_xlfn.AGGREGATE(14,6,1/(LEN($B$1:INDEX(B:B,ROW()-1))>0)*ROW(B:B),1)),\"\")<>\"\",     ABS(IF($B26>0,$B26-INDEX($B:$B,_xlfn.AGGREGATE(14,6,1/(LEN($B$1:INDEX(B:B,ROW()-1))>0)*ROW(B:B),1)),\"\"))/'Time constants'!$C$8+IF(B26=B25,0,1)*'Time constants'!$C$7,\"\")","v":""},{"$f":"IF(OR(E26=\"High Resolution\",E26=\"High Flux\"),IF(E26=E25,0,1)*'Time constants'!$C$5+IF(D26=D25,0,1)*'Time constants'!$C$4,\"\")","v":""},{"$f":"IF(IF(F26=\"\",0,F26/'Time constants'!$C$6)+IF(G26=\"\",0,G26)+IF(H26=\"\",0,H26)=0,\"\",IF(F26=\"\",0,F26/'Time constants'!$C$6)+IF(G26=\"\",0,G26)+IF(H26=\"\",0,H26))","v":""},"",""]
[null,null,null,null,null,null,{"$f":"IF(IF($B27>0,$B27-INDEX($B:$B,_xlfn.AGGREGATE(14,6,1/(LEN($B$1:INDEX(B:B,ROW()-1))>0)*ROW(B:B),1)),\"\")<>\"\",     ABS(IF($B27>0,$B27-INDEX($B:$B,_xlfn.AGGREGATE(14,6,1/(LEN($B$1:INDEX(B:B,ROW()-1))>0)*ROW(B:B),1)),\"\"))/'Time constants'!$C$8+IF(B27=B26,0,1)*'Time constants'!$C$7,\"\")","v":""},{"$f":"IF(OR(E27=\"High Resolution\",E27=\"High Flux\"),IF(E27=E26,0,1)*'Time constants'!$C$5+IF(D27=D26,0,1)*'Time constants'!$C$4,\"\")","v":""},{"$f":"IF(IF(F27=\"\",0,F27/'Time constants'!$C$6)+IF(G27=\"\",0,G27)+IF(H27=\"\",0,H27)=0,\"\",IF(F27=\"\",0,F27/'Time constants'!$C$6)+IF(G27=\"\",0,G27)+IF(H27=\"\",0,H27))","v":""},"",""]
[null,null,null,null,null,null,{"$f":"IF(IF($B28>0,$B28-INDEX($B:$B,_xlfn.AGGREGATE(14,6,1/(LEN($B$1:INDEX(B:B,ROW()-1))>0)*ROW(B:B),1)),\"\")<>\"\",     ABS(IF($B28>0,$B28-INDEX($B:$B,_xlfn.AGGREGATE(14,6,1/(LEN($B$1:INDEX(B:B,ROW()-1))>0)*ROW(B:B),1)),\"\"))/'Time constants'!$C$8+IF(B28=B27,0,1)*'Time constants'!$C$7,\"\")","v":""},{"$f":"IF(OR(E28=\"High Resolution\",E28=\"High Flux\"),IF(E28=E27,0,1)*'Time constants'!$C$5+IF(D28=D27,0,1)*'Time constants'!$C$4,\"\")","v":""},{"$f":"IF(IF(F28=\"\",0,F28/'Time constants'!$C$6)+IF(G28=\"\",0,G28)+IF(H28=\"\",0,H28)=0,\"\",IF(F28=\"\",0,F28/'Time constants'!$C$6)+IF(G28=\"\",0,G28)+IF(H28=\"\",0,H28))","v":""},"",""]
[null,null,null,null,null,null,{"$f":"IF(IF($B29>0,$B29-INDEX($B:$B,_xlfn.AGGREGATE(14,6,1/(LEN($B$1:INDEX(B:B,ROW()-1))>0)*ROW(B:B),1)),\"\")<>\"\",     ABS(IF($B29>0,$B29-INDEX($B:$B,_xlfn.AGGREGATE(14,6,1/(LEN($B$1:INDEX(B:B,ROW()-1))>0)*ROW(B:B),1)),\"\"))/'Time constants'!$C$8+IF(B29=B28,0,1)*'Time constants'!$C$7,\"\")","v":""},{"$f":"IF(OR(E29=\"High Resolution\",E29=\"High Flux\"),IF(E29=E28,0,1)*'Time constants'!$C$5+IF(D29=D28,0,1)*'Time constants'!$C$4,\"\")","v":""},{"$f":"IF(IF(F29=\"\",0,F29/'Time constants'!$C$6)+IF(G29=\"\",0,G29)+IF(H29=\"\",0,H29)=0,\"\",IF(F29=\"\",0,F29/'Time constants'!$C$6)+IF(G29=\"\",0,G29)+IF(H29=\"\",0,H29))","v":""},"",""]
[null,null,null,null,null,null,{"$f":"IF(IF($B30>0,$B30-INDEX($B:$B,_xlfn.AGGREGATE(14,6,1/(LEN($B$1:INDEX(B:B,ROW()-1))>0)*ROW(B:B),1)),\"\")<>\"\",     ABS(IF($B30>0,$B30-INDEX($B:$B,_xlfn.AGGREGATE(14,6,1/(LEN($B$1:INDEX(B:B,ROW()-1))>0)*ROW(B:B),1)),\"\"))/'Time constants'!$C$8+IF(B30=B29,0,1)*'Time constants'!$C$7,\"\")","v":""},{"$f":"IF(OR(E30=\"High Resolution\",E30=\"High Flux\"),IF(E30=E29,0,1)*'Time constants'!$C$5+IF(D30=D29,0,1)*'Time constants'!$C$4,\"\")","v":""},{"$f":"IF(IF(F30=\"\",0,F30/'Time constants'!$C$6)+IF(G30=\"\",0,G30)+IF(H30=\"\",0,H30)=0,\"\",IF(F30=\"\",0,F30/'Time constants'!$C$6)+IF(G30=\"\",0,G30)+IF(H30=\"\",0,H30))","v":""},"",""]
[null,null,null,null,null,null,{"$f":"IF(IF($B31>0,$B31-INDEX($B:$B,_xlfn.AGGREGATE(14,6,1/(LEN($B$1:INDEX(B:B,ROW()-1))>0)*ROW(B:B),1)),\"\")<>\"\",     ABS(IF($B31>0,$B31-INDEX($B:$B,_xlfn.AGGREGATE(14,6,1/(LEN($B$1:INDEX(B:B,ROW()-1))>0)*ROW(B:B),1)),\"\"))/'Time constants'!$C$8+IF(B31=B30,0,1)*'Time constants'!$C$7,\"\")","v":""},{"$f":"IF(OR(E31=\"High Resolution\",E31=\"High Flux\"),IF(E31=E30,0,1)*'Time constants'!$C$5+IF(D31=D30,0,1)*'Time constants'!$C$4,\"\")","v":""},{"$f":"IF(IF(F31=\"\",0,F31/'Time constants'!$C$6)+IF(G31=\"\",0,G31)+IF(H31=\"\",0,H31)=0,\"\",IF(F31=\"\",0,F31/'Time constants'!$C$6)+IF(G31=\"\",0,G31)+IF(H31=\"\",0,H31))","v":""},"",""]
[null,null,null,null,null,null,{"$f":"IF(IF($B32>0,$B32-INDEX($B:$B,_xlfn.AGGREGATE(14,6,1/(LEN($B$1:INDEX(B:B,ROW()-1))>0)*ROW(B:B),1)),\"\")<>\"\",     ABS(IF($B32>0,$B32-INDEX($B:$B,_xlfn.AGGREGATE(14,6,1/(LEN($B$1:INDEX(B:B,ROW()-1))>0)*ROW(B:B),1)),\"\"))/'Time constants'!$C$8+IF(B32=B31,0,1)*'Time constants'!$C$7,\"\")","v":""},{"$f":"IF(OR(E32=\"High Resolution\",E32=\"High Flux\"),IF(E32=E31,0,1)*'Time constants'!$C$5+IF(D32=D31,0,1)*'Time constants'!$C$4,\"\")","v":""},{"$f":"IF(IF(F32=\"\",0,F32/'Time constants'!$C$6)+IF(G32=\"\",0,G32)+IF(H32=\"\",0,H32)=0,\"\",IF(F32=\"\",0,F32/'Time constants'!$C$6)+IF(G32=\"\",0,G32)+IF(H32=\"\",0,H32))","v":""},"",""]
[null,null,null,null,null,null,{"$f":"IF(IF($B33>0,$B33-INDEX($B:$B,_xlfn.AGGREGATE(14,6,1/(LEN($B$1:INDEX(B:B,ROW()-1))>0)*ROW(B:B),1)),\"\")<>\"\",     ABS(IF($B33>0,$B33-INDEX($B:$B,_xlfn.AGGREGATE(14,6,1/(LEN($B$1:INDEX(B:B,ROW()-1))>0)*ROW(B:B),1)),\"\"))/'Time constants'!$C$8+IF(B33=B32,0,1)*'Time constants'!$C$7,\"\")","v":""},{"$f":"IF(OR(E33=\"High Resolution\",E33=\"High Flux\"),IF(E33=E32,0,1)*'Time constants'!$C$5+IF(D33=D32,0,1)*'Time constants'!$C$4,\"\")","v":""},{"$f":"IF(IF(F33=\"\",0,F33/'Time constants'!$C$6)+IF(G33=\"\",0,G33)+IF(H33=\"\",0,H33)=0,\"\",IF(F33=\"\",0,F33/'Time constants'!$C$6)+IF(G33=\"\",0,G33)+IF(H33=\"\",0,H33))","v":""},"",""]
[null,null,null,null,null,null,{"$f":"IF(IF($B34>0,$B34-INDEX($B:$B,_xlfn.AGGREGATE(14,6,1/(LEN($B$1:INDEX(B:B,ROW()-1))>0)*ROW(B:B),1)),\"\")<>\"\",     ABS(IF($B34>0,$B34-INDEX($B:$B,_xlfn.AGGREGATE(14,6,1/(LEN($B$1:INDEX(B:B,ROW()-1))>0)*ROW(B:B),1)),\"\"))/'Time constants'!$C$8+IF(B34=B33,0,1)*'Time constants'!$C$7,\"\")","v":""},{"$f":"IF(OR(E34=\"High Resolution\",E34=\"High Flux\"),IF(E34=E33,0,1)*'Time constants'!$C$5+IF(D34=D33,0,1)*'Time constants'!$C$4,\"\")","v":""},{"$f":"IF(IF(F34=\"\",0,F34/'Time constants'!$C$6)+IF(G34=\"\",0,G34)+IF(H34=\"\",0,H34)=0,\"\",IF(F34=\"\",0,F34/'Time constants'!$C$6)+IF(G34=\"\",0,G34)+IF(H34=\"\",0,H34))","v":""},"",""]
[null,null,null,null,null,null,{"$f":"IF(IF($B35>0,$B35-INDEX($B:$B,_xlfn.AGGREGATE(14,6,1/(LEN($B$1:INDEX(B:B,ROW()-1))>0)*ROW(B:B),1)),\"\")<>\"\",     ABS(IF($B35>0,$B35-INDEX($B:$B,_xlfn.AGGREGATE(14,6,1/(LEN($B$1:INDEX(B:B,ROW()-1))>0)*ROW(B:B),1)),\"\"))/'Time constants'!$C$8+IF(B35=B34,0,1)*'Time constants'!$C$7,\"\")","v":""},{"$f":"IF(OR(E35=\"High Resolution\",E35=\"High Flux\"),IF(E35=E34,0,1)*'Time constants'!$C$5+IF(D35=D34,0,1)*'Time constants'!$C$4,\"\")","v":""},{"$f":"IF(IF(F35=\"\",0,F35/'Time constants'!$C$6)+IF(G35=\"\",0,G35)+IF(H35=\"\",0,H35)=0,\"\",IF(F35=\"\",0,F35/'Time constants'!$C$6)+IF(G35=\"\",0,G35)+IF(H35=\"\",0,H35))","v":""},"",""]
[null,null,null,null,null,null,{"$f":"IF(IF($B36>0,$B36-INDEX($B:$B,_xlfn.AGGREGATE(14,6,1/(LEN($B$1:INDEX(B:B,ROW()-1))>0)*ROW(B:B),1)),\"\")<>\"\",     ABS(IF($B36>0,$B36-INDEX($B:$B,_xlfn.AGGREGATE(14,6,1/(LEN($B$1:INDEX(B:B,ROW()-1))>0)*ROW(B:B),1)),\"\"))/'Time constants'!$C$8+IF(B36=B35,0,1)*'Time constants'!$C$7,\"\")","v":""},{"$f":"IF(OR(E36=\"High Resolution\",E36=\"High Flux\"),IF(E36=E35,0,1)*'Time constants'!$C$5+IF(D36=D35,0,1)*'Time constants'!$C$4,\"\")","v":""},{"$f":"IF(IF(F36=\"\",0,F36/'Time constants'!$C$6)+IF(G36=\"\",0,G36)+IF(H36=\"\",0,H36)=0,\"\",IF(F36=\"\",0,F36/'Time constants'!$C$6)+IF(G36=\"\",0,G36)+IF(H36=\"\",0,H36))","v":""},"",""]
[null,null,null,null,null,null,{"$f":"IF(IF($B37>0,$B37-INDEX($B:$B,_xlfn.AGGREGATE(14,6,1/(LEN($B$1:INDEX(B:B,ROW()-1))>0)*ROW(B:B),1)),\"\")<>\"\",     ABS(IF($B37>0,$B37-INDEX($B:$B,_xlfn.AGGREGATE(14,6,1/(LEN($B$1:INDEX(B:B,ROW()-1))>0)*ROW(B:B),1)),\"\"))/'Time constants'!$C$8+IF(B37=B36,0,1)*'Time constants'!$C$7,\"\")","v":""},{"$f":"IF(OR(E37=\"High Resolution\",E37=\"High Flux\"),IF(E37=E36,0,1)*'Time constants'!$C$5+IF(D37=D36,0,1)*'Time constants'!$C$4,\"\")","v":""},{"$f":"IF(IF(F37=\"\",0,F37/'Time constants'!$C$6)+IF(G37=\"\",0,G37)+IF(H37=\"\",0,H37)=0,\"\",IF(F37=\"\",0,F37/'Time constants'!$C$6)+IF(G37=\"\",0,G37)+IF(H37=\"\",0,H37))","v":""},"",""]
[null,null,null,null,null,null,{"$f":"IF(IF($B38>0,$B38-INDEX($B:$B,_xlfn.AGGREGATE(14,6,1/(LEN($B$1:INDEX(B:B,ROW()-1))>0)*ROW(B:B),1)),\"\")<>\"\",     ABS(IF($B38>0,$B38-INDEX($B:$B,_xlfn.AGGREGATE(14,6,1/(LEN($B$1:INDEX(B:B,ROW()-1))>0)*ROW(B:B),1)),\"\"))/'Time constants'!$C$8+IF(B38=B37,0,1)*'Time constants'!$C$7,\"\")","v":""},{"$f":"IF(OR(E38=\"High Resolution\",E38=\"High Flux\"),IF(E38=E37,0,1)*'Time constants'!$C$5+IF(D38=D37,0,1)*'Time constants'!$C$4,\"\")","v":""},{"$f":"IF(IF(F38=\"\",0,F38/'Time constants'!$C$6)+IF(G38=\"\",0,G38)+IF(H38=\"\",0,H38)=0,\"\",IF(F38=\"\",0,F38/'Time constants'!$C$6)+IF(G38=\"\",0,G38)+IF(H38=\"\",0,H38))","v":""},"",""]
[null,null,null,null,null,null,{"$f":"IF(IF($B39>0,$B39-INDEX($B:$B,_xlfn.AGGREGATE(14,6,1/(LEN($B$1:INDEX(B:B,ROW()-1))>0)*ROW(B:B),1)),\"\")<>\"\",     ABS(IF($B39>0,$B39-INDEX($B:$B,_xlfn.AGGREGATE(14,6,1/(LEN($B$1:INDEX(B:B,ROW()-1))>0)*ROW(B:B),1)),\"\"))/'Time constants'!$C$8+IF(B39=B38,0,1)*'Time constants'!$C$7,\"\")","v":""},{"$f":"IF(OR(E39=\"High Resolution\",E39=\"High Flux\"),IF(E39=E38,0,1)*'Time constants'!$C$5+IF(D39=D38,0,1)*'Time constants'!$C$4,\"\")","v":""},{"$f":"IF(IF(F39=\"\",0,F39/'Time constants'!$C$6)+IF(G39=\"\",0,G39)+IF(H39=\"\",0,H39)=0,\"\",IF(F39=\"\",0,F39/'Time constants'!$C$6)+IF(G39=\"\",0,G39)+IF(H39=\"\",0,H39))","v":""},"",""]
[null,null,null,null,null,null,{"$f":"IF(IF($B40>0,$B40-INDEX($B:$B,_xlfn.AGGREGATE(14,6,1/(LEN($B$1:INDEX(B:B,ROW()-1))>0)*ROW(B:B),1)),\"\")<>\"\",     ABS(IF($B40>0,$B40-INDEX($B:$B,_xlfn.AGGREGATE(14,6,1/(LEN($B$1:INDEX(B:B,ROW()-1))>0)*ROW(B:B),1)),\"\"))/'Time constants'!$C$8+IF(B40=B39,0,1)*'Time constants'!$C$7,\"\")","v":""},{"$f":"IF(OR(E40=\"High Resolution\",E40=\"High Flux\"),IF(E40=E39,0,1)*'Time constants'!$C$5+IF(D40=D39,0,1)*'Time constants'!$C$4,\"\")","v":""},{"$f":"IF(IF(F40=\"\",0,F40/'Time constants'!$C$6)+IF(G40=\"\",0,G40)+IF(H40=\"\",0,H40)=0,\"\",IF(F40=\"\",0,F40/'Time constants'!$C$6)+IF(G40=\"\",0,G40)+IF(H40=\"\",0,H40))","v":""},"",""]
[null,null,null,null,null,null,{"$f":"IF(IF($B41>0,$B41-INDEX($B:$B,_xlfn.AGGREGATE(14,6,1/(LEN($B$1:INDEX(B:B,ROW()-1))>0)*ROW(B:B),1)),\"\")<>\"\",     ABS(IF($B41>0,$B41-INDEX($B:$B,_xlfn.AGGREGATE(14,6,1/(LEN($B$1:INDEX(B:B,ROW()-1))>0)*ROW(B:B),1)),\"\"))/'Time constants'!$C$8+IF(B41=B40,0,1)*'Time constants'!$C$7,\"\")","v":""},{"$f":"IF(OR(E41=\"High Resolution\",E41=\"High Flux\"),IF(E41=E40,0,1)*'Time constants'!$C$5+IF(D41=D40,0,1)*'Time constants'!$C$4,\"\")","v":""},{"$f":"IF(IF(F41=\"\",0,F41/'Time constants'!$C$6)+IF(G41=\"\",0,G41)+IF(H41=\"\",0,H41)=0,\"\",IF(F41=\"\",0,F41/'Time constants'!$C$6)+IF(G41=\"\",0,G41)+IF(H41=\"\",0,H41))","v":""},"",""]
[null,null,null,null,null,null,{"$f":"IF(IF($B42>0,$B42-INDEX($B:$B,_xlfn.AGGREGATE(14,6,1/(LEN($B$1:INDEX(B:B,ROW()-1))>0)*ROW(B:B),1)),\"\")<>\"\",     ABS(IF($B42>0,$B42-INDEX($B:$B,_xlfn.AGGREGATE(14,6,1/(LEN($B$1:INDEX(B:B,ROW()-1))>0)*ROW(B:B),1)),\"\"))/'Time constants'!$C$8+IF(B42=B41,0,1)*'Time constants'!$C$7,\"\")","v":""},{"$f":"IF(OR(E42=\"High Resolution\",E42=\"High Flux\"),IF(E42=E41,0,1)*'Time constants'!$C$5+IF(D42=D41,0,1)*'Time constants'!$C$4,\"\")","v":""},{"$f":"IF(IF(F42=\"\",0,F42/'Time constants'!$C$6)+IF(G42=\"\",0,G42)+IF(H42=\"\",0,H42)=0,\"\",IF(F42=\"\",0,F42/'Time constants'!$C$6)+IF(G42=\"\",0,G42)+IF(H42=\"\",0,H42))","v":""},"",""]
[null,null,null,null,null,null,{"$f":"IF(IF($B43>0,$B43-INDEX($B:$B,_xlfn.AGGREGATE(14,6,1/(LEN($B$1:INDEX(B:B,ROW()-1))>0)*ROW(B:B),1)),\"\")<>\"\",     ABS(IF($B43>0,$B43-INDEX($B:$B,_xlfn.AGGREGATE(14,6,1/(LEN($B$1:INDEX(B:B,ROW()-1))>0)*ROW(B:B),1)),\"\"))/'Time constants'!$C$8+IF(B43=B42,0,1)*'Time constants'!$C$7,\"\")","v":""},{"$f":"IF(OR(E43=\"High Resolution\",E43=\"High Flux\"),IF(E43=E42,0,1)*'Time constants'!$C$5+IF(D43=D42,0,1)*'Time constants'!$C$4,\"\")","v":""},{"$f":"IF(IF(F43=\"\",0,F43/'Time constants'!$C$6)+IF(G43=\"\",0,G43)+IF(H43=\"\",0,H43)=0,\"\",IF(F43=\"\",0,F43/'Time constants'!$C$6)+IF(G43=\"\",0,G43)+IF(H43=\"\",0,H43))","v":""},"",""]
[null,null,null,null,null,null,{"$f":"IF(IF($B44>0,$B44-INDEX($B:$B,_xlfn.AGGREGATE(14,6,1/(LEN($B$1:INDEX(B:B,ROW()-1))>0)*ROW(B:B),1)),\"\")<>\"\",     ABS(IF($B44>0,$B44-INDEX($B:$B,_xlfn.AGGREGATE(14,6,1/(LEN($B$1:INDEX(B:B,ROW()-1))>0)*ROW(B:B),1)),\"\"))/'Time constants'!$C$8+IF(B44=B43,0,1)*'Time constants'!$C$7,\"\")","v":""},{"$f":"IF(OR(E44=\"High Resolution\",E44=\"High Flux\"),IF(E44=E43,0,1)*'Time constants'!$C$5+IF(D44=D43,0,1)*'Time constants'!$C$4,\"\")","v":""},{"$f":"IF(IF(F44=\"\",0,F44/'Time constants'!$C$6)+IF(G44=\"\",0,G44)+IF(H44=\"\",0,H44)=0,\"\",IF(F44=\"\",0,F44/'Time constants'!$C$6)+IF(G44=\"\",0,G44)+IF(H44=\"\",0,H44))","v":""},"",""]
[null,null,null,null,null,null,{"$f":"IF(IF($B45>0,$B45-INDEX($B:$B,_xlfn.AGGREGATE(14,6,1/(LEN($B$1:INDEX(B:B,ROW()-1))>0)*ROW(B:B),1)),\"\")<>\"\",     ABS(IF($B45>0,$B45-INDEX($B:$B,_xlfn.AGGREGATE(14,6,1/(LEN($B$1:INDEX(B:B,ROW()-1))>0)*ROW(B:B),1)),\"\"))/'Time constants'!$C$8+IF(B45=B44,0,1)*'Time constants'!$C$7,\"\")","v":""},{"$f":"IF(OR(E45=\"High Resolution\",E45=\"High Flux\"),IF(E45=E44,0,1)*'Time constants'!$C$5+IF(D45=D44,0,1)*'Time constants'!$C$4,\"\")","v":""},{"$f":"IF(IF(F45=\"\",0,F45/'Time constants'!$C$6)+IF(G45=\"\",0,G45)+IF(H45=\"\",0,H45)=0,\"\",IF(F45=\"\",0,F45/'Time constants'!$C$6)+IF(G45=\"\",0,G45)+IF(H45=\"\",0,H45))","v":""},"",""]
[null,null,null,null,null,null,{"$f":"IF(IF($B46>0,$B46-INDEX($B:$B,_xlfn.AGGREGATE(14,6,1/(LEN($B$1:INDEX(B:B,ROW()-1))>0)*ROW(B:B),1)),\"\")<>\"\",     ABS(IF($B46>0,$B46-INDEX($B:$B,_xlfn.AGGREGATE(14,6,1/(LEN($B$1:INDEX(B:B,ROW()-1))>0)*ROW(B:B),1)),\"\"))/'Time constants'!$C$8+IF(B46=B45,0,1)*'Time constants'!$C$7,\"\")","v":""},{"$f":"IF(OR(E46=\"High Resolution\",E46=\"High Flux\"),IF(E46=E45,0,1)*'Time constants'!$C$5+IF(D46=D45,0,1)*'Time constants'!$C$4,\"\")","v":""},{"$f":"IF(IF(F46=\"\",0,F46/'Time constants'!$C$6)+IF(G46=\"\",0,G46)+IF(H46=\"\",0,H46)=0,\"\",IF(F46=\"\",0,F46/'Time constants'!$C$6)+IF(G46=\"\",0,G46)+IF(H46=\"\",0,H46))","v":""},"",""]
[null,null,null,null,null,null,{"$f":"IF(IF($B47>0,$B47-INDEX($B:$B,_xlfn.AGGREGATE(14,6,1/(LEN($B$1:INDEX(B:B,ROW()-1))>0)*ROW(B:B),1)),\"\")<>\"\",     ABS(IF($B47>0,$B47-INDEX($B:$B,_xlfn.AGGREGATE(14,6,1/(LEN($B$1:INDEX(B:B,ROW()-1))>0)*ROW(B:B),1)),\"\"))/'Time constants'!$C$8+IF(B47=B46,0,1)*'Time constants'!$C$7,\"\")","v":""},{"$f":"IF(OR(E47=\"High Resolution\",E47=\"High Flux\"),IF(E47=E46,0,1)*'Time constants'!$C$5+IF(D47=D46,0,1)*'Time constants'!$C$4,\"\")","v":""},{"$f":"IF(IF(F47=\"\",0,F47/'Time constants'!$C$6)+IF(G47=\"\",0,G47)+IF(H47=\"\",0,H47)=0,\"\",IF(F47=\"\",0,F47/'Time constants'!$C$6)+IF(G47=\"\",0,G47)+IF(H47=\"\",0,H47))","v":""},"",""]
[null,null,null,null,null,null,{"$f":"IF(IF($B48>0,$B48-INDEX($B:$B,_xlfn.AGGREGATE(14,6,1/(LEN($B$1:INDEX(B:B,ROW()-1))>0)*ROW(B:B),1)),\"\")<>\"\",     ABS(IF($B48>0,$B48-INDEX($B:$B,_xlfn.AGGREGATE(14,6,1/(LEN($B$1:INDEX(B:B,ROW()-1))>0)*ROW(B:B),1)),\"\"))/'Time constants'!$C$8+IF(B48=B47,0,1)*'Time constants'!$C$7,\"\")","v":""},{"$f":"IF(OR(E48=\"High Resolution\",E48=\"High Flux\"),IF(E48=E47,0,1)*'Time constants'!$C$5+IF(D48=D47,0,1)*'Time constants'!$C$4,\"\")","v":""},{"$f":"IF(IF(F48=\"\",0,F48/'Time constants'!$C$6)+IF(G48=\"\",0,G48)+IF(H48=\"\",0,H48)=0,\"\",IF(F48=\"\",0,F48/'Time constants'!$C$6)+IF(G48=\"\",0,G48)+IF(H48=\"\",0,H48))","v":""},"",""]
[null,null,null,null,null,null,{"$f":"IF(IF($B49>0,$B49-INDEX($B:$B,_xlfn.AGGREGATE(14,6,1/(LEN($B$1:INDEX(B:B,ROW()-1))>0)*ROW(B:B),1)),\"\")<>\"\",     ABS(IF($B49>0,$B49-INDEX($B:$B,_xlfn.AGGREGATE(14,6,1/(LEN($B$1:INDEX(B:B,ROW()-1))>0)*ROW(B:B),1)),\"\"))/'Time constants'!$C$8+IF(B49=B48,0,1)*'Time constants'!$C$7,\"\")","v":""},{"$f":"IF(OR(E49=\"High Resolution\",E49=\"High Flux\"),IF(E49=E48,0,1)*'Time constants'!$C$5+IF(D49=D48,0,1)*'Time constants'!$C$4,\"\")","v":""},{"$f":"IF(IF(F49=\"\",0,F49/'Time constants'!$C$6)+IF(G49=\"\",0,G49)+IF(H49=\"\",0,H49)=0,\"\",IF(F49=\"\",0,F49/'Time constants'!$C$6)+IF(G49=\"\",0,G49)+IF(H49=\"\",0,H49))","v":""},"",""]
[null,null,null,null,null,null,{"$f":"IF(IF($B50>0,$B50-INDEX($B:$B,_xlfn.AGGREGATE(14,6,1/(LEN($B$1:INDEX(B:B,ROW()-1))>0)*ROW(B:B),1)),\"\")<>\"\",     ABS(IF($B50>0,$B50-INDEX($B:$B,_xlfn.AGGREGATE(14,6,1/(LEN($B$1:INDEX(B:B,ROW()-1))>0)*ROW(B:B),1)),\"\"))/'Time constants'!$C$8+IF(B50=B49,0,1)*'Time constants'!$C$7,\"\")","v":""},{"$f":"IF(OR(E50=\"High Resolution\",E50=\"High Flux\"),IF(E50=E49,0,1)*'Time constants'!$C$5+IF(D50=D49,0,1)*'Time constants'!$C$4,\"\")","v":""},{"$f":"IF(IF(F50=\"\",0,F50/'Time constants'!$C$6)+IF(G50=\"\",0,G50)+IF(H50=\"\",0,H50)=0,\"\",IF(F50=\"\",0,F50/'Time constants'!$C$6)+IF(G50=\"\",0,G50)+IF(H50=\"\",0,H50))","v":""},"",""]
[null,null,null,null,null,null,{"$f":"IF(IF($B51>0,$B51-INDEX($B:$B,_xlfn.AGGREGATE(14,6,1/(LEN($B$1:INDEX(B:B,ROW()-1))>0)*ROW(B:B),1)),\"\")<>\"\",     ABS(IF($B51>0,$B51-INDEX($B:$B,_xlfn.AGGREGATE(14,6,1/(LEN($B$1:INDEX(B:B,ROW()-1))>0)*ROW(B:B),1)),\"\"))/'Time constants'!$C$8+IF(B51=B50,0,1)*'Time constants'!$C$7,\"\")","v":""},{"$f":"IF(OR(E51=\"High Resolution\",E51=\"High Flux\"),IF(E51=E50,0,1)*'Time constants'!$C$5+IF(D51=D50,0,1)*'Time constants'!$C$4,\"\")","v":""},{"$f":"IF(IF(F51=\"\",0,F51/'Time constants'!$C$6)+IF(G51=\"\",0,G51)+IF(H51=\"\",0,H51)=0,\"\",IF(F51=\"\",0,F51/'Time constants'!$C$6)+IF(G51=\"\",0,G51)+IF(H51=\"\",0,H51))","v":""},"",""]
[null,null,null,null,null,null,{"$f":"IF(IF($B52>0,$B52-INDEX($B:$B,_xlfn.AGGREGATE(14,6,1/(LEN($B$1:INDEX(B:B,ROW()-1))>0)*ROW(B:B),1)),\"\")<>\"\",     ABS(IF($B52>0,$B52-INDEX($B:$B,_xlfn.AGGREGATE(14,6,1/(LEN($B$1:INDEX(B:B,ROW()-1))>0)*ROW(B:B),1)),\"\"))/'Time constants'!$C$8+IF(B52=B51,0,1)*'Time constants'!$C$7,\"\")","v":""},{"$f":"IF(OR(E52=\"High Resolution\",E52=\"High Flux\"),IF(E52=E51,0,1)*'Time constants'!$C$5+IF(D52=D51,0,1)*'Time constants'!$C$4,\"\")","v":""},{"$f":"IF(IF(F52=\"\",0,F52/'Time constants'!$C$6)+IF(G52=\"\",0,G52)+IF(H52=\"\",0,H52)=0,\"\",IF(F52=\"\",0,F52/'Time constants'!$C$6)+IF(G52=\"\",0,G52)+IF(H52=\"\",0,H52))","v":""},"",""]
[null,null,null,null,null,null,{"$f":"IF(IF($B53>0,$B53-INDEX($B:$B,_xlfn.AGGREGATE(14,6,1/(LEN($B$1:INDEX(B:B,ROW()-1))>0)*ROW(B:B),1)),\"\")<>\"\",     ABS(IF($B53>0,$B53-INDEX($B:$B,_xlfn.AGGREGATE(14,6,1/(LEN($B$1:INDEX(B:B,ROW()-1))>0)*ROW(B:B),1)),\"\"))/'Time constants'!$C$8+IF(B53=B52,0,1)*'Time constants'!$C$7,\"\")","v":""},{"$f":"IF(OR(E53=\"High Resolution\",E53=\"High Flux\"),IF(E53=E52,0,1)*'Time constants'!$C$5+IF(D53=D52,0,1)*'Time constants'!$C$4,\"\")","v":""},{"$f":"IF(IF(F53=\"\",0,F53/'Time constants'!$C$6)+IF(G53=\"\",0,G53)+IF(H53=\"\",0,H53)=0,\"\",IF(F53=\"\",0,F53/'Time constants'!$C$6)+IF(G53=\"\",0,G53)+IF(H53=\"\",0,H53))","v":""},"",""]
[null,null,null,null,null,null,{"$f":"IF(IF($B54>0,$B54-INDEX($B:$B,_xlfn.AGGREGATE(14,6,1/(LEN($B$1:INDEX(B:B,ROW()-1))>0)*ROW(B:B),1)),\"\")<>\"\",     ABS(IF($B54>0,$B54-INDEX($B:$B,_xlfn.AGGREGATE(14,6,1/(LEN($B$1:INDEX(B:B,ROW()-1))>0)*ROW(B:B),1)),\"\"))/'Time constants'!$C$8+IF(B54=B53,0,1)*'Time constants'!$C$7,\"\")","v":""},{"$f":"IF(OR(E54=\"High Resolution\",E54=\"High Flux\"),IF(E54=E53,0,1)*'Time constants'!$C$5+IF(D54=D53,0,1)*'Time constants'!$C$4,\"\")","v":""},{"$f":"IF(IF(F54=\"\",0,F54/'Time constants'!$C$6)+IF(G54=\"\",0,G54)+IF(H54=\"\",0,H54)=0,\"\",IF(F54=\"\",0,F54/'Time constants'!$C$6)+IF(G54=\"\",0,G54)+IF(H54=\"\",0,H54))","v":""},"",""]
[null,null,null,null,null,null,{"$f":"IF(IF($B55>0,$B55-INDEX($B:$B,_xlfn.AGGREGATE(14,6,1/(LEN($B$1:INDEX(B:B,ROW()-1))>0)*ROW(B:B),1)),\"\")<>\"\",     ABS(IF($B55>0,$B55-INDEX($B:$B,_xlfn.AGGREGATE(14,6,1/(LEN($B$1:INDEX(B:B,ROW()-1))>0)*ROW(B:B),1)),\"\"))/'Time constants'!$C$8+IF(B55=B54,0,1)*'Time constants'!$C$7,\"\")","v":""},{"$f":"IF(OR(E55=\"High Resolution\",E55=\"High Flux\"),IF(E55=E54,0,1)*'Time constants'!$C$5+IF(D55=D54,0,1)*'Time constants'!$C$4,\"\")","v":""},{"$f":"IF(IF(F55=\"\",0,F55/'Time constants'!$C$6)+IF(G55=\"\",0,G55)+IF(H55=\"\",0,H55)=0,\"\",IF(F55=\"\",0,F55/'Time constants'!$C$6)+IF(G55=\"\",0,G55)+IF(H55=\"\",0,H55))","v":""},"",""]
[null,null,null,null,null,null,{"$f":"IF(IF($B56>0,$B56-INDEX($B:$B,_xlfn.AGGREGATE(14,6,1/(LEN($B$1:INDEX(B:B,ROW()-1))>0)*ROW(B:B),1)),\"\")<>\"\",     ABS(IF($B56>0,$B56-INDEX($B:$B,_xlfn.AGGREGATE(14,6,1/(LEN($B$1:INDEX(B:B,ROW()-1))>0)*ROW(B:B),1)),\"\"))/'Time constants'!$C$8+IF(B56=B55,0,1)*'Time constants'!$C$7,\"\")","v":""},{"$f":"IF(OR(E56=\"High Resolution\",E56=\"High Flux\"),IF(E56=E55,0,1)*'Time constants'!$C$5+IF(D56=D55,0,1)*'Time constants'!$C$4,\"\")","v":""},{"$f":"IF(IF(F56=\"\",0,F56/'Time constants'!$C$6)+IF(G56=\"\",0,G56)+IF(H56=\"\",0,H56)=0,\"\",IF(F56=\"\",0,F56/'Time constants'!$C$6)+IF(G56=\"\",0,G56)+IF(H56=\"\",0,H56))","v":""},"",""]
[null,null,null,null,null,null,{"$f":"IF(IF($B57>0,$B57-INDEX($B:$B,_xlfn.AGGREGATE(14,6,1/(LEN($B$1:INDEX(B:B,ROW()-1))>0)*ROW(B:B),1)),\"\")<>\"\",     ABS(IF($B57>0,$B57-INDEX($B:$B,_xlfn.AGGREGATE(14,6,1/(LEN($B$1:INDEX(B:B,ROW()-1))>0)*ROW(B:B),1)),\"\"))/'Time constants'!$C$8+IF(B57=B56,0,1)*'Time constants'!$C$7,\"\")","v":""},{"$f":"IF(OR(E57=\"High Resolution\",E57=\"High Flux\"),IF(E57=E56,0,1)*'Time constants'!$C$5+IF(D57=D56,0,1)*'Time constants'!$C$4,\"\")","v":""},{"$f":"IF(IF(F57=\"\",0,F57/'Time constants'!$C$6)+IF(G57=\"\",0,G57)+IF(H57=\"\",0,H57)=0,\"\",IF(F57=\"\",0,F57/'Time constants'!$C$6)+IF(G57=\"\",0,G57)+IF(H57=\"\",0,H57))","v":""},"",""]
[null,null,null,null,null,null,{"$f":"IF(IF($B58>0,$B58-INDEX($B:$B,_xlfn.AGGREGATE(14,6,1/(LEN($B$1:INDEX(B:B,ROW()-1))>0)*ROW(B:B),1)),\"\")<>\"\",     ABS(IF($B58>0,$B58-INDEX($B:$B,_xlfn.AGGREGATE(14,6,1/(LEN($B$1:INDEX(B:B,ROW()-1))>0)*ROW(B:B),1)),\"\"))/'Time constants'!$C$8+IF(B58=B57,0,1)*'Time constants'!$C$7,\"\")","v":""},{"$f":"IF(OR(E58=\"High Resolution\",E58=\"High Flux\"),IF(E58=E57,0,1)*'Time constants'!$C$5+IF(D58=D57,0,1)*'Time constants'!$C$4,\"\")","v":""},{"$f":"IF(IF(F58=\"\",0,F58/'Time constants'!$C$6)+IF(G58=\"\",0,G58)+IF(H58=\"\",0,H58)=0,\"\",IF(F58=\"\",0,F58/'Time constants'!$C$6)+IF(G58=\"\",0,G58)+IF(H58=\"\",0,H58))","v":""},"",""]
[null,null,null,null,null,null,{"$f":"IF(IF($B59>0,$B59-INDEX($B:$B,_xlfn.AGGREGATE(14,6,1/(LEN($B$1:INDEX(B:B,ROW()-1))>0)*ROW(B:B),1)),\"\")<>\"\",     ABS(IF($B59>0,$B59-INDEX($B:$B,_xlfn.AGGREGATE(14,6,1/(LEN($B$1:INDEX(B:B,ROW()-1))>0)*ROW(B:B),1)),\"\"))/'Time constants'!$C$8+IF(B59=B58,0,1)*'Time constants'!$C$7,\"\")","v":""},{"$f":"IF(OR(E59=\"High Resolution\",E59=\"High Flux\"),IF(E59=E58,0,1)*'Time constants'!$C$5+IF(D59=D58,0,1)*'Time constants'!$C$4,\"\")","v":""},{"$f":"IF(IF(F59=\"\",0,F59/'Time constants'!$C$6)+IF(G59=\"\",0,G59)+IF(H59=\"\",0,H59)=0,\"\",IF(F59=\"\",0,F59/'Time constants'!$C$6)+IF(G59=\"\",0,G59)+IF(H59=\"\",0,H59))","v":""},"",""]
[null,null,null,null,null,null,{"$f":"IF(IF($B60>0,$B60-INDEX($B:$B,_xlfn.AGGREGATE(14,6,1/(LEN($B$1:INDEX(B:B,ROW()-1))>0)*ROW(B:B),1)),\"\")<>\"\",     ABS(IF($B60>0,$B60-INDEX($B:$B,_xlfn.AGGREGATE(14,6,1/(LEN($B$1:INDEX(B:B,ROW()-1))>0)*ROW(B:B),1)),\"\"))/'Time constants'!$C$8+IF(B60=B59,0,1)*'Time constants'!$C$7,\"\")","v":""},{"$f":"IF(OR(E60=\"High Resolution\",E60=\"High Flux\"),IF(E60=E59,0,1)*'Time constants'!$C$5+IF(D60=D59,0,1)*'Time constants'!$C$4,\"\")","v":""},{"$f":"IF(IF(F60=\"\",0,F60/'Time constants'!$C$6)+IF(G60=\"\",0,G60)+IF(H60=\"\",0,H60)=0,\"\",IF(F60=\"\",0,F60/'Time constants'!$C$6)+IF(G60=\"\",0,G60)+IF(H60=\"\",0,H60))","v":""},"",""]
[null,null,null,null,null,null,{"$f":"IF(IF($B61>0,$B61-INDEX($B:$B,_xlfn.AGGREGATE(14,6,1/(LEN($B$1:INDEX(B:B,ROW()-1))>0)*ROW(B:B),1)),\"\")<>\"\",     ABS(IF($B61>0,$B61-INDEX($B:$B,_xlfn.AGGREGATE(14,6,1/(LEN($B$1:INDEX(B:B,ROW()-1))>0)*ROW(B:B),1)),\"\"))/'Time constants'!$C$8+IF(B61=B60,0,1)*'Time constants'!$C$7,\"\")","v":""},{"$f":"IF(OR(E61=\"High Resolution\",E61=\"High Flux\"),IF(E61=E60,0,1)*'Time constants'!$C$5+IF(D61=D60,0,1)*'Time constants'!$C$4,\"\")","v":""},{"$f":"IF(IF(F61=\"\",0,F61/'Time constants'!$C$6)+IF(G61=\"\",0,G61)+IF(H61=\"\",0,H61)=0,\"\",IF(F61=\"\",0,F61/'Time constants'!$C$6)+IF(G61=\"\",0,G61)+IF(H61=\"\",0,H61))","v":""},"",""]
[null,null,null,null,null,null,{"$f":"IF(IF($B62>0,$B62-INDEX($B:$B,_xlfn.AGGREGATE(14,6,1/(LEN($B$1:INDEX(B:B,ROW()-1))>0)*ROW(B:B),1)),\"\")<>\"\",     ABS(IF($B62>0,$B62-INDEX($B:$B,_xlfn.AGGREGATE(14,6,1/(LEN($B$1:INDEX(B:B,ROW()-1))>0)*ROW(B:B),1)),\"\"))/'Time constants'!$C$8+IF(B62=B61,0,1)*'Time constants'!$C$7,\"\")","v":""},{"$f":"IF(OR(E62=\"High Resolution\",E62=\"High Flux\"),IF(E62=E61,0,1)*'Time constants'!$C$5+IF(D62=D61,0,1)*'Time constants'!$C$4,\"\")","v":""},{"$f":"IF(IF(F62=\"\",0,F62/'Time constants'!$C$6)+IF(G62=\"\",0,G62)+IF(H62=\"\",0,H62)=0,\"\",IF(F62=\"\",0,F62/'Time constants'!$C$6)+IF(G62=\"\",0,G62)+IF(H62=\"\",0,H62))","v":""},"",""]
[null,null,null,null,null,null,{"$f":"IF(IF($B63>0,$B63-INDEX($B:$B,_xlfn.AGGREGATE(14,6,1/(LEN($B$1:INDEX(B:B,ROW()-1))>0)*ROW(B:B),1)),\"\")<>\"\",     ABS(IF($B63>0,$B63-INDEX($B:$B,_xlfn.AGGREGATE(14,6,1/(LEN($B$1:INDEX(B:B,ROW()-1))>0)*ROW(B:B),1)),\"\"))/'Time constants'!$C$8+IF(B63=B62,0,1)*'Time constants'!$C$7,\"\")","v":""},{"$f":"IF(OR(E63=\"High Resolution\",E63=\"High Flux\"),IF(E63=E62,0,1)*'Time constants'!$C$5+IF(D63=D62,0,1)*'Time constants'!$C$4,\"\")","v":""},{"$f":"IF(IF(F63=\"\",0,F63/'Time constants'!$C$6)+IF(G63=\"\",0,G63)+IF(H63=\"\",0,H63)=0,\"\",IF(F63=\"\",0,F63/'Time constants'!$C$6)+IF(G63=\"\",0,G63)+IF(H63=\"\",0,H63))","v":""},"",""]
[null,null,null,null,null,null,{"$f":"IF(IF($B64>0,$B64-INDEX($B:$B,_xlfn.AGGREGATE(14,6,1/(LEN($B$1:INDEX(B:B,ROW()-1))>0)*ROW(B:B),1)),\"\")<>\"\",     ABS(IF($B64>0,$B64-INDEX($B:$B,_xlfn.AGGREGATE(14,6,1/(LEN($B$1:INDEX(B:B,ROW()-1))>0)*ROW(B:B),1)),\"\"))/'Time constants'!$C$8+IF(B64=B63,0,1)*'Time constants'!$C$7,\"\")","v":""},{"$f":"IF(OR(E64=\"High Resolution\",E64=\"High Flux\"),IF(E64=E63,0,1)*'Time constants'!$C$5+IF(D64=D63,0,1)*'Time constants'!$C$4,\"\")","v":""},{"$f":"IF(IF(F64=\"\",0,F64/'Time constants'!$C$6)+IF(G64=\"\",0,G64)+IF(H64=\"\",0,H64)=0,\"\",IF(F64=\"\",0,F64/'Time constants'!$C$6)+IF(G64=\"\",0,G64)+IF(H64=\"\",0,H64))","v":""},"",""]
[null,null,null,null,null,null,{"$f":"IF(IF($B65>0,$B65-INDEX($B:$B,_xlfn.AGGREGATE(14,6,1/(LEN($B$1:INDEX(B:B,ROW()-1))>0)*ROW(B:B),1)),\"\")<>\"\",     ABS(IF($B65>0,$B65-INDEX($B:$B,_xlfn.AGGREGATE(14,6,1/(LEN($B$1:INDEX(B:B,ROW()-1))>0)*ROW(B:B),1)),\"\"))/'Time constants'!$C$8+IF(B65=B64,0,1)*'Time constants'!$C$7,\"\")","v":""},{"$f":"IF(OR(E65=\"High Resolution\",E65=\"High Flux\"),IF(E65=E64,0,1)*'Time constants'!$C$5+IF(D65=D64,0,1)*'Time constants'!$C$4,\"\")","v":""},{"$f":"IF(IF(F65=\"\",0,F65/'Time constants'!$C$6)+IF(G65=\"\",0,G65)+IF(H65=\"\",0,H65)=0,\"\",IF(F65=\"\",0,F65/'Time constants'!$C$6)+IF(G65=\"\",0,G65)+IF(H65=\"\",0,H65))","v":""},"",""]
[null,null,null,null,null,null,{"$f":"IF(IF($B66>0,$B66-INDEX($B:$B,_xlfn.AGGREGATE(14,6,1/(LEN($B$1:INDEX(B:B,ROW()-1))>0)*ROW(B:B),1)),\"\")<>\"\",     ABS(IF($B66>0,$B66-INDEX($B:$B,_xlfn.AGGREGATE(14,6,1/(LEN($B$1:INDEX(B:B,ROW()-1))>0)*ROW(B:B),1)),\"\"))/'Time constants'!$C$8+IF(B66=B65,0,1)*'Time constants'!$C$7,\"\")","v":""},{"$f":"IF(OR(E66=\"High Resolution\",E66=\"High Flux\"),IF(E66=E65,0,1)*'Time constants'!$C$5+IF(D66=D65,0,1)*'Time constants'!$C$4,\"\")","v":""},{"$f":"IF(IF(F66=\"\",0,F66/'Time constants'!$C$6)+IF(G66=\"\",0,G66)+IF(H66=\"\",0,H66)=0,\"\",IF(F66=\"\",0,F66/'Time constants'!$C$6)+IF(G66=\"\",0,G66)+IF(H66=\"\",0,H66))","v":""},"",""]
[null,null,null,null,null,null,{"$f":"IF(IF($B67>0,$B67-INDEX($B:$B,_xlfn.AGGREGATE(14,6,1/(LEN($B$1:INDEX(B:B,ROW()-1))>0)*ROW(B:B),1)),\"\")<>\"\",     ABS(IF($B67>0,$B67-INDEX($B:$B,_xlfn.AGGREGATE(14,6,1/(LEN($B$1:INDEX(B:B,ROW()-1))>0)*ROW(B:B),1)),\"\"))/'Time constants'!$C$8+IF(B67=B66,0,1)*'Time constants'!$C$7,\"\")","v":""},{"$f":"IF(OR(E67=\"High Resolution\",E67=\"High Flux\"),IF(E67=E66,0,1)*'Time constants'!$C$5+IF(D67=D66,0,1)*'Time constants'!$C$4,\"\")","v":""},{"$f":"IF(IF(F67=\"\",0,F67/'Time constants'!$C$6)+IF(G67=\"\",0,G67)+IF(H67=\"\",0,H67)=0,\"\",IF(F67=\"\",0,F67/'Time constants'!$C$6)+IF(G67=\"\",0,G67)+IF(H67=\"\",0,H67))","v":""},"",""]
[null,null,null,null,null,null,{"$f":"IF(IF($B68>0,$B68-INDEX($B:$B,_xlfn.AGGREGATE(14,6,1/(LEN($B$1:INDEX(B:B,ROW()-1))>0)*ROW(B:B),1)),\"\")<>\"\",     ABS(IF($B68>0,$B68-INDEX($B:$B,_xlfn.AGGREGATE(14,6,1/(LEN($B$1:INDEX(B:B,ROW()-1))>0)*ROW(B:B),1)),\"\"))/'Time constants'!$C$8+IF(B68=B67,0,1)*'Time constants'!$C$7,\"\")","v":""},{"$f":"IF(OR(E68=\"High Resolution\",E68=\"High Flux\"),IF(E68=E67,0,1)*'Time constants'!$C$5+IF(D68=D67,0,1)*'Time constants'!$C$4,\"\")","v":""},{"$f":"IF(IF(F68=\"\",0,F68/'Time constants'!$C$6)+IF(G68=\"\",0,G68)+IF(H68=\"\",0,H68)=0,\"\",IF(F68=\"\",0,F68/'Time constants'!$C$6)+IF(G68=\"\",0,G68)+IF(H68=\"\",0,H68))","v":""},"",""]
[null,null,null,null,null,null,{"$f":"IF(IF($B69>0,$B69-INDEX($B:$B,_xlfn.AGGREGATE(14,6,1/(LEN($B$1:INDEX(B:B,ROW()-1))>0)*ROW(B:B),1)),\"\")<>\"\",     ABS(IF($B69>0,$B69-INDEX($B:$B,_xlfn.AGGREGATE(14,6,1/(LEN($B$1:INDEX(B:B,ROW()-1))>0)*ROW(B:B),1)),\"\"))/'Time constants'!$C$8+IF(B69=B68,0,1)*'Time constants'!$C$7,\"\")","v":""},{"$f":"IF(OR(E69=\"High Resolution\",E69=\"High Flux\"),IF(E69=E68,0,1)*'Time constants'!$C$5+IF(D69=D68,0,1)*'Time constants'!$C$4,\"\")","v":""},{"$f":"IF(IF(F69=\"\",0,F69/'Time constants'!$C$6)+IF(G69=\"\",0,G69)+IF(H69=\"\",0,H69)=0,\"\",IF(F69=\"\",0,F69/'Time constants'!$C$6)+IF(G69=\"\",0,G69)+IF(H69=\"\",0,H69))","v":""},"",""]
[null,null,null,null,null,null,{"$f":"IF(IF($B70>0,$B70-INDEX($B:$B,_xlfn.AGGREGATE(14,6,1/(LEN($B$1:INDEX(B:B,ROW()-1))>0)*ROW(B:B),1)),\"\")<>\"\",     ABS(IF($B70>0,$B70-INDEX($B:$B,_xlfn.AGGREGATE(14,6,1/(LEN($B$1:INDEX(B:B,ROW()-1))>0)*ROW(B:B),1)),\"\"))/'Time constants'!$C$8+IF(B70=B69,0,1)*'Time constants'!$C$7,\"\")","v":""},{"$f":"IF(OR(E70=\"High Resolution\",E70=\"High Flux\"),IF(E70=E69,0,1)*'Time constants'!$C$5+IF(D70=D69,0,1)*'Time constants'!$C$4,\"\")","v":""},{"$f":"IF(IF(F70=\"\",0,F70/'Time constants'!$C$6)+IF(G70=\"\",0,G70)+IF(H70=\"\",0,H70)=0,\"\",IF(F70=\"\",0,F70/'Time constants'!$C$6)+IF(G70=\"\",0,G70)+IF(H70=\"\",0,H70))","v":""},"",""]
[null,null,null,null,null,null,{"$f":"IF(IF($B71>0,$B71-INDEX($B:$B,_xlfn.AGGREGATE(14,6,1/(LEN($B$1:INDEX(B:B,ROW()-1))>0)*ROW(B:B),1)),\"\")<>\"\",     ABS(IF($B71>0,$B71-INDEX($B:$B,_xlfn.AGGREGATE(14,6,1/(LEN($B$1:INDEX(B:B,ROW()-1))>0)*ROW(B:B),1)),\"\"))/'Time constants'!$C$8+IF(B71=B70,0,1)*'Time constants'!$C$7,\"\")","v":""},{"$f":"IF(OR(E71=\"High Resolution\",E71=\"High Flux\"),IF(E71=E70,0,1)*'Time constants'!$C$5+IF(D71=D70,0,1)*'Time constants'!$C$4,\"\")","v":""},{"$f":"IF(IF(F71=\"\",0,F71/'Time constants'!$C$6)+IF(G71=\"\",0,G71)+IF(H71=\"\",0,H71)=0,\"\",IF(F71=\"\",0,F71/'Time constants'!$C$6)+IF(G71=\"\",0,G71)+IF(H71=\"\",0,H71))","v":""},"",""]
[null,null,null,null,null,null,{"$f":"IF(IF($B72>0,$B72-INDEX($B:$B,_xlfn.AGGREGATE(14,6,1/(LEN($B$1:INDEX(B:B,ROW()-1))>0)*ROW(B:B),1)),\"\")<>\"\",     ABS(IF($B72>0,$B72-INDEX($B:$B,_xlfn.AGGREGATE(14,6,1/(LEN($B$1:INDEX(B:B,ROW()-1))>0)*ROW(B:B),1)),\"\"))/'Time constants'!$C$8+IF(B72=B71,0,1)*'Time constants'!$C$7,\"\")","v":""},{"$f":"IF(OR(E72=\"High Resolution\",E72=\"High Flux\"),IF(E72=E71,0,1)*'Time constants'!$C$5+IF(D72=D71,0,1)*'Time constants'!$C$4,\"\")","v":""},{"$f":"IF(IF(F72=\"\",0,F72/'Time constants'!$C$6)+IF(G72=\"\",0,G72)+IF(H72=\"\",0,H72)=0,\"\",IF(F72=\"\",0,F72/'Time constants'!$C$6)+IF(G72=\"\",0,G72)+IF(H72=\"\",0,H72))","v":""},"",""]
[null,null,null,null,null,null,{"$f":"IF(IF($B73>0,$B73-INDEX($B:$B,_xlfn.AGGREGATE(14,6,1/(LEN($B$1:INDEX(B:B,ROW()-1))>0)*ROW(B:B),1)),\"\")<>\"\",     ABS(IF($B73>0,$B73-INDEX($B:$B,_xlfn.AGGREGATE(14,6,1/(LEN($B$1:INDEX(B:B,ROW()-1))>0)*ROW(B:B),1)),\"\"))/'Time constants'!$C$8+IF(B73=B72,0,1)*'Time constants'!$C$7,\"\")","v":""},{"$f":"IF(OR(E73=\"High Resolution\",E73=\"High Flux\"),IF(E73=E72,0,1)*'Time constants'!$C$5+IF(D73=D72,0,1)*'Time constants'!$C$4,\"\")","v":""},{"$f":"IF(IF(F73=\"\",0,F73/'Time constants'!$C$6)+IF(G73=\"\",0,G73)+IF(H73=\"\",0,H73)=0,\"\",IF(F73=\"\",0,F73/'Time constants'!$C$6)+IF(G73=\"\",0,G73)+IF(H73=\"\",0,H73))","v":""},"",""]
[null,null,null,null,null,null,{"$f":"IF(IF($B74>0,$B74-INDEX($B:$B,_xlfn.AGGREGATE(14,6,1/(LEN($B$1:INDEX(B:B,ROW()-1))>0)*ROW(B:B),1)),\"\")<>\"\",     ABS(IF($B74>0,$B74-INDEX($B:$B,_xlfn.AGGREGATE(14,6,1/(LEN($B$1:INDEX(B:B,ROW()-1))>0)*ROW(B:B),1)),\"\"))/'Time constants'!$C$8+IF(B74=B73,0,1)*'Time constants'!$C$7,\"\")","v":""},{"$f":"IF(OR(E74=\"High Resolution\",E74=\"High Flux\"),IF(E74=E73,0,1)*'Time constants'!$C$5+IF(D74=D73,0,1)*'Time constants'!$C$4,\"\")","v":""},{"$f":"IF(IF(F74=\"\",0,F74/'Time constants'!$C$6)+IF(G74=\"\",0,G74)+IF(H74=\"\",0,H74)=0,\"\",IF(F74=\"\",0,F74/'Time constants'!$C$6)+IF(G74=\"\",0,G74)+IF(H74=\"\",0,H74))","v":""},"",{"$f":"IF(C74=\"\",\"\",TEXT(C74,\"0\") &\", \" & TEXT(E74,\"0\") & \" \" & TEXT(D74,\"0.0\") & \" meV, \" & \"T=\" & TEXT(B74,\"0.00\") & \" K, \" &TEXT(F74,\"0.00\") & \"C\")","v":""}]
[null,null,null,null,null,null,{"$f":"IF(IF($B75>0,$B75-INDEX($B:$B,_xlfn.AGGREGATE(14,6,1/(LEN($B$1:INDEX(B:B,ROW()-1))>0)*ROW(B:B),1)),\"\")<>\"\",     ABS(IF($B75>0,$B75-INDEX($B:$B,_xlfn.AGGREGATE(14,6,1/(LEN($B$1:INDEX(B:B,ROW()-1))>0)*ROW(B:B),1)),\"\"))/'Time constants'!$C$8+IF(B75=B74,0,1)*'Time constants'!$C$7,\"\")","v":""},{"$f":"IF(OR(E75=\"High Resolution\",E75=\"High Flux\"),IF(E75=E74,0,1)*'Time constants'!$C$5+IF(D75=D74,0,1)*'Time constants'!$C$4,\"\")","v":""},{"$f":"IF(IF(F75=\"\",0,F75/'Time constants'!$C$6)+IF(G75=\"\",0,G75)+IF(H75=\"\",0,H75)=0,\"\",IF(F75=\"\",0,F75/'Time constants'!$C$6)+IF(G75=\"\",0,G75)+IF(H75=\"\",0,H75))","v":""},"",""]
[null,null,null,null,null,null,{"$f":"IF(IF($B76>0,$B76-INDEX($B:$B,_xlfn.AGGREGATE(14,6,1/(LEN($B$1:INDEX(B:B,ROW()-1))>0)*ROW(B:B),1)),\"\")<>\"\",     ABS(IF($B76>0,$B76-INDEX($B:$B,_xlfn.AGGREGATE(14,6,1/(LEN($B$1:INDEX(B:B,ROW()-1))>0)*ROW(B:B),1)),\"\"))/'Time constants'!$C$8+IF(B76=B75,0,1)*'Time constants'!$C$7,\"\")","v":""},{"$f":"IF(OR(E76=\"High Resolution\",E76=\"High Flux\"),IF(E76=E75,0,1)*'Time constants'!$C$5+IF(D76=D75,0,1)*'Time constants'!$C$4,\"\")","v":""},{"$f":"IF(IF(F76=\"\",0,F76/'Time constants'!$C$6)+IF(G76=\"\",0,G76)+IF(H76=\"\",0,H76)=0,\"\",IF(F76=\"\",0,F76/'Time constants'!$C$6)+IF(G76=\"\",0,G76)+IF(H76=\"\",0,H76))","v":""},"",""]
[null,null,null,null,null,null,{"$f":"IF(IF($B77>0,$B77-INDEX($B:$B,_xlfn.AGGREGATE(14,6,1/(LEN($B$1:INDEX(B:B,ROW()-1))>0)*ROW(B:B),1)),\"\")<>\"\",     ABS(IF($B77>0,$B77-INDEX($B:$B,_xlfn.AGGREGATE(14,6,1/(LEN($B$1:INDEX(B:B,ROW()-1))>0)*ROW(B:B),1)),\"\"))/'Time constants'!$C$8+IF(B77=B76,0,1)*'Time constants'!$C$7,\"\")","v":""},{"$f":"IF(OR(E77=\"High Resolution\",E77=\"High Flux\"),IF(E77=E76,0,1)*'Time constants'!$C$5+IF(D77=D76,0,1)*'Time constants'!$C$4,\"\")","v":""},{"$f":"IF(IF(F77=\"\",0,F77/'Time constants'!$C$6)+IF(G77=\"\",0,G77)+IF(H77=\"\",0,H77)=0,\"\",IF(F77=\"\",0,F77/'Time constants'!$C$6)+IF(G77=\"\",0,G77)+IF(H77=\"\",0,H77))","v":""},"",""]
[null,null,null,null,null,null,{"$f":"IF(IF($B78>0,$B78-INDEX($B:$B,_xlfn.AGGREGATE(14,6,1/(LEN($B$1:INDEX(B:B,ROW()-1))>0)*ROW(B:B),1)),\"\")<>\"\",     ABS(IF($B78>0,$B78-INDEX($B:$B,_xlfn.AGGREGATE(14,6,1/(LEN($B$1:INDEX(B:B,ROW()-1))>0)*ROW(B:B),1)),\"\"))/'Time constants'!$C$8+IF(B78=B77,0,1)*'Time constants'!$C$7,\"\")","v":""},{"$f":"IF(OR(E78=\"High Resolution\",E78=\"High Flux\"),IF(E78=E77,0,1)*'Time constants'!$C$5+IF(D78=D77,0,1)*'Time constants'!$C$4,\"\")","v":""},{"$f":"IF(IF(F78=\"\",0,F78/'Time constants'!$C$6)+IF(G78=\"\",0,G78)+IF(H78=\"\",0,H78)=0,\"\",IF(F78=\"\",0,F78/'Time constants'!$C$6)+IF(G78=\"\",0,G78)+IF(H78=\"\",0,H78))","v":""},"",""]
[null,null,null,null,null,null,{"$f":"IF(IF($B79>0,$B79-INDEX($B:$B,_xlfn.AGGREGATE(14,6,1/(LEN($B$1:INDEX(B:B,ROW()-1))>0)*ROW(B:B),1)),\"\")<>\"\",     ABS(IF($B79>0,$B79-INDEX($B:$B,_xlfn.AGGREGATE(14,6,1/(LEN($B$1:INDEX(B:B,ROW()-1))>0)*ROW(B:B),1)),\"\"))/'Time constants'!$C$8+IF(B79=B78,0,1)*'Time constants'!$C$7,\"\")","v":""},{"$f":"IF(OR(E79=\"High Resolution\",E79=\"High Flux\"),IF(E79=E78,0,1)*'Time constants'!$C$5+IF(D79=D78,0,1)*'Time constants'!$C$4,\"\")","v":""},{"$f":"IF(IF(F79=\"\",0,F79/'Time constants'!$C$6)+IF(G79=\"\",0,G79)+IF(H79=\"\",0,H79)=0,\"\",IF(F79=\"\",0,F79/'Time constants'!$C$6)+IF(G79=\"\",0,G79)+IF(H79=\"\",0,H79))","v":""},"",""]
[null,null,null,null,null,null,{"$f":"IF(IF($B80>0,$B80-INDEX($B:$B,_xlfn.AGGREGATE(14,6,1/(LEN($B$1:INDEX(B:B,ROW()-1))>0)*ROW(B:B),1)),\"\")<>\"\",     ABS(IF($B80>0,$B80-INDEX($B:$B,_xlfn.AGGREGATE(14,6,1/(LEN($B$1:INDEX(B:B,ROW()-1))>0)*ROW(B:B),1)),\"\"))/'Time constants'!$C$8+IF(B80=B79,0,1)*'Time constants'!$C$7,\"\")","v":""},{"$f":"IF(OR(E80=\"High Resolution\",E80=\"High Flux\"),IF(E80=E79,0,1)*'Time constants'!$C$5+IF(D80=D79,0,1)*'Time constants'!$C$4,\"\")","v":""},{"$f":"IF(IF(F80=\"\",0,F80/'Time constants'!$C$6)+IF(G80=\"\",0,G80)+IF(H80=\"\",0,H80)=0,\"\",IF(F80=\"\",0,F80/'Time constants'!$C$6)+IF(G80=\"\",0,G80)+IF(H80=\"\",0,H80))","v":""},"",""]
[null,null,null,null,null,null,{"$f":"IF(IF($B81>0,$B81-INDEX($B:$B,_xlfn.AGGREGATE(14,6,1/(LEN($B$1:INDEX(B:B,ROW()-1))>0)*ROW(B:B),1)),\"\")<>\"\",     ABS(IF($B81>0,$B81-INDEX($B:$B,_xlfn.AGGREGATE(14,6,1/(LEN($B$1:INDEX(B:B,ROW()-1))>0)*ROW(B:B),1)),\"\"))/'Time constants'!$C$8+IF(B81=B80,0,1)*'Time constants'!$C$7,\"\")","v":""},{"$f":"IF(OR(E81=\"High Resolution\",E81=\"High Flux\"),IF(E81=E80,0,1)*'Time constants'!$C$5+IF(D81=D80,0,1)*'Time constants'!$C$4,\"\")","v":""},{"$f":"IF(IF(F81=\"\",0,F81/'Time constants'!$C$6)+IF(G81=\"\",0,G81)+IF(H81=\"\",0,H81)=0,\"\",IF(F81=\"\",0,F81/'Time constants'!$C$6)+IF(G81=\"\",0,G81)+IF(H81=\"\",0,H81))","v":""},"",""]
[null,null,null,null,null,null,{"$f":"IF(IF($B82>0,$B82-INDEX($B:$B,_xlfn.AGGREGATE(14,6,1/(LEN($B$1:INDEX(B:B,ROW()-1))>0)*ROW(B:B),1)),\"\")<>\"\",     ABS(IF($B82>0,$B82-INDEX($B:$B,_xlfn.AGGREGATE(14,6,1/(LEN($B$1:INDEX(B:B,ROW()-1))>0)*ROW(B:B),1)),\"\"))/'Time constants'!$C$8+IF(B82=B81,0,1)*'Time constants'!$C$7,\"\")","v":""},{"$f":"IF(OR(E82=\"High Resolution\",E82=\"High Flux\"),IF(E82=E81,0,1)*'Time constants'!$C$5+IF(D82=D81,0,1)*'Time constants'!$C$4,\"\")","v":""},{"$f":"IF(IF(F82=\"\",0,F82/'Time constants'!$C$6)+IF(G82=\"\",0,G82)+IF(H82=\"\",0,H82)=0,\"\",IF(F82=\"\",0,F82/'Time constants'!$C$6)+IF(G82=\"\",0,G82)+IF(H82=\"\",0,H82))","v":""},"",""]
[null,null,null,null,null,null,{"$f":"IF(IF($B83>0,$B83-INDEX($B:$B,_xlfn.AGGREGATE(14,6,1/(LEN($B$1:INDEX(B:B,ROW()-1))>0)*ROW(B:B),1)),\"\")<>\"\",     ABS(IF($B83>0,$B83-INDEX($B:$B,_xlfn.AGGREGATE(14,6,1/(LEN($B$1:INDEX(B:B,ROW()-1))>0)*ROW(B:B),1)),\"\"))/'Time constants'!$C$8+IF(B83=B82,0,1)*'Time constants'!$C$7,\"\")","v":""},{"$f":"IF(OR(E83=\"High Resolution\",E83=\"High Flux\"),IF(E83=E82,0,1)*'Time constants'!$C$5+IF(D83=D82,0,1)*'Time constants'!$C$4,\"\")","v":""},{"$f":"IF(IF(F83=\"\",0,F83/'Time constants'!$C$6)+IF(G83=\"\",0,G83)+IF(H83=\"\",0,H83)=0,\"\",IF(F83=\"\",0,F83/'Time constants'!$C$6)+IF(G83=\"\",0,G83)+IF(H83=\"\",0,H83))","v":""},{"$f":"IF(I83=\"\",\"\",I83/60+J82)","v":""},""]
[null,null,null,null,null,null,{"$f":"IF(IF($B84>0,$B84-INDEX($B:$B,_xlfn.AGGREGATE(14,6,1/(LEN($B$1:INDEX(B:B,ROW()-1))>0)*ROW(B:B),1)),\"\")<>\"\",     ABS(IF($B84>0,$B84-INDEX($B:$B,_xlfn.AGGREGATE(14,6,1/(LEN($B$1:INDEX(B:B,ROW()-1))>0)*ROW(B:B),1)),\"\"))/'Time constants'!$C$8+IF(B84=B83,0,1)*'Time constants'!$C$7,\"\")","v":""},{"$f":"IF(OR(E84=\"High Resolution\",E84=\"High Flux\"),IF(E84=E83,0,1)*'Time constants'!$C$5+IF(D84=D83,0,1)*'Time constants'!$C$4,\"\")","v":""},{"$f":"IF(IF(F84=\"\",0,F84/'Time constants'!$C$6)+IF(G84=\"\",0,G84)+IF(H84=\"\",0,H84)=0,\"\",IF(F84=\"\",0,F84/'Time constants'!$C$6)+IF(G84=\"\",0,G84)+IF(H84=\"\",0,H84))","v":""},"",""]
[null,null,null,null,null,null,{"$f":"IF(IF($B85>0,$B85-INDEX($B:$B,_xlfn.AGGREGATE(14,6,1/(LEN($B$1:INDEX(B:B,ROW()-1))>0)*ROW(B:B),1)),\"\")<>\"\",     ABS(IF($B85>0,$B85-INDEX($B:$B,_xlfn.AGGREGATE(14,6,1/(LEN($B$1:INDEX(B:B,ROW()-1))>0)*ROW(B:B),1)),\"\"))/'Time constants'!$C$8+IF(B85=B84,0,1)*'Time constants'!$C$7,\"\")","v":""},{"$f":"IF(OR(E85=\"High Resolution\",E85=\"High Flux\"),IF(E85=E84,0,1)*'Time constants'!$C$5+IF(D85=D84,0,1)*'Time constants'!$C$4,\"\")","v":""},{"$f":"IF(IF(F85=\"\",0,F85/'Time constants'!$C$6)+IF(G85=\"\",0,G85)+IF(H85=\"\",0,H85)=0,\"\",IF(F85=\"\",0,F85/'Time constants'!$C$6)+IF(G85=\"\",0,G85)+IF(H85=\"\",0,H85))","v":""},"",""]
[null,null,null,null,null,null,{"$f":"IF(IF($B86>0,$B86-INDEX($B:$B,_xlfn.AGGREGATE(14,6,1/(LEN($B$1:INDEX(B:B,ROW()-1))>0)*ROW(B:B),1)),\"\")<>\"\",     ABS(IF($B86>0,$B86-INDEX($B:$B,_xlfn.AGGREGATE(14,6,1/(LEN($B$1:INDEX(B:B,ROW()-1))>0)*ROW(B:B),1)),\"\"))/'Time constants'!$C$8+IF(B86=B85,0,1)*'Time constants'!$C$7,\"\")","v":""},{"$f":"IF(OR(E86=\"High Resolution\",E86=\"High Flux\"),IF(E86=E85,0,1)*'Time constants'!$C$5+IF(D86=D85,0,1)*'Time constants'!$C$4,\"\")","v":""},{"$f":"IF(IF(F86=\"\",0,F86/'Time constants'!$C$6)+IF(G86=\"\",0,G86)+IF(H86=\"\",0,H86)=0,\"\",IF(F86=\"\",0,F86/'Time constants'!$C$6)+IF(G86=\"\",0,G86)+IF(H86=\"\",0,H86))","v":""},"",""]
[null,null,null,null,null,null,{"$f":"IF(IF($B87>0,$B87-INDEX($B:$B,_xlfn.AGGREGATE(14,6,1/(LEN($B$1:INDEX(B:B,ROW()-1))>0)*ROW(B:B),1)),\"\")<>\"\",     ABS(IF($B87>0,$B87-INDEX($B:$B,_xlfn.AGGREGATE(14,6,1/(LEN($B$1:INDEX(B:B,ROW()-1))>0)*ROW(B:B),1)),\"\"))/'Time constants'!$C$8+IF(B87=B86,0,1)*'Time constants'!$C$7,\"\")","v":""},{"$f":"IF(OR(E87=\"High Resolution\",E87=\"High Flux\"),IF(E87=E86,0,1)*'Time constants'!$C$5+IF(D87=D86,0,1)*'Time constants'!$C$4,\"\")","v":""},{"$f":"IF(IF(F87=\"\",0,F87/'Time constants'!$C$6)+IF(G87=\"\",0,G87)+IF(H87=\"\",0,H87)=0,\"\",IF(F87=\"\",0,F87/'Time constants'!$C$6)+IF(G87=\"\",0,G87)+IF(H87=\"\",0,H87))","v":""},"",""]
[null,null,null,null,null,null,{"$f":"IF(IF($B88>0,$B88-INDEX($B:$B,_xlfn.AGGREGATE(14,6,1/(LEN($B$1:INDEX(B:B,ROW()-1))>0)*ROW(B:B),1)),\"\")<>\"\",     ABS(IF($B88>0,$B88-INDEX($B:$B,_xlfn.AGGREGATE(14,6,1/(LEN($B$1:INDEX(B:B,ROW()-1))>0)*ROW(B:B),1)),\"\"))/'Time constants'!$C$8+IF(B88=B87,0,1)*'Time constants'!$C$7,\"\")","v":""},{"$f":"IF(OR(E88=\"High Resolution\",E88=\"High Flux\"),IF(E88=E87,0,1)*'Time constants'!$C$5+IF(D88=D87,0,1)*'Time constants'!$C$4,\"\")","v":""},{"$f":"IF(IF(F88=\"\",0,F88/'Time constants'!$C$6)+IF(G88=\"\",0,G88)+IF(H88=\"\",0,H88)=0,\"\",IF(F88=\"\",0,F88/'Time constants'!$C$6)+IF(G88=\"\",0,G88)+IF(H88=\"\",0,H88))","v":""},"",""]
[null,null,null,null,null,null,{"$f":"IF(IF($B89>0,$B89-INDEX($B:$B,_xlfn.AGGREGATE(14,6,1/(LEN($B$1:INDEX(B:B,ROW()-1))>0)*ROW(B:B),1)),\"\")<>\"\",     ABS(IF($B89>0,$B89-INDEX($B:$B,_xlfn.AGGREGATE(14,6,1/(LEN($B$1:INDEX(B:B,ROW()-1))>0)*ROW(B:B),1)),\"\"))/'Time constants'!$C$8+IF(B89=B88,0,1)*'Time constants'!$C$7,\"\")","v":""},{"$f":"IF(OR(E89=\"High Resolution\",E89=\"High Flux\"),IF(E89=E88,0,1)*'Time constants'!$C$5+IF(D89=D88,0,1)*'Time constants'!$C$4,\"\")","v":""},{"$f":"IF(IF(F89=\"\",0,F89/'Time constants'!$C$6)+IF(G89=\"\",0,G89)+IF(H89=\"\",0,H89)=0,\"\",IF(F89=\"\",0,F89/'Time constants'!$C$6)+IF(G89=\"\",0,G89)+IF(H89=\"\",0,H89))","v":""},"",""]
[null,null,null,null,null,null,{"$f":"IF(IF($B90>0,$B90-INDEX($B:$B,_xlfn.AGGREGATE(14,6,1/(LEN($B$1:INDEX(B:B,ROW()-1))>0)*ROW(B:B),1)),\"\")<>\"\",     ABS(IF($B90>0,$B90-INDEX($B:$B,_xlfn.AGGREGATE(14,6,1/(LEN($B$1:INDEX(B:B,ROW()-1))>0)*ROW(B:B),1)),\"\"))/'Time constants'!$C$8+IF(B90=B89,0,1)*'Time constants'!$C$7,\"\")","v":""},{"$f":"IF(OR(E90=\"High Resolution\",E90=\"High Flux\"),IF(E90=E89,0,1)*'Time constants'!$C$5+IF(D90=D89,0,1)*'Time constants'!$C$4,\"\")","v":""},{"$f":"IF(IF(F90=\"\",0,F90/'Time constants'!$C$6)+IF(G90=\"\",0,G90)+IF(H90=\"\",0,H90)=0,\"\",IF(F90=\"\",0,F90/'Time constants'!$C$6)+IF(G90=\"\",0,G90)+IF(H90=\"\",0,H90))","v":""},"",""]
[null,null,null,null,null,null,{"$f":"IF(IF($B91>0,$B91-INDEX($B:$B,_xlfn.AGGREGATE(14,6,1/(LEN($B$1:INDEX(B:B,ROW()-1))>0)*ROW(B:B),1)),\"\")<>\"\",     ABS(IF($B91>0,$B91-INDEX($B:$B,_xlfn.AGGREGATE(14,6,1/(LEN($B$1:INDEX(B:B,ROW()-1))>0)*ROW(B:B),1)),\"\"))/'Time constants'!$C$8+IF(B91=B90,0,1)*'Time constants'!$C$7,\"\")","v":""},{"$f":"IF(OR(E91=\"High Resolution\",E91=\"High Flux\"),IF(E91=E90,0,1)*'Time constants'!$C$5+IF(D91=D90,0,1)*'Time constants'!$C$4,\"\")","v":""},{"$f":"IF(IF(F91=\"\",0,F91/'Time constants'!$C$6)+IF(G91=\"\",0,G91)+IF(H91=\"\",0,H91)=0,\"\",IF(F91=\"\",0,F91/'Time constants'!$C$6)+IF(G91=\"\",0,G91)+IF(H91=\"\",0,H91))","v":""},"",""]
[null,null,null,null,null,null,{"$f":"IF(IF($B92>0,$B92-INDEX($B:$B,_xlfn.AGGREGATE(14,6,1/(LEN($B$1:INDEX(B:B,ROW()-1))>0)*ROW(B:B),1)),\"\")<>\"\",     ABS(IF($B92>0,$B92-INDEX($B:$B,_xlfn.AGGREGATE(14,6,1/(LEN($B$1:INDEX(B:B,ROW()-1))>0)*ROW(B:B),1)),\"\"))/'Time constants'!$C$8+IF(B92=B91,0,1)*'Time constants'!$C$7,\"\")","v":""},{"$f":"IF(OR(E92=\"High Resolution\",E92=\"High Flux\"),IF(E92=E91,0,1)*'Time constants'!$C$5+IF(D92=D91,0,1)*'Time constants'!$C$4,\"\")","v":""},{"$f":"IF(IF(F92=\"\",0,F92/'Time constants'!$C$6)+IF(G92=\"\",0,G92)+IF(H92=\"\",0,H92)=0,\"\",IF(F92=\"\",0,F92/'Time constants'!$C$6)+IF(G92=\"\",0,G92)+IF(H92=\"\",0,H92))","v":""},"",""]
[null,null,null,null,null,null,{"$f":"IF(IF($B93>0,$B93-INDEX($B:$B,_xlfn.AGGREGATE(14,6,1/(LEN($B$1:INDEX(B:B,ROW()-1))>0)*ROW(B:B),1)),\"\")<>\"\",     ABS(IF($B93>0,$B93-INDEX($B:$B,_xlfn.AGGREGATE(14,6,1/(LEN($B$1:INDEX(B:B,ROW()-1))>0)*ROW(B:B),1)),\"\"))/'Time constants'!$C$8+IF(B93=B92,0,1)*'Time constants'!$C$7,\"\")","v":""},{"$f":"IF(OR(E93=\"High Resolution\",E93=\"High Flux\"),IF(E93=E92,0,1)*'Time constants'!$C$5+IF(D93=D92,0,1)*'Time constants'!$C$4,\"\")","v":""},{"$f":"IF(IF(F93=\"\",0,F93/'Time constants'!$C$6)+IF(G93=\"\",0,G93)+IF(H93=\"\",0,H93)=0,\"\",IF(F93=\"\",0,F93/'Time constants'!$C$6)+IF(G93=\"\",0,G93)+IF(H93=\"\",0,H93))","v":""},"",""]
[null,null,null,null,null,null,{"$f":"IF(IF($B94>0,$B94-INDEX($B:$B,_xlfn.AGGREGATE(14,6,1/(LEN($B$1:INDEX(B:B,ROW()-1))>0)*ROW(B:B),1)),\"\")<>\"\",     ABS(IF($B94>0,$B94-INDEX($B:$B,_xlfn.AGGREGATE(14,6,1/(LEN($B$1:INDEX(B:B,ROW()-1))>0)*ROW(B:B),1)),\"\"))/'Time constants'!$C$8+IF(B94=B93,0,1)*'Time constants'!$C$7,\"\")","v":""},{"$f":"IF(OR(E94=\"High Resolution\",E94=\"High Flux\"),IF(E94=E93,0,1)*'Time constants'!$C$5+IF(D94=D93,0,1)*'Time constants'!$C$4,\"\")","v":""},{"$f":"IF(IF(F94=\"\",0,F94/'Time constants'!$C$6)+IF(G94=\"\",0,G94)+IF(H94=\"\",0,H94)=0,\"\",IF(F94=\"\",0,F94/'Time constants'!$C$6)+IF(G94=\"\",0,G94)+IF(H94=\"\",0,H94))","v":""},"",""]
[null,null,null,null,null,null,{"$f":"IF(IF($B95>0,$B95-INDEX($B:$B,_xlfn.AGGREGATE(14,6,1/(LEN($B$1:INDEX(B:B,ROW()-1))>0)*ROW(B:B),1)),\"\")<>\"\",     ABS(IF($B95>0,$B95-INDEX($B:$B,_xlfn.AGGREGATE(14,6,1/(LEN($B$1:INDEX(B:B,ROW()-1))>0)*ROW(B:B),1)),\"\"))/'Time constants'!$C$8+IF(B95=B94,0,1)*'Time constants'!$C$7,\"\")","v":""},{"$f":"IF(OR(E95=\"High Resolution\",E95=\"High Flux\"),IF(E95=E94,0,1)*'Time constants'!$C$5+IF(D95=D94,0,1)*'Time constants'!$C$4,\"\")","v":""},{"$f":"IF(IF(F95=\"\",0,F95/'Time constants'!$C$6)+IF(G95=\"\",0,G95)+IF(H95=\"\",0,H95)=0,\"\",IF(F95=\"\",0,F95/'Time constants'!$C$6)+IF(G95=\"\",0,G95)+IF(H95=\"\",0,H95))","v":""},"",""]
[null,null,null,null,null,null,{"$f":"IF(IF($B96>0,$B96-INDEX($B:$B,_xlfn.AGGREGATE(14,6,1/(LEN($B$1:INDEX(B:B,ROW()-1))>0)*ROW(B:B),1)),\"\")<>\"\",     ABS(IF($B96>0,$B96-INDEX($B:$B,_xlfn.AGGREGATE(14,6,1/(LEN($B$1:INDEX(B:B,ROW()-1))>0)*ROW(B:B),1)),\"\"))/'Time constants'!$C$8+IF(B96=B95,0,1)*'Time constants'!$C$7,\"\")","v":""},{"$f":"IF(OR(E96=\"High Resolution\",E96=\"High Flux\"),IF(E96=E95,0,1)*'Time constants'!$C$5+IF(D96=D95,0,1)*'Time constants'!$C$4,\"\")","v":""},{"$f":"IF(IF(F96=\"\",0,F96/'Time constants'!$C$6)+IF(G96=\"\",0,G96)+IF(H96=\"\",0,H96)=0,\"\",IF(F96=\"\",0,F96/'Time constants'!$C$6)+IF(G96=\"\",0,G96)+IF(H96=\"\",0,H96))","v":""},"",""]
[null,null,null,null,null,null,{"$f":"IF(IF($B97>0,$B97-INDEX($B:$B,_xlfn.AGGREGATE(14,6,1/(LEN($B$1:INDEX(B:B,ROW()-1))>0)*ROW(B:B),1)),\"\")<>\"\",     ABS(IF($B97>0,$B97-INDEX($B:$B,_xlfn.AGGREGATE(14,6,1/(LEN($B$1:INDEX(B:B,ROW()-1))>0)*ROW(B:B),1)),\"\"))/'Time constants'!$C$8+IF(B97=B96,0,1)*'Time constants'!$C$7,\"\")","v":""},{"$f":"IF(OR(E97=\"High Resolution\",E97=\"High Flux\"),IF(E97=E96,0,1)*'Time constants'!$C$5+IF(D97=D96,0,1)*'Time constants'!$C$4,\"\")","v":""},{"$f":"IF(IF(F97=\"\",0,F97/'Time constants'!$C$6)+IF(G97=\"\",0,G97)+IF(H97=\"\",0,H97)=0,\"\",IF(F97=\"\",0,F97/'Time constants'!$C$6)+IF(G97=\"\",0,G97)+IF(H97=\"\",0,H97))","v":""},"",""]
[null,null,null,null,null,null,{"$f":"IF(IF($B98>0,$B98-INDEX($B:$B,_xlfn.AGGREGATE(14,6,1/(LEN($B$1:INDEX(B:B,ROW()-1))>0)*ROW(B:B),1)),\"\")<>\"\",     ABS(IF($B98>0,$B98-INDEX($B:$B,_xlfn.AGGREGATE(14,6,1/(LEN($B$1:INDEX(B:B,ROW()-1))>0)*ROW(B:B),1)),\"\"))/'Time constants'!$C$8+IF(B98=B97,0,1)*'Time constants'!$C$7,\"\")","v":""},{"$f":"IF(OR(E98=\"High Resolution\",E98=\"High Flux\"),IF(E98=E97,0,1)*'Time constants'!$C$5+IF(D98=D97,0,1)*'Time constants'!$C$4,\"\")","v":""},{"$f":"IF(IF(F98=\"\",0,F98/'Time constants'!$C$6)+IF(G98=\"\",0,G98)+IF(H98=\"\",0,H98)=0,\"\",IF(F98=\"\",0,F98/'Time constants'!$C$6)+IF(G98=\"\",0,G98)+IF(H98=\"\",0,H98))","v":""},"",""]
[null,null,null,null,null,null,{"$f":"IF(IF($B99>0,$B99-INDEX($B:$B,_xlfn.AGGREGATE(14,6,1/(LEN($B$1:INDEX(B:B,ROW()-1))>0)*ROW(B:B),1)),\"\")<>\"\",     ABS(IF($B99>0,$B99-INDEX($B:$B,_xlfn.AGGREGATE(14,6,1/(LEN($B$1:INDEX(B:B,ROW()-1))>0)*ROW(B:B),1)),\"\"))/'Time constants'!$C$8+IF(B99=B98,0,1)*'Time constants'!$C$7,\"\")","v":""},{"$f":"IF(OR(E99=\"High Resolution\",E99=\"High Flux\"),IF(E99=E98,0,1)*'Time constants'!$C$5+IF(D99=D98,0,1)*'Time constants'!$C$4,\"\")","v":""},{"$f":"IF(IF(F99=\"\",0,F99/'Time constants'!$C$6)+IF(G99=\"\",0,G99)+IF(H99=\"\",0,H99)=0,\"\",IF(F99=\"\",0,F99/'Time constants'!$C$6)+IF(G99=\"\",0,G99)+IF(H99=\"\",0,H99))","v":""},"",""]
[null,null,null,null,null,null,{"$f":"IF(IF($B100>0,$B100-INDEX($B:$B,_xlfn.AGGREGATE(14,6,1/(LEN($B$1:INDEX(B:B,ROW()-1))>0)*ROW(B:B),1)),\"\")<>\"\",     ABS(IF($B100>0,$B100-INDEX($B:$B,_xlfn.AGGREGATE(14,6,1/(LEN($B$1:INDEX(B:B,ROW()-1))>0)*ROW(B:B),1)),\"\"))/'Time constants'!$C$8+IF(B100=B99,0,1)*'Time constants'!$C$7,\"\")","v":""},{"$f":"IF(OR(E100=\"High Resolution\",E100=\"High Flux\"),IF(E100=E99,0,1)*'Time constants'!$C$5+IF(D100=D99,0,1)*'Time constants'!$C$4,\"\")","v":""},{"$f":"IF(IF(F100=\"\",0,F100/'Time constants'!$C$6)+IF(G100=\"\",0,G100)+IF(H100=\"\",0,H100)=0,\"\",IF(F100=\"\",0,F100/'Time constants'!$C$6)+IF(G100=\"\",0,G100)+IF(H100=\"\",0,H100))","v":""},"",""]
[null,null,null,null,null,null,{"$f":"IF(IF($B101>0,$B101-INDEX($B:$B,_xlfn.AGGREGATE(14,6,1/(LEN($B$1:INDEX(B:B,ROW()-1))>0)*ROW(B:B),1)),\"\")<>\"\",     ABS(IF($B101>0,$B101-INDEX($B:$B,_xlfn.AGGREGATE(14,6,1/(LEN($B$1:INDEX(B:B,ROW()-1))>0)*ROW(B:B),1)),\"\"))/'Time constants'!$C$8+IF(B101=B100,0,1)*'Time constants'!$C$7,\"\")","v":""},{"$f":"IF(OR(E101=\"High Resolution\",E101=\"High Flux\"),IF(E101=E100,0,1)*'Time constants'!$C$5+IF(D101=D100,0,1)*'Time constants'!$C$4,\"\")","v":""},{"$f":"IF(IF(F101=\"\",0,F101/'Time constants'!$C$6)+IF(G101=\"\",0,G101)+IF(H101=\"\",0,H101)=0,\"\",IF(F101=\"\",0,F101/'Time constants'!$C$6)+IF(G101=\"\",0,G101)+IF(H101=\"\",0,H101))","v":""},"",""]
[null,null,null,null,null,null,{"$f":"IF(IF($B102>0,$B102-INDEX($B:$B,_xlfn.AGGREGATE(14,6,1/(LEN($B$1:INDEX(B:B,ROW()-1))>0)*ROW(B:B),1)),\"\")<>\"\",     ABS(IF($B102>0,$B102-INDEX($B:$B,_xlfn.AGGREGATE(14,6,1/(LEN($B$1:INDEX(B:B,ROW()-1))>0)*ROW(B:B),1)),\"\"))/'Time constants'!$C$8+IF(B102=B101,0,1)*'Time constants'!$C$7,\"\")","v":""},{"$f":"IF(OR(E102=\"High Resolution\",E102=\"High Flux\"),IF(E102=E101,0,1)*'Time constants'!$C$5+IF(D102=D101,0,1)*'Time constants'!$C$4,\"\")","v":""},{"$f":"IF(IF(F102=\"\",0,F102/'Time constants'!$C$6)+IF(G102=\"\",0,G102)+IF(H102=\"\",0,H102)=0,\"\",IF(F102=\"\",0,F102/'Time constants'!$C$6)+IF(G102=\"\",0,G102)+IF(H102=\"\",0,H102))","v":""},"",""]
[null,null,null,null,null,null,{"$f":"IF(IF($B103>0,$B103-INDEX($B:$B,_xlfn.AGGREGATE(14,6,1/(LEN($B$1:INDEX(B:B,ROW()-1))>0)*ROW(B:B),1)),\"\")<>\"\",     ABS(IF($B103>0,$B103-INDEX($B:$B,_xlfn.AGGREGATE(14,6,1/(LEN($B$1:INDEX(B:B,ROW()-1))>0)*ROW(B:B),1)),\"\"))/'Time constants'!$C$8+IF(B103=B102,0,1)*'Time constants'!$C$7,\"\")","v":""},{"$f":"IF(OR(E103=\"High Resolution\",E103=\"High Flux\"),IF(E103=E102,0,1)*'Time constants'!$C$5+IF(D103=D102,0,1)*'Time constants'!$C$4,\"\")","v":""},{"$f":"IF(IF(F103=\"\",0,F103/'Time constants'!$C$6)+IF(G103=\"\",0,G103)+IF(H103=\"\",0,H103)=0,\"\",IF(F103=\"\",0,F103/'Time constants'!$C$6)+IF(G103=\"\",0,G103)+IF(H103=\"\",0,H103))","v":""},"",""]
[null,null,null,null,null,null,{"$f":"IF(IF($B104>0,$B104-INDEX($B:$B,_xlfn.AGGREGATE(14,6,1/(LEN($B$1:INDEX(B:B,ROW()-1))>0)*ROW(B:B),1)),\"\")<>\"\",     ABS(IF($B104>0,$B104-INDEX($B:$B,_xlfn.AGGREGATE(14,6,1/(LEN($B$1:INDEX(B:B,ROW()-1))>0)*ROW(B:B),1)),\"\"))/'Time constants'!$C$8+IF(B104=B103,0,1)*'Time constants'!$C$7,\"\")","v":""},{"$f":"IF(OR(E104=\"High Resolution\",E104=\"High Flux\"),IF(E104=E103,0,1)*'Time constants'!$C$5+IF(D104=D103,0,1)*'Time constants'!$C$4,\"\")","v":""},{"$f":"IF(IF(F104=\"\",0,F104/'Time constants'!$C$6)+IF(G104=\"\",0,G104)+IF(H104=\"\",0,H104)=0,\"\",IF(F104=\"\",0,F104/'Time constants'!$C$6)+IF(G104=\"\",0,G104)+IF(H104=\"\",0,H104))","v":""},"",""]
[null,null,null,null,null,null,{"$f":"IF(IF($B105>0,$B105-INDEX($B:$B,_xlfn.AGGREGATE(14,6,1/(LEN($B$1:INDEX(B:B,ROW()-1))>0)*ROW(B:B),1)),\"\")<>\"\",     ABS(IF($B105>0,$B105-INDEX($B:$B,_xlfn.AGGREGATE(14,6,1/(LEN($B$1:INDEX(B:B,ROW()-1))>0)*ROW(B:B),1)),\"\"))/'Time constants'!$C$8+IF(B105=B104,0,1)*'Time constants'!$C$7,\"\")","v":""},{"$f":"IF(OR(E105=\"High Resolution\",E105=\"High Flux\"),IF(E105=E104,0,1)*'Time constants'!$C$5+IF(D105=D104,0,1)*'Time constants'!$C$4,\"\")","v":""},{"$f":"IF(IF(F105=\"\",0,F105/'Time constants'!$C$6)+IF(G105=\"\",0,G105)+IF(H105=\"\",0,H105)=0,\"\",IF(F105=\"\",0,F105/'Time constants'!$C$6)+IF(G105=\"\",0,G105)+IF(H105=\"\",0,H105))","v":""},"",""]
[null,null,null,null,null,null,{"$f":"IF(IF($B106>0,$B106-INDEX($B:$B,_xlfn.AGGREGATE(14,6,1/(LEN($B$1:INDEX(B:B,ROW()-1))>0)*ROW(B:B),1)),\"\")<>\"\",     ABS(IF($B106>0,$B106-INDEX($B:$B,_xlfn.AGGREGATE(14,6,1/(LEN($B$1:INDEX(B:B,ROW()-1))>0)*ROW(B:B),1)),\"\"))/'Time constants'!$C$8+IF(B106=B105,0,1)*'Time constants'!$C$7,\"\")","v":""},{"$f":"IF(OR(E106=\"High Resolution\",E106=\"High Flux\"),IF(E106=E105,0,1)*'Time constants'!$C$5+IF(D106=D105,0,1)*'Time constants'!$C$4,\"\")","v":""},{"$f":"IF(IF(F106=\"\",0,F106/'Time constants'!$C$6)+IF(G106=\"\",0,G106)+IF(H106=\"\",0,H106)=0,\"\",IF(F106=\"\",0,F106/'Time constants'!$C$6)+IF(G106=\"\",0,G106)+IF(H106=\"\",0,H106))","v":""},"",""]

{"sheet":"Time constants","index":2,"n_rows":8,"n_cols":3,"rows_kept":8,"cut":false,"hidden":false,"merged":[]}
["T"]
[]
[]
[null,"Time to change incident energy (minutes)",5]
[null,"Time to change chopper (minutes)",15]
[null,"Coulombs per minute at 1.4 MW power",{"$f":"4.9/60","v":8.1666666666666679E-2}]
[null,"Time to equilibrate temperature (minutes)",3]
[null,"Cooling & warming time, linear (K/min)",3.22]