{"text_format":"1","workbook":"xlsx","n_sheets":3,"sheets":["SAMPLES","MEASUREMENTS","Time constants"],"not_rendered":{"charts":0,"images":0,"macros":1,"external_links":0,"defined_names":1,"comments":0,"pivot_tables":0},"unopened":[],"bounds":{"document_bytes":16777216,"sheet_cells":100000,"rows_first":2000,"rows_last":500,"rows_between":2000,"halvings":0,"cell_chars":16384,"cell_head_chars":4096},"cells_cut":0,"cells_raw":0,"read":"whole","date_system":"1900"}

{"sheet":"SAMPLES","index":0,"n_rows":9,"n_cols":13,"rows_kept":9,"cut":false,"hidden":false,"merged":[]}
[]
[]
[null,"IPTS number"]
[null,"PI and PI's email"]
[null,null,null,null,"Lattice constants"]
[null,"Sample Name","Chemical Formula (e.g. H2O)","mass (g)","a (Å)","b (Å)","c (Å)","α (deg)","β (deg)","γ (deg)","Z","Solid density (g/cm^3)","ITEMS"]
[null,"Sample 1 Name"]
[null,"Sample 2 Name"]
[null,"Sample 3 Name"]

{"sheet":"MEASUREMENTS","index":1,"n_rows":106,"n_cols":12,"rows_kept":106,"cut":false,"hidden":false,"merged":[]}
[]
[]
[]
[null,null,null,null,null,null,null,null,null,"Maximum Measurement time (hours)",24]
["NOTES","Temp. (K)  (5 to 320 K)","Sample","Incident Energy (meV)","Fermi Frequency (Hz)","Detector Vessel Angle (S2, deg)","Time to measure (Coulombs)  (4.9 C/hour at 1.4 MW)","Time to set Temperature (minutes)","Time to set Config. (minutes)","Elapsed Time for commands (minutes)","Total Elapsed time (hours)","Putative Title"]
["INITIAL CONFIGURATION",290,null,25,180,-35]
["Example 1",5,"Sample 1 Name",25,240,-45,12,{"$f":"IF(IF($B7>0,$B7-INDEX($B:$B,_xlfn.AGGREGATE(14,6,1/(LEN($B$1:INDEX(B:B,ROW()-1))>0)*ROW(B:B),1)),\"\")<>\"\",     ABS(IF($B7>0,$B7-INDEX($B:$B,_xlfn.AGGREGATE(14,6,1/(LEN($B$1:INDEX(B:B,ROW()-1))>0)*ROW(B:B),1)),\"\"))/'Time constants'!$C$8+IF(B7=B6,0,1)*'Time constants'!$C$7,\"\")","v":91.509316770186331},{"$f":"IF(F7=F6,0,1)*'Time constants'!C5+IF(E7=E6,0,1)*'Time constants'!C4+IF(D7=D6,0,1)*'Time constants'!$C$4","v":10},{"$f":"IF(IF(G7=\"\",0,G7/'Time constants'!$C$6)+IF(H7=\"\",0,H7)+IF(I7=\"\",0,I7)=0,\"\",IF(G7=\"\",0,G7/'Time constants'!$C$6)+IF(H7=\"\",0,H7)+IF(I7=\"\",0,I7))","v":248.4480922803904},{"$f":"IF(J7/60=\"\",\"\",J7/60)","v":4.1408015380065066},{"$f":"IF(C7=\"\",\"\",TEXT(C7,\"0\") &\", S2 = \" & TEXT(F7,\"0\") & \"deg \" & TEXT(D7,\"0.0\") & \" meV, \" & TEXT(E7,\"0.0\") & \" Hz, \" & \"T=\" & TEXT(B7,\"0.00\") & \" K, \" &TEXT(G7,\"0.00\") & \" C\")","v":"Sample 1 Name, S2 = -45deg 25.0 meV, 240.0 Hz, T=5.00 K, 12.00 C"}]
["Example 2",5,"Sample 2 Name",25,300,-35,12,{"$f":"IF(IF($B8>0,$B8-INDEX($B:$B,_xlfn.AGGREGATE(14,6,1/(LEN($B$1:INDEX(B:B,ROW()-1))>0)*ROW(B:B),1)),\"\")<>\"\",     ABS(IF($B8>0,$B8-INDEX($B:$B,_xlfn.AGGREGATE(14,6,1/(LEN($B$1:INDEX(B:B,ROW()-1))>0)*ROW(B:B),1)),\"\"))/'Time constants'!$C$8+IF(B8=B7,0,1)*'Time constants'!$C$7,\"\")","v":0},{"$f":"IF(F8=F7,0,1)*'Time constants'!C6+IF(E8=E7,0,1)*'Time constants'!C5+IF(D8=D7,0,1)*'Time constants'!$C$4","v":5.081666666666667},{"$f":"IF(IF(G8=\"\",0,G8/'Time constants'!$C$6)+IF(H8=\"\",0,H8)+IF(I8=\"\",0,I8)=0,\"\",IF(G8=\"\",0,G8/'Time constants'!$C$6)+IF(H8=\"\",0,H8)+IF(I8=\"\",0,I8))","v":152.02044217687074},{"$f":"IF(J8=\"\",\"\",J8/60+K7)","v":6.6744755742876851},{"$f":"IF(C8=\"\",\"\",TEXT(C8,\"0\") &\", S2 = \" & TEXT(F8,\"0\") & \"deg \" & TEXT(D8,\"0.0\") & \" meV, \" & TEXT(E8,\"0.0\") & \" Hz, \" & \"T=\" & TEXT(B8,\"0.00\") & \" K, \" &TEXT(G8,\"0.00\") & \" C\")","v":"Sample 2 Name, S2 = -35deg 25.0 meV, 300.0 Hz, T=5.00 K, 12.00 C"}]
["Example 3",5,"Sample 3 Name",15,360,-60,12,{"$f":"IF(IF($B9>0,$B9-INDEX($B:$B,_xlfn.AGGREGATE(14,6,1/(LEN($B$1:INDEX(B:B,ROW()-1))>0)*ROW(B:B),1)),\"\")<>\"\",     ABS(IF($B9>0,$B9-INDEX($B:$B,_xlfn.AGGREGATE(14,6,1/(LEN($B$1:INDEX(B:B,ROW()-1))>0)*ROW(B:B),1)),\"\"))/'Time constants'!$C$8+IF(B9=B8,0,1)*'Time constants'!$C$7,\"\")","v":0},{"$f":"IF(F9=F8,0,1)*'Time constants'!C7+IF(E9=E8,0,1)*'Time constants'!C6+IF(D9=D8,0,1)*'Time constants'!$C$4","v":8.081666666666667},{"$f":"IF(IF(G9=\"\",0,G9/'Time constants'!$C$6)+IF(H9=\"\",0,H9)+IF(I9=\"\",0,I9)=0,\"\",IF(G9=\"\",0,G9/'Time constants'!$C$6)+IF(H9=\"\",0,H9)+IF(I9=\"\",0,I9))","v":155.02044217687074},9.2581496105688643,"Sample 3 Name, S2 = -60deg 15.0 meV, 360.0 Hz, T=5.00 K, 12.00 C"]
["Example 4",120,"Sample 1 Name",15,420,-60,24,{"$f":"IF(IF($B10>0,$B10-INDEX($B:$B,_xlfn.AGGREGATE(14,6,1/(LEN($B$1:INDEX(B:B,ROW()-1))>0)*ROW(B:B),1)),\"\")<>\"\",     ABS(IF($B10>0,$B10-INDEX($B:$B,_xlfn.AGGREGATE(14,6,1/(LEN($B$1:INDEX(B:B,ROW()-1))>0)*ROW(B:B),1)),\"\"))/'Time constants'!$C$8+IF(B10=B9,0,1)*'Time constants'!$C$7,\"\")","v":38.714285714285715},{"$f":"IF(F10=F9,0,1)*'Time constants'!C8+IF(E10=E9,0,1)*'Time constants'!C7+IF(D10=D9,0,1)*'Time constants'!$C$4","v":3},{"$f":"IF(IF(G10=\"\",0,G10/'Time constants'!$C$6)+IF(H10=\"\",0,H10)+IF(I10=\"\",0,I10)=0,\"\",IF(G10=\"\",0,G10/'Time constants'!$C$6)+IF(H10=\"\",0,H10)+IF(I10=\"\",0,I10))","v":335.59183673469386},14.851346889480428,"Sample 1 Name, S2 = -60deg 15.0 meV, 420.0 Hz, T=120.00 K, 24.00 C"]
["Example 5",120,"Sample 2 Name",3.8,180,-85,24,{"$f":"IF(IF($B11>0,$B11-INDEX($B:$B,_xlfn.AGGREGATE(14,6,1/(LEN($B$1:INDEX(B:B,ROW()-1))>0)*ROW(B:B),1)),\"\")<>\"\",     ABS(IF($B11>0,$B11-INDEX($B:$B,_xlfn.AGGREGATE(14,6,1/(LEN($B$1:INDEX(B:B,ROW()-1))>0)*ROW(B:B),1)),\"\"))/'Time constants'!$C$8+IF(B11=B10,0,1)*'Time constants'!$C$7,\"\")","v":0},{"$f":"IF(F11=F10,0,1)*'Time constants'!C9+IF(E11=E10,0,1)*'Time constants'!C8+IF(D11=D10,0,1)*'Time constants'!$C$4","v":8.2200000000000006},{"$f":"IF(IF(G11=\"\",0,G11/'Time constants'!$C$6)+IF(H11=\"\",0,H11)+IF(I11=\"\",0,I11)=0,\"\",IF(G11=\"\",0,G11/'Time constants'!$C$6)+IF(H11=\"\",0,H11)+IF(I11=\"\",0,I11))","v":302.09755102040816},19.886306073153897,"Sample 2 Name, S2 = -85deg 3.8 meV, 180.0 Hz, T=120.00 K, 24.00 C"]
["Example 6",120,"Sample 3 Name",3.8,240,-85,24,{"$f":"IF(IF($B12>0,$B12-INDEX($B:$B,_xlfn.AGGREGATE(14,6,1/(LEN($B$1:INDEX(B:B,ROW()-1))>0)*ROW(B:B),1)),\"\")<>\"\",     ABS(IF($B12>0,$B12-INDEX($B:$B,_xlfn.AGGREGATE(14,6,1/(LEN($B$1:INDEX(B:B,ROW()-1))>0)*ROW(B:B),1)),\"\"))/'Time constants'!$C$8+IF(B12=B11,0,1)*'Time constants'!$C$7,\"\")","v":0},{"$f":"IF(F12=F11,0,1)*'Time constants'!C10+IF(E12=E11,0,1)*'Time constants'!C9+IF(D12=D11,0,1)*'Time constants'!$C$4","v":0},{"$f":"IF(IF(G12=\"\",0,G12/'Time constants'!$C$6)+IF(H12=\"\",0,H12)+IF(I12=\"\",0,I12)=0,\"\",IF(G12=\"\",0,G12/'Time constants'!$C$6)+IF(H12=\"\",0,H12)+IF(I12=\"\",0,I12))","v":293.87755102040813},24.784265256827364,"Sample 3 Name, S2 = -85deg 3.8 meV, 240.0 Hz, T=120.00 K, 24.00 C"]
[null,null,null,null,null,null,null,{"$f":"IF(IF($B13>0,$B13-INDEX($B:$B,_xlfn.AGGREGATE(14,6,1/(LEN($B$1:INDEX(B:B,ROW()-1))>0)*ROW(B:B),1)),\"\")<>\"\",     ABS(IF($B13>0,$B13-INDEX($B:$B,_xlfn.AGGREGATE(14,6,1/(LEN($B$1:INDEX(B:B,ROW()-1))>0)*ROW(B:B),1)),\"\"))/'Time constants'!$C$8+IF(B13=B12,0,1)*'Time constants'!$C$7,\"\")","v":""},{"$f":"IF(F13=F12,0,1)*'Time constants'!C11+IF(E13=E12,0,1)*'Time constants'!C10+IF(D13=D12,0,1)*'Time constants'!$C$4","v":5},{"$f":"IF(IF(G13=\"\",0,G13/'Time constants'!$C$6)+IF(H13=\"\",0,H13)+IF(I13=\"\",0,I13)=0,\"\",IF(G13=\"\",0,G13/'Time constants'!$C$6)+IF(H13=\"\",0,H13)+IF(I13=\"\",0,I13))","v":5},24.867598590160696,""]
[null,null,null,null,null,null,null,{"$f":"IF(IF($B14>0,$B14-INDEX($B:$B,_xlfn.AGGREGATE(14,6,1/(LEN($B$1:INDEX(B:B,ROW()-1))>0)*ROW(B:B),1)),\"\")<>\"\",     ABS(IF($B14>0,$B14-INDEX($B:$B,_xlfn.AGGREGATE(14,6,1/(LEN($B$1:INDEX(B:B,ROW()-1))>0)*ROW(B:B),1)),\"\"))/'Time constants'!$C$8+IF(B14=B13,0,1)*'Time constants'!$C$7,\"\")","v":""},{"$f":"IF(F14=F13,0,1)*'Time constants'!C12+IF(E14=E13,0,1)*'Time constants'!C11+IF(D14=D13,0,1)*'Time constants'!$C$4","v":0},{"$f":"IF(IF(G14=\"\",0,G14/'Time constants'!$C$6)+IF(H14=\"\",0,H14)+IF(I14=\"\",0,I14)=0,\"\",IF(G14=\"\",0,G14/'Time constants'!$C$6)+IF(H14=\"\",0,H14)+IF(I14=\"\",0,I14))","v":""},"",""]
[null,null,null,null,null,null,null,{"$f":"IF(IF($B15>0,$B15-INDEX($B:$B,_xlfn.AGGREGATE(14,6,1/(LEN($B$1:INDEX(B:B,ROW()-1))>0)*ROW(B:B),1)),\"\")<>\"\",     ABS(IF($B15>0,$B15-INDEX($B:$B,_xlfn.AGGREGATE(14,6,1/(LEN($B$1:INDEX(B:B,ROW()-1))>0)*ROW(B:B),1)),\"\"))/'Time constants'!$C$8+IF(B15=B14,0,1)*'Time constants'!$C$7,\"\")","v":""},{"$f":"IF(F15=F14,0,1)*'Time constants'!C13+IF(E15=E14,0,1)*'Time constants'!C12+IF(D15=D14,0,1)*'Time constants'!$C$4","v":0},{"$f":"IF(IF(G15=\"\",0,G15/'Time constants'!$C$6)+IF(H15=\"\",0,H15)+IF(I15=\"\",0,I15)=0,\"\",IF(G15=\"\",0,G15/'Time constants'!$C$6)+IF(H15=\"\",0,H15)+IF(I15=\"\",0,I15))","v":""},"",""]
[null,null,null,null,null,null,null,{"$f":"IF(IF($B16>0,$B16-INDEX($B:$B,_xlfn.AGGREGATE(14,6,1/(LEN($B$1:INDEX(B:B,ROW()-1))>0)*ROW(B:B),1)),\"\")<>\"\",     ABS(IF($B16>0,$B16-INDEX($B:$B,_xlfn.AGGREGATE(14,6,1/(LEN($B$1:INDEX(B:B,ROW()-1))>0)*ROW(B:B),1)),\"\"))/'Time constants'!$C$8+IF(B16=B15,0,1)*'Time constants'!$C$7,\"\")","v":""},{"$f":"IF(OR(#REF!=\"High Resolution\",#REF!=\"High Flux\"),IF(#REF!=#REF!,0,1)*'Time constants'!#REF!+IF(D16=D15,0,1)*'Time constants'!$C$4,\"\")","v":{"$error":"#REF!"}},{"$f":"IF(IF(G16=\"\",0,G16/'Time constants'!$C$6)+IF(H16=\"\",0,H16)+IF(I16=\"\",0,I16)=0,\"\",IF(G16=\"\",0,G16/'Time constants'!$C$6)+IF(H16=\"\",0,H16)+IF(I16=\"\",0,I16))","v":{"$error":"#REF!"}},{"$error":"#REF!"},{"$f":"IF(C16=\"\",\"\",TEXT(C16,\"0\") &\", \" & TEXT(#REF!,\"0\") & \" \" & TEXT(D16,\"0.0\") & \" meV, \" & \"T=\" & TEXT(B16,\"0.00\") & \" K, \" &TEXT(G16,\"0.00\") & \"C\")","v":""}]
[null,null,null,null,null,null,null,{"$f":"IF(IF($B17>0,$B17-INDEX($B:$B,_xlfn.AGGREGATE(14,6,1/(LEN($B$1:INDEX(B:B,ROW()-1))>0)*ROW(B:B),1)),\"\")<>\"\",     ABS(IF($B17>0,$B17-INDEX($B:$B,_xlfn.AGGREGATE(14,6,1/(LEN($B$1:INDEX(B:B,ROW()-1))>0)*ROW(B:B),1)),\"\"))/'Time constants'!$C$8+IF(B17=B16,0,1)*'Time constants'!$C$7,\"\")","v":""},{"$f":"IF(OR(#REF!=\"High Resolution\",#REF!=\"High Flux\"),IF(#REF!=#REF!,0,1)*'Time constants'!#REF!+IF(D17=D16,0,1)*'Time constants'!$C$4,\"\")","v":{"$error":"#REF!"}},{"$f":"IF(IF(G17=\"\",0,G17/'Time constants'!$C$6)+IF(H17=\"\",0,H17)+IF(I17=\"\",0,I17)=0,\"\",IF(G17=\"\",0,G17/'Time constants'!$C$6)+IF(H17=\"\",0,H17)+IF(I17=\"\",0,I17))","v":{"$error":"#REF!"}},{"$error":"#REF!"},{"$f":"IF(C17=\"\",\"\",TEXT(C17,\"0\") &\", \" & TEXT(#REF!,\"0\") & \" \" & TEXT(D17,\"0.0\") & \" meV, \" & \"T=\" & TEXT(B17,\"0.00\") & \" K, \" &TEXT(G17,\"0.00\") & \"C\")","v":""}]
[null,null,null,null,null,null,null,{"$f":"IF(IF($B18>0,$B18-INDEX($B:$B,_xlfn.AGGREGATE(14,6,1/(LEN($B$1:INDEX(B:B,ROW()-1))>0)*ROW(B:B),1)),\"\")<>\"\",     ABS(IF($B18>0,$B18-INDEX($B:$B,_xlfn.AGGREGATE(14,6,1/(LEN($B$1:INDEX(B:B,ROW()-1))>0)*ROW(B:B),1)),\"\"))/'Time constants'!$C$8+IF(B18=B17,0,1)*'Time constants'!$C$7,\"\")","v":""},{"$f":"IF(OR(#REF!=\"High Resolution\",#REF!=\"High Flux\"),IF(#REF!=#REF!,0,1)*'Time constants'!#REF!+IF(D18=D17,0,1)*'Time constants'!$C$4,\"\")","v":{"$error":"#REF!"}},{"$f":"IF(IF(G18=\"\",0,G18/'Time constants'!$C$6)+IF(H18=\"\",0,H18)+IF(I18=\"\",0,I18)=0,\"\",IF(G18=\"\",0,G18/'Time constants'!$C$6)+IF(H18=\"\",0,H18)+IF(I18=\"\",0,I18))","v":{"$error":"#REF!"}},{"$error":"#REF!"},{"$f":"IF(C18=\"\",\"\",TEXT(C18,\"0\") &\", \" & TEXT(#REF!,\"0\") & \" \" & TEXT(D18,\"0.0\") & \" meV, \" & \"T=\" & TEXT(B18,\"0.00\") & \" K, \" &TEXT(G18,\"0.00\") & \"C\")","v":""}]
[null,null,null,null,null,null,null,{"$f":"IF(IF($B19>0,$B19-INDEX($B:$B,_xlfn.AGGREGATE(14,6,1/(LEN($B$1:INDEX(B:B,ROW()-1))>0)*ROW(B:B),1)),\"\")<>\"\",     ABS(IF($B19>0,$B19-INDEX($B:$B,_xlfn.AGGREGATE(14,6,1/(LEN($B$1:INDEX(B:B,ROW()-1))>0)*ROW(B:B),1)),\"\"))/'Time constants'!$C$8+IF(B19=B18,0,1)*'Time constants'!$C$7,\"\")","v":""},{"$f":"IF(OR(#REF!=\"High Resolution\",#REF!=\"High Flux\"),IF(#REF!=#REF!,0,1)*'Time constants'!#REF!+IF(D19=D18,0,1)*'Time constants'!$C$4,\"\")","v":{"$error":"#REF!"}},{"$f":"IF(IF(G19=\"\",0,G19/'Time constants'!$C$6)+IF(H19=\"\",0,H19)+IF(I19=\"\",0,I19)=0,\"\",IF(G19=\"\",0,G19/'Time constants'!$C$6)+IF(H19=\"\",0,H19)+IF(I19=\"\",0,I19))","v":{"$error":"#REF!"}},{"$f":"IF(J19=\"\",\"\",J19/60+K18)","v":{"$error":"#REF!"}},{"$f":"IF(C19=\"\",\"\",TEXT(C19,\"0\") &\", \" & TEXT(#REF!,\"0\") & \" \" & TEXT(D19,\"0.0\") & \" meV, \" & \"T=\" & TEXT(B19,\"0.00\") & \" K, \" &TEXT(G19,\"0.00\") & \"C\")","v":""}]
[null,null,null,null,null,null,null,{"$f":"IF(IF($B20>0,$B20-INDEX($B:$B,_xlfn.AGGREGATE(14,6,1/(LEN($B$1:INDEX(B:B,ROW()-1))>0)*ROW(B:B),1)),\"\")<>\"\",     ABS(IF($B20>0,$B20-INDEX($B:$B,_xlfn.AGGREGATE(14,6,1/(LEN($B$1:INDEX(B:B,ROW()-1))>0)*ROW(B:B),1)),\"\"))/'Time constants'!$C$8+IF(B20=B19,0,1)*'Time constants'!$C$7,\"\")","v":""},{"$f":"IF(OR(#REF!=\"High Resolution\",#REF!=\"High Flux\"),IF(#REF!=#REF!,0,1)*'Time constants'!#REF!+IF(D20=D19,0,1)*'Time constants'!$C$4,\"\")","v":{"$error":"#REF!"}},{"$f":"IF(IF(G20=\"\",0,G20/'Time constants'!$C$6)+IF(H20=\"\",0,H20)+IF(I20=\"\",0,I20)=0,\"\",IF(G20=\"\",0,G20/'Time constants'!$C$6)+IF(H20=\"\",0,H20)+IF(I20=\"\",0,I20))","v":{"$error":"#REF!"}},{"$error":"#REF!"},{"$f":"IF(C20=\"\",\"\",TEXT(C20,\"0\") &\", \" & TEXT(#REF!,\"0\") & \" \" & TEXT(D20,\"0.0\") & \" meV, \" & \"T=\" & TEXT(B20,\"0.00\") & \" K, \" &TEXT(G20,\"0.00\") & \"C\")","v":""}]
[null,null,null,null,null,null,null,{"$f":"IF(IF($B21>0,$B21-INDEX($B:$B,_xlfn.AGGREGATE(14,6,1/(LEN($B$1:INDEX(B:B,ROW()-1))>0)*ROW(B:B),1)),\"\")<>\"\",     ABS(IF($B21>0,$B21-INDEX($B:$B,_xlfn.AGGREGATE(14,6,1/(LEN($B$1:INDEX(B:B,ROW()-1))>0)*ROW(B:B),1)),\"\"))/'Time constants'!$C$8+IF(B21=B20,0,1)*'Time constants'!$C$7,\"\")","v":""},{"$f":"IF(OR(#REF!=\"High Resolution\",#REF!=\"High Flux\"),IF(#REF!=#REF!,0,1)*'Time constants'!#REF!+IF(D21=D20,0,1)*'Time constants'!$C$4,\"\")","v":{"$error":"#REF!"}},{"$f":"IF(IF(G21=\"\",0,G21/'Time constants'!$C$6)+IF(H21=\"\",0,H21)+IF(I21=\"\",0,I21)=0,\"\",IF(G21=\"\",0,G21/'Time constants'!$C$6)+IF(H21=\"\",0,H21)+IF(I21=\"\",0,I21))","v":{"$error":"#REF!"}},{"$error":"#REF!"},{"$f":"IF(C21=\"\",\"\",TEXT(C21,\"0\") &\", \" & TEXT(#REF!,\"0\") & \" \" & TEXT(D21,\"0.0\") & \" meV, \" & \"T=\" & TEXT(B21,\"0.00\") & \" K, \" &TEXT(G21,\"0.00\") & \"C\")","v":""}]
[null,null,null,null,null,null,null,{"$f":"IF(IF($B22>0,$B22-INDEX($B:$B,_xlfn.AGGREGATE(14,6,1/(LEN($B$1:INDEX(B:B,ROW()-1))>0)*ROW(B:B),1)),\"\")<>\"\",     ABS(IF($B22>0,$B22-INDEX($B:$B,_xlfn.AGGREGATE(14,6,1/(LEN($B$1:INDEX(B:B,ROW()-1))>0)*ROW(B:B),1)),\"\"))/'Time constants'!$C$8+IF(B22=B21,0,1)*'Time constants'!$C$7,\"\")","v":""},{"$f":"IF(OR(#REF!=\"High Resolution\",#REF!=\"High Flux\"),IF(#REF!=#REF!,0,1)*'Time constants'!#REF!+IF(D22=D21,0,1)*'Time constants'!$C$4,\"\")","v":{"$error":"#REF!"}},{"$f":"IF(IF(G22=\"\",0,G22/'Time constants'!$C$6)+IF(H22=\"\",0,H22)+IF(I22=\"\",0,I22)=0,\"\",IF(G22=\"\",0,G22/'Time constants'!$C$6)+IF(H22=\"\",0,H22)+IF(I22=\"\",0,I22))","v":{"$error":"#REF!"}},{"$error":"#REF!"},{"$f":"IF(C22=\"\",\"\",TEXT(C22,\"0\") &\", \" & TEXT(#REF!,\"0\") & \" \" & TEXT(D22,\"0.0\") & \" meV, \" & \"T=\" & TEXT(B22,\"0.00\") & \" K, \" &TEXT(G22,\"0.00\") & \"C\")","v":""}]
[null,null,null,null,null,null,null,{"$f":"IF(IF($B23>0,$B23-INDEX($B:$B,_xlfn.AGGREGATE(14,6,1/(LEN($B$1:INDEX(B:B,ROW()-1))>0)*ROW(B:B),1)),\"\")<>\"\",     ABS(IF($B23>0,$B23-INDEX($B:$B,_xlfn.AGGREGATE(14,6,1/(LEN($B$1:INDEX(B:B,ROW()-1))>0)*ROW(B:B),1)),\"\"))/'Time constants'!$C$8+IF(B23=B22,0,1)*'Time constants'!$C$7,\"\")","v":""},{"$f":"IF(OR(#REF!=\"High Resolution\",#REF!=\"High Flux\"),IF(#REF!=#REF!,0,1)*'Time constants'!#REF!+IF(D23=D22,0,1)*'Time constants'!$C$4,\"\")","v":{"$error":"#REF!"}},{"$f":"IF(IF(G23=\"\",0,G23/'Time constants'!$C$6)+IF(H23=\"\",0,H23)+IF(I23=\"\",0,I23)=0,\"\",IF(G23=\"\",0,G23/'Time constants'!$C$6)+IF(H23=\"\",0,H23)+IF(I23=\"\",0,I23))","v":{"$error":"#REF!"}},{"$error":"#REF!"},{"$f":"IF(C23=\"\",\"\",TEXT(C23,\"0\") &\", \" & TEXT(#REF!,\"0\") & \" \" & TEXT(D23,\"0.0\") & \" meV, \" & \"T=\" & TEXT(B23,\"0.00\") & \" K, \" &TEXT(G23,\"0.00\") & \"C\")","v":""}]
[null,null,null,null,null,null,null,{"$f":"IF(IF($B24>0,$B24-INDEX($B:$B,_xlfn.AGGREGATE(14,6,1/(LEN($B$1:INDEX(B:B,ROW()-1))>0)*ROW(B:B),1)),\"\")<>\"\",     ABS(IF($B24>0,$B24-INDEX($B:$B,_xlfn.AGGREGATE(14,6,1/(LEN($B$1:INDEX(B:B,ROW()-1))>0)*ROW(B:B),1)),\"\"))/'Time constants'!$C$8+IF(B24=B23,0,1)*'Time constants'!$C$7,\"\")","v":""},{"$f":"IF(OR(#REF!=\"High Resolution\",#REF!=\"High Flux\"),IF(#REF!=#REF!,0,1)*'Time constants'!#REF!+IF(D24=D23,0,1)*'Time constants'!$C$4,\"\")","v":{"$error":"#REF!"}},{"$f":"IF(IF(G24=\"\",0,G24/'Time constants'!$C$6)+IF(H24=\"\",0,H24)+IF(I24=\"\",0,I24)=0,\"\",IF(G24=\"\",0,G24/'Time constants'!$C$6)+IF(H24=\"\",0,H24)+IF(I24=\"\",0,I24))","v":{"$error":"#REF!"}},{"$error":"#REF!"},{"$f":"IF(C24=\"\",\"\",TEXT(C24,\"0\") &\", \" & TEXT(#REF!,\"0\") & \" \" & TEXT(D24,\"0.0\") & \" meV, \" & \"T=\" & TEXT(B24,\"0.00\") & \" K, \" &TEXT(G24,\"0.00\") & \"C\")","v":""}]
[null,null,null,null,null,null,null,{"$f":"IF(IF($B25>0,$B25-INDEX($B:$B,_xlfn.AGGREGATE(14,6,1/(LEN($B$1:INDEX(B:B,ROW()-1))>0)*ROW(B:B),1)),\"\")<>\"\",     ABS(IF($B25>0,$B25-INDEX($B:$B,_xlfn.AGGREGATE(14,6,1/(LEN($B$1:INDEX(B:B,ROW()-1))>0)*ROW(B:B),1)),\"\"))/'Time constants'!$C$8+IF(B25=B24,0,1)*'Time constants'!$C$7,\"\")","v":""},{"$f":"IF(OR(#REF!=\"High Resolution\",#REF!=\"High Flux\"),IF(#REF!=#REF!,0,1)*'Time constants'!#REF!+IF(D25=D24,0,1)*'Time constants'!$C$4,\"\")","v":{"$error":"#REF!"}},{"$f":"IF(IF(G25=\"\",0,G25/'Time constants'!$C$6)+IF(H25=\"\",0,H25)+IF(I25=\"\",0,I25)=0,\"\",IF(G25=\"\",0,G25/'Time constants'!$C$6)+IF(H25=\"\",0,H25)+IF(I25=\"\",0,I25))","v":{"$error":"#REF!"}},{"$error":"#REF!"},{"$f":"IF(C25=\"\",\"\",TEXT(C25,\"0\") &\", \" & TEXT(#REF!,\"0\") & \" \" & TEXT(D25,\"0.0\") & \" meV, \" & \"T=\" & TEXT(B25,\"0.00\") & \" K, \" &TEXT(G25,\"0.00\") & \"C\")","v":""}]
[null,null,null,null,null,null,null,{"$f":"IF(IF($B26>0,$B26-INDEX($B:$B,_xlfn.AGGREGATE(14,6,1/(LEN($B$1:INDEX(B:B,ROW()-1))>0)*ROW(B:B),1)),\"\")<>\"\",     ABS(IF($B26>0,$B26-INDEX($B:$B,_xlfn.AGGREGATE(14,6,1/(LEN($B$1:INDEX(B:B,ROW()-1))>0)*ROW(B:B),1)),\"\"))/'Time constants'!$C$8+IF(B26=B25,0,1)*'Time constants'!$C$7,\"\")","v":""},{"$f":"IF(OR(#REF!=\"High Resolution\",#REF!=\"High Flux\"),IF(#REF!=#REF!,0,1)*'Time constants'!#REF!+IF(D26=D25,0,1)*'Time constants'!$C$4,\"\")","v":{"$error":"#REF!"}},{"$f":"IF(IF(G26=\"\",0,G26/'Time constants'!$C$6)+IF(H26=\"\",0,H26)+IF(I26=\"\",0,I26)=0,\"\",IF(G26=\"\",0,G26/'Time constants'!$C$6)+IF(H26=\"\",0,H26)+IF(I26=\"\",0,I26))","v":{"$error":"#REF!"}},{"$error":"#REF!"},{"$f":"IF(C26=\"\",\"\",TEXT(C26,\"0\") &\", \" & TEXT(#REF!,\"0\") & \" \" & TEXT(D26,\"0.0\") & \" meV, \" & \"T=\" & TEXT(B26,\"0.00\") & \" K, \" &TEXT(G26,\"0.00\") & \"C\")","v":""}]
[null,null,null,null,null,null,null,{"$f":"IF(IF($B27>0,$B27-INDEX($B:$B,_xlfn.AGGREGATE(14,6,1/(LEN($B$1:INDEX(B:B,ROW()-1))>0)*ROW(B:B),1)),\"\")<>\"\",     ABS(IF($B27>0,$B27-INDEX($B:$B,_xlfn.AGGREGATE(14,6,1/(LEN($B$1:INDEX(B:B,ROW()-1))>0)*ROW(B:B),1)),\"\"))/'Time constants'!$C$8+IF(B27=B26,0,1)*'Time constants'!$C$7,\"\")","v":""},{"$f":"IF(OR(#REF!=\"High Resolution\",#REF!=\"High Flux\"),IF(#REF!=#REF!,0,1)*'Time constants'!#REF!+IF(D27=D26,0,1)*'Time constants'!$C$4,\"\")","v":{"$error":"#REF!"}},{"$f":"IF(IF(G27=\"\",0,G27/'Time constants'!$C$6)+IF(H27=\"\",0,H27)+IF(I27=\"\",0,I27)=0,\"\",IF(G27=\"\",0,G27/'Time constants'!$C$6)+IF(H27=\"\",0,H27)+IF(I27=\"\",0,I27))","v":{"$error":"#REF!"}},{"$error":"#REF!"},{"$f":"IF(C27=\"\",\"\",TEXT(C27,\"0\") &\", \" & TEXT(#REF!,\"0\") & \" \" & TEXT(D27,\"0.0\") & \" meV, \" & \"T=\" & TEXT(B27,\"0.00\") & \" K, \" &TEXT(G27,\"0.00\") & \"C\")","v":""}]
[null,null,null,null,null,null,null,{"$f":"IF(IF($B28>0,$B28-INDEX($B:$B,_xlfn.AGGREGATE(14,6,1/(LEN($B$1:INDEX(B:B,ROW()-1))>0)*ROW(B:B),1)),\"\")<>\"\",     ABS(IF($B28>0,$B28-INDEX($B:$B,_xlfn.AGGREGATE(14,6,1/(LEN($B$1:INDEX(B:B,ROW()-1))>0)*ROW(B:B),1)),\"\"))/'Time constants'!$C$8+IF(B28=B27,0,1)*'Time constants'!$C$7,\"\")","v":""},{"$f":"IF(OR(#REF!=\"High Resolution\",#REF!=\"High Flux\"),IF(#REF!=#REF!,0,1)*'Time constants'!#REF!+IF(D28=D27,0,1)*'Time constants'!$C$4,\"\")","v":{"$error":"#REF!"}},{"$f":"IF(IF(G28=\"\",0,G28/'Time constants'!$C$6)+IF(H28=\"\",0,H28)+IF(I28=\"\",0,I28)=0,\"\",IF(G28=\"\",0,G28/'Time constants'!$C$6)+IF(H28=\"\",0,H28)+IF(I28=\"\",0,I28))","v":{"$error":"#REF!"}},{"$error":"#REF!"},{"$f":"IF(C28=\"\",\"\",TEXT(C28,\"0\") &\", \" & TEXT(#REF!,\"0\") & \" \" & TEXT(D28,\"0.0\") & \" meV, \" & \"T=\" & TEXT(B28,\"0.00\") & \" K, \" &TEXT(G28,\"0.00\") & \"C\")","v":""}]
[null,null,null,null,null,null,null,{"$f":"IF(IF($B29>0,$B29-INDEX($B:$B,_xlfn.AGGREGATE(14,6,1/(LEN($B$1:INDEX(B:B,ROW()-1))>0)*ROW(B:B),1)),\"\")<>\"\",     ABS(IF($B29>0,$B29-INDEX($B:$B,_xlfn.AGGREGATE(14,6,1/(LEN($B$1:INDEX(B:B,ROW()-1))>0)*ROW(B:B),1)),\"\"))/'Time constants'!$C$8+IF(B29=B28,0,1)*'Time constants'!$C$7,\"\")","v":""},{"$f":"IF(OR(#REF!=\"High Resolution\",#REF!=\"High Flux\"),IF(#REF!=#REF!,0,1)*'Time constants'!#REF!+IF(D29=D28,0,1)*'Time constants'!$C$4,\"\")","v":{"$error":"#REF!"}},{"$f":"IF(IF(G29=\"\",0,G29/'Time constants'!$C$6)+IF(H29=\"\",0,H29)+IF(I29=\"\",0,I29)=0,\"\",IF(G29=\"\",0,G29/'Time constants'!$C$6)+IF(H29=\"\",0,H29)+IF(I29=\"\",0,I29))","v":{"$error":"#REF!"}},{"$error":"#REF!"},{"$f":"IF(C29=\"\",\"\",TEXT(C29,\"0\") &\", \" & TEXT(#REF!,\"0\") & \" \" & TEXT(D29,\"0.0\") & \" meV, \" & \"T=\" & TEXT(B29,\"0.00\") & \" K, \" &TEXT(G29,\"0.00\") & \"C\")","v":""}]
[null,null,null,null,null,null,null,{"$f":"IF(IF($B30>0,$B30-INDEX($B:$B,_xlfn.AGGREGATE(14,6,1/(LEN($B$1:INDEX(B:B,ROW()-1))>0)*ROW(B:B),1)),\"\")<>\"\",     ABS(IF($B30>0,$B30-INDEX($B:$B,_xlfn.AGGREGATE(14,6,1/(LEN($B$1:INDEX(B:B,ROW()-1))>0)*ROW(B:B),1)),\"\"))/'Time constants'!$C$8+IF(B30=B29,0,1)*'Time constants'!$C$7,\"\")","v":""},{"$f":"IF(OR(#REF!=\"High Resolution\",#REF!=\"High Flux\"),IF(#REF!=#REF!,0,1)*'Time constants'!#REF!+IF(D30=D29,0,1)*'Time constants'!$C$4,\"\")","v":{"$error":"#REF!"}},{"$f":"IF(IF(G30=\"\",0,G30/'Time constants'!$C$6)+IF(H30=\"\",0,H30)+IF(I30=\"\",0,I30)=0,\"\",IF(G30=\"\",0,G30/'Time constants'!$C$6)+IF(H30=\"\",0,H30)+IF(I30=\"\",0,I30))","v":{"$error":"#REF!"}},{"$error":"#REF!"},{"$f":"IF(C30=\"\",\"\",TEXT(C30,\"0\") &\", \" & TEXT(#REF!,\"0\") & \" \" & TEXT(D30,\"0.0\") & \" meV, \" & \"T=\" & TEXT(B30,\"0.00\") & \" K, \" &TEXT(G30,\"0.00\") & \"C\")","v":""}]
[null,null,null,null,null,null,null,{"$f":"IF(IF($B31>0,$B31-INDEX($B:$B,_xlfn.AGGREGATE(14,6,1/(LEN($B$1:INDEX(B:B,ROW()-1))>0)*ROW(B:B),1)),\"\")<>\"\",     ABS(IF($B31>0,$B31-INDEX($B:$B,_xlfn.AGGREGATE(14,6,1/(LEN($B$1:INDEX(B:B,ROW()-1))>0)*ROW(B:B),1)),\"\"))/'Time constants'!$C$8+IF(B31=B30,0,1)*'Time constants'!$C$7,\"\")","v":""},{"$f":"IF(OR(#REF!=\"High Resolution\",#REF!=\"High Flux\"),IF(#REF!=#REF!,0,1)*'Time constants'!#REF!+IF(D31=D30,0,1)*'Time constants'!$C$4,\"\")","v":{"$error":"#REF!"}},{"$f":"IF(IF(G31=\"\",0,G31/'Time constants'!$C$6)+IF(H31=\"\",0,H31)+IF(I31=\"\",0,I31)=0,\"\",IF(G31=\"\",0,G31/'Time constants'!$C$6)+IF(H31=\"\",0,H31)+IF(I31=\"\",0,I31))","v":{"$error":"#REF!"}},{"$error":"#REF!"},{"$f":"IF(C31=\"\",\"\",TEXT(C31,\"0\") &\", \" & TEXT(#REF!,\"0\") & \" \" & TEXT(D31,\"0.0\") & \" meV, \" & \"T=\" & TEXT(B31,\"0.00\") & \" K, \" &TEXT(G31,\"0.00\") & \"C\")","v":""}]
[null,null,null,null,null,null,null,{"$f":"IF(IF($B32>0,$B32-INDEX($B:$B,_xlfn.AGGREGATE(14,6,1/(LEN($B$1:INDEX(B:B,ROW()-1))>0)*ROW(B:B),1)),\"\")<>\"\",     ABS(IF($B32>0,$B32-INDEX($B:$B,_xlfn.AGGREGATE(14,6,1/(LEN($B$1:INDEX(B:B,ROW()-1))>0)*ROW(B:B),1)),\"\"))/'Time constants'!$C$8+IF(B32=B31,0,1)*'Time constants'!$C$7,\"\")","v":""},{"$f":"IF(OR(#REF!=\"High Resolution\",#REF!=\"High Flux\"),IF(#REF!=#REF!,0,1)*'Time constants'!#REF!+IF(D32=D31,0,1)*'Time constants'!$C$4,\"\")","v":{"$error":"#REF!"}},{"$f":"IF(IF(G32=\"\",0,G32/'Time constants'!$C$6)+IF(H32=\"\",0,H32)+IF(I32=\"\",0,I32)=0,\"\",IF(G32=\"\",0,G32/'Time constants'!$C$6)+IF(H32=\"\",0,H32)+IF(I32=\"\",0,I32))","v":{"$error":"#REF!"}},{"$error":"#REF!"},{"$f":"IF(C32=\"\",\"\",TEXT(C32,\"0\") &\", \" & TEXT(#REF!,\"0\") & \" \" & TEXT(D32,\"0.0\") & \" meV, \" & \"T=\" & TEXT(B32,\"0.00\") & \" K, \" &TEXT(G32,\"0.00\") & \"C\")","v":""}]
[null,null,null,null,null,null,null,{"$f":"IF(IF($B33>0,$B33-INDEX($B:$B,_xlfn.AGGREGATE(14,6,1/(LEN($B$1:INDEX(B:B,ROW()-1))>0)*ROW(B:B),1)),\"\")<>\"\",     ABS(IF($B33>0,$B33-INDEX($B:$B,_xlfn.AGGREGATE(14,6,1/(LEN($B$1:INDEX(B:B,ROW()-1))>0)*ROW(B:B),1)),\"\"))/'Time constants'!$C$8+IF(B33=B32,0,1)*'Time constants'!$C$7,\"\")","v":""},{"$f":"IF(OR(#REF!=\"High Resolution\",#REF!=\"High Flux\"),IF(#REF!=#REF!,0,1)*'Time constants'!#REF!+IF(D33=D32,0,1)*'Time constants'!$C$4,\"\")","v":{"$error":"#REF!"}},{"$f":"IF(IF(G33=\"\",0,G33/'Time constants'!$C$6)+IF(H33=\"\",0,H33)+IF(I33=\"\",0,I33)=0,\"\",IF(G33=\"\",0,G33/'Time constants'!$C$6)+IF(H33=\"\",0,H33)+IF(I33=\"\",0,I33))","v":{"$error":"#REF!"}},{"$error":"#REF!"},{"$f":"IF(C33=\"\",\"\",TEXT(C33,\"0\") &\", \" & TEXT(#REF!,\"0\") & \" \" & TEXT(D33,\"0.0\") & \" meV, \" & \"T=\" & TEXT(B33,\"0.00\") & \" K, \" &TEXT(G33,\"0.00\") & \"C\")","v":""}]
[null,null,null,null,null,null,null,{"$f":"IF(IF($B34>0,$B34-INDEX($B:$B,_xlfn.AGGREGATE(14,6,1/(LEN($B$1:INDEX(B:B,ROW()-1))>0)*ROW(B:B),1)),\"\")<>\"\",     ABS(IF($B34>0,$B34-INDEX($B:$B,_xlfn.AGGREGATE(14,6,1/(LEN($B$1:INDEX(B:B,ROW()-1))>0)*ROW(B:B),1)),\"\"))/'Time constants'!$C$8+IF(B34=B33,0,1)*'Time constants'!$C$7,\"\")","v":""},{"$f":"IF(OR(#REF!=\"High Resolution\",#REF!=\"High Flux\"),IF(#REF!=#REF!,0,1)*'Time constants'!#REF!+IF(D34=D33,0,1)*'Time constants'!$C$4,\"\")","v":{"$error":"#REF!"}},{"$f":"IF(IF(G34=\"\",0,G34/'Time constants'!$C$6)+IF(H34=\"\",0,H34)+IF(I34=\"\",0,I34)=0,\"\",IF(G34=\"\",0,G34/'Time constants'!$C$6)+IF(H34=\"\",0,H34)+IF(I34=\"\",0,I34))","v":{"$error":"#REF!"}},{"$error":"#REF!"},{"$f":"IF(C34=\"\",\"\",TEXT(C34,\"0\") &\", \" & TEXT(#REF!,\"0\") & \" \" & TEXT(D34,\"0.0\") & \" meV, \" & \"T=\" & TEXT(B34,\"0.00\") & \" K, \" &TEXT(G34,\"0.00\") & \"C\")","v":""}]
[null,null,null,null,null,null,null,{"$f":"IF(IF($B35>0,$B35-INDEX($B:$B,_xlfn.AGGREGATE(14,6,1/(LEN($B$1:INDEX(B:B,ROW()-1))>0)*ROW(B:B),1)),\"\")<>\"\",     ABS(IF($B35>0,$B35-INDEX($B:$B,_xlfn.AGGREGATE(14,6,1/(LEN($B$1:INDEX(B:B,ROW()-1))>0)*ROW(B:B),1)),\"\"))/'Time constants'!$C$8+IF(B35=B34,0,1)*'Time constants'!$C$7,\"\")","v":""},{"$f":"IF(OR(#REF!=\"High Resolution\",#REF!=\"High Flux\"),IF(#REF!=#REF!,0,1)*'Time constants'!#REF!+IF(D35=D34,0,1)*'Time constants'!$C$4,\"\")","v":{"$error":"#REF!"}},{"$f":"IF(IF(G35=\"\",0,G35/'Time constants'!$C$6)+IF(H35=\"\",0,H35)+IF(I35=\"\",0,I35)=0,\"\",IF(G35=\"\",0,G35/'Time constants'!$C$6)+IF(H35=\"\",0,H35)+IF(I35=\"\",0,I35))","v":{"$error":"#REF!"}},{"$error":"#REF!"},{"$f":"IF(C35=\"\",\"\",TEXT(C35,\"0\") &\", \" & TEXT(#REF!,\"0\") & \" \" & TEXT(D35,\"0.0\") & \" meV, \" & \"T=\" & TEXT(B35,\"0.00\") & \" K, \" &TEXT(G35,\"0.00\") & \"C\")","v":""}]
[null,null,null,null,null,null,null,{"$f":"IF(IF($B36>0,$B36-INDEX($B:$B,_xlfn.AGGREGATE(14,6,1/(LEN($B$1:INDEX(B:B,ROW()-1))>0)*ROW(B:B),1)),\"\")<>\"\",     ABS(IF($B36>0,$B36-INDEX($B:$B,_xlfn.AGGREGATE(14,6,1/(LEN($B$1:INDEX(B:B,ROW()-1))>0)*ROW(B:B),1)),\"\"))/'Time constants'!$C$8+IF(B36=B35,0,1)*'Time constants'!$C$7,\"\")","v":""},{"$f":"IF(OR(#REF!=\"High Resolution\",#REF!=\"High Flux\"),IF(#REF!=#REF!,0,1)*'Time constants'!#REF!+IF(D36=D35,0,1)*'Time constants'!$C$4,\"\")","v":{"$error":"#REF!"}},{"$f":"IF(IF(G36=\"\",0,G36/'Time constants'!$C$6)+IF(H36=\"\",0,H36)+IF(I36=\"\",0,I36)=0,\"\",IF(G36=\"\",0,G36/'Time constants'!$C$6)+IF(H36=\"\",0,H36)+IF(I36=\"\",0,I36))","v":{"$error":"#REF!"}},{"$error":"#REF!"},{"$f":"IF(C36=\"\",\"\",TEXT(C36,\"0\") &\", \" & TEXT(#REF!,\"0\") & \" \" & TEXT(D36,\"0.0\") & \" meV, \" & \"T=\" & TEXT(B36,\"0.00\") & \" K, \" &TEXT(G36,\"0.00\") & \"C\")","v":""}]
[null,null,null,null,null,null,null,{"$f":"IF(IF($B37>0,$B37-INDEX($B:$B,_xlfn.AGGREGATE(14,6,1/(LEN($B$1:INDEX(B:B,ROW()-1))>0)*ROW(B:B),1)),\"\")<>\"\",     ABS(IF($B37>0,$B37-INDEX($B:$B,_xlfn.AGGREGATE(14,6,1/(LEN($B$1:INDEX(B:B,ROW()-1))>0)*ROW(B:B),1)),\"\"))/'Time constants'!$C$8+IF(B37=B36,0,1)*'Time constants'!$C$7,\"\")","v":""},{"$f":"IF(OR(#REF!=\"High Resolution\",#REF!=\"High Flux\"),IF(#REF!=#REF!,0,1)*'Time constants'!#REF!+IF(D37=D36,0,1)*'Time constants'!$C$4,\"\")","v":{"$error":"#REF!"}},{"$f":"IF(IF(G37=\"\",0,G37/'Time constants'!$C$6)+IF(H37=\"\",0,H37)+IF(I37=\"\",0,I37)=0,\"\",IF(G37=\"\",0,G37/'Time constants'!$C$6)+IF(H37=\"\",0,H37)+IF(I37=\"\",0,I37))","v":{"$error":"#REF!"}},{"$error":"#REF!"},{"$f":"IF(C37=\"\",\"\",TEXT(C37,\"0\") &\", \" & TEXT(#REF!,\"0\") & \" \" & TEXT(D37,\"0.0\") & \" meV, \" & \"T=\" & TEXT(B37,\"0.00\") & \" K, \" &TEXT(G37,\"0.00\") & \"C\")","v":""}]
[null,null,null,null,null,null,null,{"$f":"IF(IF($B38>0,$B38-INDEX($B:$B,_xlfn.AGGREGATE(14,6,1/(LEN($B$1:INDEX(B:B,ROW()-1))>0)*ROW(B:B),1)),\"\")<>\"\",     ABS(IF($B38>0,$B38-INDEX($B:$B,_xlfn.AGGREGATE(14,6,1/(LEN($B$1:INDEX(B:B,ROW()-1))>0)*ROW(B:B),1)),\"\"))/'Time constants'!$C$8+IF(B38=B37,0,1)*'Time constants'!$C$7,\"\")","v":""},{"$f":"IF(OR(#REF!=\"High Resolution\",#REF!=\"High Flux\"),IF(#REF!=#REF!,0,1)*'Time constants'!#REF!+IF(D38=D37,0,1)*'Time constants'!$C$4,\"\")","v":{"$error":"#REF!"}},{"$f":"IF(IF(G38=\"\",0,G38/'Time constants'!$C$6)+IF(H38=\"\",0,H38)+IF(I38=\"\",0,I38)=0,\"\",IF(G38=\"\",0,G38/'Time constants'!$C$6)+IF(H38=\"\",0,H38)+IF(I38=\"\",0,I38))","v":{"$error":"#REF!"}},{"$error":"#REF!"},{"$f":"IF(C38=\"\",\"\",TEXT(C38,\"0\") &\", \" & TEXT(#REF!,\"0\") & \" \" & TEXT(D38,\"0.0\") & \" meV, \" & \"T=\" & TEXT(B38,\"0.00\") & \" K, \" &TEXT(G38,\"0.00\") & \"C\")","v":""}]
[null,null,null,null,null,null,null,{"$f":"IF(IF($B39>0,$B39-INDEX($B:$B,_xlfn.AGGREGATE(14,6,1/(LEN($B$1:INDEX(B:B,ROW()-1))>0)*ROW(B:B),1)),\"\")<>\"\",     ABS(IF($B39>0,$B39-INDEX($B:$B,_xlfn.AGGREGATE(14,6,1/(LEN($B$1:INDEX(B:B,ROW()-1))>0)*ROW(B:B),1)),\"\"))/'Time constants'!$C$8+IF(B39=B38,0,1)*'Time constants'!$C$7,\"\")","v":""},{"$f":"IF(OR(#REF!=\"High Resolution\",#REF!=\"High Flux\"),IF(#REF!=#REF!,0,1)*'Time constants'!#REF!+IF(D39=D38,0,1)*'Time constants'!$C$4,\"\")","v":{"$error":"#REF!"}},{"$f":"IF(IF(G39=\"\",0,G39/'Time constants'!$C$6)+IF(H39=\"\",0,H39)+IF(I39=\"\",0,I39)=0,\"\",IF(G39=\"\",0,G39/'Time constants'!$C$6)+IF(H39=\"\",0,H39)+IF(I39=\"\",0,I39))","v":{"$error":"#REF!"}},{"$error":"#REF!"},{"$f":"IF(C39=\"\",\"\",TEXT(C39,\"0\") &\", \" & TEXT(#REF!,\"0\") & \" \" & TEXT(D39,\"0.0\") & \" meV, \" & \"T=\" & TEXT(B39,\"0.00\") & \" K, \" &TEXT(G39,\"0.00\") & \"C\")","v":""}]
[null,null,null,null,null,null,null,{"$f":"IF(IF($B40>0,$B40-INDEX($B:$B,_xlfn.AGGREGATE(14,6,1/(LEN($B$1:INDEX(B:B,ROW()-1))>0)*ROW(B:B),1)),\"\")<>\"\",     ABS(IF($B40>0,$B40-INDEX($B:$B,_xlfn.AGGREGATE(14,6,1/(LEN($B$1:INDEX(B:B,ROW()-1))>0)*ROW(B:B),1)),\"\"))/'Time constants'!$C$8+IF(B40=B39,0,1)*'Time constants'!$C$7,\"\")","v":""},{"$f":"IF(OR(#REF!=\"High Resolution\",#REF!=\"High Flux\"),IF(#REF!=#REF!,0,1)*'Time constants'!#REF!+IF(D40=D39,0,1)*'Time constants'!$C$4,\"\")","v":{"$error":"#REF!"}},{"$f":"IF(IF(G40=\"\",0,G40/'Time constants'!$C$6)+IF(H40=\"\",0,H40)+IF(I40=\"\",0,I40)=0,\"\",IF(G40=\"\",0,G40/'Time constants'!$C$6)+IF(H40=\"\",0,H40)+IF(I40=\"\",0,I40))","v":{"$error":"#REF!"}},{"$error":"#REF!"},{"$f":"IF(C40=\"\",\"\",TEXT(C40,\"0\") &\", \" & TEXT(#REF!,\"0\") & \" \" & TEXT(D40,\"0.0\") & \" meV, \" & \"T=\" & TEXT(B40,\"0.00\") & \" K, \" &TEXT(G40,\"0.00\") & \"C\")","v":""}]
[null,null,null,null,null,null,null,{"$f":"IF(IF($B41>0,$B41-INDEX($B:$B,_xlfn.AGGREGATE(14,6,1/(LEN($B$1:INDEX(B:B,ROW()-1))>0)*ROW(B:B),1)),\"\")<>\"\",     ABS(IF($B41>0,$B41-INDEX($B:$B,_xlfn.AGGREGATE(14,6,1/(LEN($B$1:INDEX(B:B,ROW()-1))>0)*ROW(B:B),1)),\"\"))/'Time constants'!$C$8+IF(B41=B40,0,1)*'Time constants'!$C$7,\"\")","v":""},{"$f":"IF(OR(#REF!=\"High Resolution\",#REF!=\"High Flux\"),IF(#REF!=#REF!,0,1)*'Time constants'!#REF!+IF(D41=D40,0,1)*'Time constants'!$C$4,\"\")","v":{"$error":"#REF!"}},{"$f":"IF(IF(G41=\"\",0,G41/'Time constants'!$C$6)+IF(H41=\"\",0,H41)+IF(I41=\"\",0,I41)=0,\"\",IF(G41=\"\",0,G41/'Time constants'!$C$6)+IF(H41=\"\",0,H41)+IF(I41=\"\",0,I41))","v":{"$error":"#REF!"}},{"$error":"#REF!"},{"$f":"IF(C41=\"\",\"\",TEXT(C41,\"0\") &\", \" & TEXT(#REF!,\"0\") & \" \" & TEXT(D41,\"0.0\") & \" meV, \" & \"T=\" & TEXT(B41,\"0.00\") & \" K, \" &TEXT(G41,\"0.00\") & \"C\")","v":""}]
[null,null,null,null,null,null,null,{"$f":"IF(IF($B42>0,$B42-INDEX($B:$B,_xlfn.AGGREGATE(14,6,1/(LEN($B$1:INDEX(B:B,ROW()-1))>0)*ROW(B:B),1)),\"\")<>\"\",     ABS(IF($B42>0,$B42-INDEX($B:$B,_xlfn.AGGREGATE(14,6,1/(LEN($B$1:INDEX(B:B,ROW()-1))>0)*ROW(B:B),1)),\"\"))/'Time constants'!$C$8+IF(B42=B41,0,1)*'Time constants'!$C$7,\"\")","v":""},{"$f":"IF(OR(#REF!=\"High Resolution\",#REF!=\"High Flux\"),IF(#REF!=#REF!,0,1)*'Time constants'!#REF!+IF(D42=D41,0,1)*'Time constants'!$C$4,\"\")","v":{"$error":"#REF!"}},{"$f":"IF(IF(G42=\"\",0,G42/'Time constants'!$C$6)+IF(H42=\"\",0,H42)+IF(I42=\"\",0,I42)=0,\"\",IF(G42=\"\",0,G42/'Time constants'!$C$6)+IF(H42=\"\",0,H42)+IF(I42=\"\",0,I42))","v":{"$error":"#REF!"}},{"$error":"#REF!"},{"$f":"IF(C42=\"\",\"\",TEXT(C42,\"0\") &\", \" & TEXT(#REF!,\"0\") & \" \" & TEXT(D42,\"0.0\") & \" meV, \" & \"T=\" & TEXT(B42,\"0.00\") & \" K, \" &TEXT(G42,\"0.00\") & \"C\")","v":""}]
[null,null,null,null,null,null,null,{"$f":"IF(IF($B43>0,$B43-INDEX($B:$B,_xlfn.AGGREGATE(14,6,1/(LEN($B$1:INDEX(B:B,ROW()-1))>0)*ROW(B:B),1)),\"\")<>\"\",     ABS(IF($B43>0,$B43-INDEX($B:$B,_xlfn.AGGREGATE(14,6,1/(LEN($B$1:INDEX(B:B,ROW()-1))>0)*ROW(B:B),1)),\"\"))/'Time constants'!$C$8+IF(B43=B42,0,1)*'Time constants'!$C$7,\"\")","v":""},{"$f":"IF(OR(#REF!=\"High Resolution\",#REF!=\"High Flux\"),IF(#REF!=#REF!,0,1)*'Time constants'!#REF!+IF(D43=D42,0,1)*'Time constants'!$C$4,\"\")","v":{"$error":"#REF!"}},{"$f":"IF(IF(G43=\"\",0,G43/'Time constants'!$C$6)+IF(H43=\"\",0,H43)+IF(I43=\"\",0,I43)=0,\"\",IF(G43=\"\",0,G43/'Time constants'!$C$6)+IF(H43=\"\",0,H43)+IF(I43=\"\",0,I43))","v":{"$error":"#REF!"}},{"$error":"#REF!"},{"$f":"IF(C43=\"\",\"\",TEXT(C43,\"0\") &\", \" & TEXT(#REF!,\"0\") & \" \" & TEXT(D43,\"0.0\") & \" meV, \" & \"T=\" & TEXT(B43,\"0.00\") & \" K, \" &TEXT(G43,\"0.00\") & \"C\")","v":""}]
[null,null,null,null,null,null,null,{"$f":"IF(IF($B44>0,$B44-INDEX($B:$B,_xlfn.AGGREGATE(14,6,1/(LEN($B$1:INDEX(B:B,ROW()-1))>0)*ROW(B:B),1)),\"\")<>\"\",     ABS(IF($B44>0,$B44-INDEX($B:$B,_xlfn.AGGREGATE(14,6,1/(LEN($B$1:INDEX(B:B,ROW()-1))>0)*ROW(B:B),1)),\"\"))/'Time constants'!$C$8+IF(B44=B43,0,1)*'Time constants'!$C$7,\"\")","v":""},{"$f":"IF(OR(#REF!=\"High Resolution\",#REF!=\"High Flux\"),IF(#REF!=#REF!,0,1)*'Time constants'!#REF!+IF(D44=D43,0,1)*'Time constants'!$C$4,\"\")","v":{"$error":"#REF!"}},{"$f":"IF(IF(G44=\"\",0,G44/'Time constants'!$C$6)+IF(H44=\"\",0,H44)+IF(I44=\"\",0,I44)=0,\"\",IF(G44=\"\",0,G44/'Time constants'!$C$6)+IF(H44=\"\",0,H44)+IF(I44=\"\",0,I44))","v":{"$error":"#REF!"}},{"$error":"#REF!"},{"$f":"IF(C44=\"\",\"\",TEXT(C44,\"0\") &\", \" & TEXT(#REF!,\"0\") & \" \" & TEXT(D44,\"0.0\") & \" meV, \" & \"T=\" & TEXT(B44,\"0.00\") & \" K, \" &TEXT(G44,\"0.00\") & \"C\")","v":""}]
[null,null,null,null,null,null,null,{"$f":"IF(IF($B45>0,$B45-INDEX($B:$B,_xlfn.AGGREGATE(14,6,1/(LEN($B$1:INDEX(B:B,ROW()-1))>0)*ROW(B:B),1)),\"\")<>\"\",     ABS(IF($B45>0,$B45-INDEX($B:$B,_xlfn.AGGREGATE(14,6,1/(LEN($B$1:INDEX(B:B,ROW()-1))>0)*ROW(B:B),1)),\"\"))/'Time constants'!$C$8+IF(B45=B44,0,1)*'Time constants'!$C$7,\"\")","v":""},{"$f":"IF(OR(#REF!=\"High Resolution\",#REF!=\"High Flux\"),IF(#REF!=#REF!,0,1)*'Time constants'!#REF!+IF(D45=D44,0,1)*'Time constants'!$C$4,\"\")","v":{"$error":"#REF!"}},{"$f":"IF(IF(G45=\"\",0,G45/'Time constants'!$C$6)+IF(H45=\"\",0,H45)+IF(I45=\"\",0,I45)=0,\"\",IF(G45=\"\",0,G45/'Time constants'!$C$6)+IF(H45=\"\",0,H45)+IF(I45=\"\",0,I45))","v":{"$error":"#REF!"}},{"$error":"#REF!"},{"$f":"IF(C45=\"\",\"\",TEXT(C45,\"0\") &\", \" & TEXT(#REF!,\"0\") & \" \" & TEXT(D45,\"0.0\") & \" meV, \" & \"T=\" & TEXT(B45,\"0.00\") & \" K, \" &TEXT(G45,\"0.00\") & \"C\")","v":""}]
[null,null,null,null,null,null,null,{"$f":"IF(IF($B46>0,$B46-INDEX($B:$B,_xlfn.AGGREGATE(14,6,1/(LEN($B$1:INDEX(B:B,ROW()-1))>0)*ROW(B:B),1)),\"\")<>\"\",     ABS(IF($B46>0,$B46-INDEX($B:$B,_xlfn.AGGREGATE(14,6,1/(LEN($B$1:INDEX(B:B,ROW()-1))>0)*ROW(B:B),1)),\"\"))/'Time constants'!$C$8+IF(B46=B45,0,1)*'Time constants'!$C$7,\"\")","v":""},{"$f":"IF(OR(#REF!=\"High Resolution\",#REF!=\"High Flux\"),IF(#REF!=#REF!,0,1)*'Time constants'!#REF!+IF(D46=D45,0,1)*'Time constants'!$C$4,\"\")","v":{"$error":"#REF!"}},{"$f":"IF(IF(G46=\"\",0,G46/'Time constants'!$C$6)+IF(H46=\"\",0,H46)+IF(I46=\"\",0,I46)=0,\"\",IF(G46=\"\",0,G46/'Time constants'!$C$6)+IF(H46=\"\",0,H46)+IF(I46=\"\",0,I46))","v":{"$error":"#REF!"}},{"$error":"#REF!"},{"$f":"IF(C46=\"\",\"\",TEXT(C46,\"0\") &\", \" & TEXT(#REF!,\"0\") & \" \" & TEXT(D46,\"0.0\") & \" meV, \" & \"T=\" & TEXT(B46,\"0.00\") & \" K, \" &TEXT(G46,\"0.00\") & \"C\")","v":""}]
[null,null,null,null,null,null,null,{"$f":"IF(IF($B47>0,$B47-INDEX($B:$B,_xlfn.AGGREGATE(14,6,1/(LEN($B$1:INDEX(B:B,ROW()-1))>0)*ROW(B:B),1)),\"\")<>\"\",     ABS(IF($B47>0,$B47-INDEX($B:$B,_xlfn.AGGREGATE(14,6,1/(LEN($B$1:INDEX(B:B,ROW()-1))>0)*ROW(B:B),1)),\"\"))/'Time constants'!$C$8+IF(B47=B46,0,1)*'Time constants'!$C$7,\"\")","v":""},{"$f":"IF(OR(#REF!=\"High Resolution\",#REF!=\"High Flux\"),IF(#REF!=#REF!,0,1)*'Time constants'!#REF!+IF(D47=D46,0,1)*'Time constants'!$C$4,\"\")","v":{"$error":"#REF!"}},{"$f":"IF(IF(G47=\"\",0,G47/'Time constants'!$C$6)+IF(H47=\"\",0,H47)+IF(I47=\"\",0,I47)=0,\"\",IF(G47=\"\",0,G47/'Time constants'!$C$6)+IF(H47=\"\",0,H47)+IF(I47=\"\",0,I47))","v":{"$error":"#REF!"}},{"$error":"#REF!"},{"$f":"IF(C47=\"\",\"\",TEXT(C47,\"0\") &\", \" & TEXT(#REF!,\"0\") & \" \" & TEXT(D47,\"0.0\") & \" meV, \" & \"T=\" & TEXT(B47,\"0.00\") & \" K, \" &TEXT(G47,\"0.00\") & \"C\")","v":""}]
[null,null,null,null,null,null,null,{"$f":"IF(IF($B48>0,$B48-INDEX($B:$B,_xlfn.AGGREGATE(14,6,1/(LEN($B$1:INDEX(B:B,ROW()-1))>0)*ROW(B:B),1)),\"\")<>\"\",     ABS(IF($B48>0,$B48-INDEX($B:$B,_xlfn.AGGREGATE(14,6,1/(LEN($B$1:INDEX(B:B,ROW()-1))>0)*ROW(B:B),1)),\"\"))/'Time constants'!$C$8+IF(B48=B47,0,1)*'Time constants'!$C$7,\"\")","v":""},{"$f":"IF(OR(#REF!=\"High Resolution\",#REF!=\"High Flux\"),IF(#REF!=#REF!,0,1)*'Time constants'!#REF!+IF(D48=D47,0,1)*'Time constants'!$C$4,\"\")","v":{"$error":"#REF!"}},{"$f":"IF(IF(G48=\"\",0,G48/'Time constants'!$C$6)+IF(H48=\"\",0,H48)+IF(I48=\"\",0,I48)=0,\"\",IF(G48=\"\",0,G48/'Time constants'!$C$6)+IF(H48=\"\",0,H48)+IF(I48=\"\",0,I48))","v":{"$error":"#REF!"}},{"$error":"#REF!"},{"$f":"IF(C48=\"\",\"\",TEXT(C48,\"0\") &\", \" & TEXT(#REF!,\"0\") & \" \" & TEXT(D48,\"0.0\") & \" meV, \" & \"T=\" & TEXT(B48,\"0.00\") & \" K, \" &TEXT(G48,\"0.00\") & \"C\")","v":""}]
[null,null,null,null,null,null,null,{"$f":"IF(IF($B49>0,$B49-INDEX($B:$B,_xlfn.AGGREGATE(14,6,1/(LEN($B$1:INDEX(B:B,ROW()-1))>0)*ROW(B:B),1)),\"\")<>\"\",     ABS(IF($B49>0,$B49-INDEX($B:$B,_xlfn.AGGREGATE(14,6,1/(LEN($B$1:INDEX(B:B,ROW()-1))>0)*ROW(B:B),1)),\"\"))/'Time constants'!$C$8+IF(B49=B48,0,1)*'Time constants'!$C$7,\"\")","v":""},{"$f":"IF(OR(#REF!=\"High Resolution\",#REF!=\"High Flux\"),IF(#REF!=#REF!,0,1)*'Time constants'!#REF!+IF(D49=D48,0,1)*'Time constants'!$C$4,\"\")","v":{"$error":"#REF!"}},{"$f":"IF(IF(G49=\"\",0,G49/'Time constants'!$C$6)+IF(H49=\"\",0,H49)+IF(I49=\"\",0,I49)=0,\"\",IF(G49=\"\",0,G49/'Time constants'!$C$6)+IF(H49=\"\",0,H49)+IF(I49=\"\",0,I49))","v":{"$error":"#REF!"}},{"$error":"#REF!"},{"$f":"IF(C49=\"\",\"\",TEXT(C49,\"0\") &\", \" & TEXT(#REF!,\"0\") & \" \" & TEXT(D49,\"0.0\") & \" meV, \" & \"T=\" & TEXT(B49,\"0.00\") & \" K, \" &TEXT(G49,\"0.00\") & \"C\")","v":""}]
[null,null,null,null,null,null,null,{"$f":"IF(IF($B50>0,$B50-INDEX($B:$B,_xlfn.AGGREGATE(14,6,1/(LEN($B$1:INDEX(B:B,ROW()-1))>0)*ROW(B:B),1)),\"\")<>\"\",     ABS(IF($B50>0,$B50-INDEX($B:$B,_xlfn.AGGREGATE(14,6,1/(LEN($B$1:INDEX(B:B,ROW()-1))>0)*ROW(B:B),1)),\"\"))/'Time constants'!$C$8+IF(B50=B49,0,1)*'Time constants'!$C$7,\"\")","v":""},{"$f":"IF(OR(#REF!=\"High Resolution\",#REF!=\"High Flux\"),IF(#REF!=#REF!,0,1)*'Time constants'!#REF!+IF(D50=D49,0,1)*'Time constants'!$C$4,\"\")","v":{"$error":"#REF!"}},{"$f":"IF(IF(G50=\"\",0,G50/'Time constants'!$C$6)+IF(H50=\"\",0,H50)+IF(I50=\"\",0,I50)=0,\"\",IF(G50=\"\",0,G50/'Time constants'!$C$6)+IF(H50=\"\",0,H50)+IF(I50=\"\",0,I50))","v":{"$error":"#REF!"}},{"$error":"#REF!"},{"$f":"IF(C50=\"\",\"\",TEXT(C50,\"0\") &\", \" & TEXT(#REF!,\"0\") & \" \" & TEXT(D50,\"0.0\") & \" meV, \" & \"T=\" & TEXT(B50,\"0.00\") & \" K, \" &TEXT(G50,\"0.00\") & \"C\")","v":""}]
[null,null,null,null,null,null,null,{"$f":"IF(IF($B51>0,$B51-INDEX($B:$B,_xlfn.AGGREGATE(14,6,1/(LEN($B$1:INDEX(B:B,ROW()-1))>0)*ROW(B:B),1)),\"\")<>\"\",     ABS(IF($B51>0,$B51-INDEX($B:$B,_xlfn.AGGREGATE(14,6,1/(LEN($B$1:INDEX(B:B,ROW()-1))>0)*ROW(B:B),1)),\"\"))/'Time constants'!$C$8+IF(B51=B50,0,1)*'Time constants'!$C$7,\"\")","v":""},{"$f":"IF(OR(#REF!=\"High Resolution\",#REF!=\"High Flux\"),IF(#REF!=#REF!,0,1)*'Time constants'!#REF!+IF(D51=D50,0,1)*'Time constants'!$C$4,\"\")","v":{"$error":"#REF!"}},{"$f":"IF(IF(G51=\"\",0,G51/'Time constants'!$C$6)+IF(H51=\"\",0,H51)+IF(I51=\"\",0,I51)=0,\"\",IF(G51=\"\",0,G51/'Time constants'!$C$6)+IF(H51=\"\",0,H51)+IF(I51=\"\",0,I51))","v":{"$error":"#REF!"}},{"$error":"#REF!"},{"$f":"IF(C51=\"\",\"\",TEXT(C51,\"0\") &\", \" & TEXT(#REF!,\"0\") & \" \" & TEXT(D51,\"0.0\") & \" meV, \" & \"T=\" & TEXT(B51,\"0.00\") & \" K, \" &TEXT(G51,\"0.00\") & \"C\")","v":""}]
[null,null,null,null,null,null,null,{"$f":"IF(IF($B52>0,$B52-INDEX($B:$B,_xlfn.AGGREGATE(14,6,1/(LEN($B$1:INDEX(B:B,ROW()-1))>0)*ROW(B:B),1)),\"\")<>\"\",     ABS(IF($B52>0,$B52-INDEX($B:$B,_xlfn.AGGREGATE(14,6,1/(LEN($B$1:INDEX(B:B,ROW()-1))>0)*ROW(B:B),1)),\"\"))/'Time constants'!$C$8+IF(B52=B51,0,1)*'Time constants'!$C$7,\"\")","v":""},{"$f":"IF(OR(#REF!=\"High Resolution\",#REF!=\"High Flux\"),IF(#REF!=#REF!,0,1)*'Time constants'!#REF!+IF(D52=D51,0,1)*'Time constants'!$C$4,\"\")","v":{"$error":"#REF!"}},{"$f":"IF(IF(G52=\"\",0,G52/'Time constants'!$C$6)+IF(H52=\"\",0,H52)+IF(I52=\"\",0,I52)=0,\"\",IF(G52=\"\",0,G52/'Time constants'!$C$6)+IF(H52=\"\",0,H52)+IF(I52=\"\",0,I52))","v":{"$error":"#REF!"}},{"$error":"#REF!"},{"$f":"IF(C52=\"\",\"\",TEXT(C52,\"0\") &\", \" & TEXT(#REF!,\"0\") & \" \" & TEXT(D52,\"0.0\") & \" meV, \" & \"T=\" & TEXT(B52,\"0.00\") & \" K, \" &TEXT(G52,\"0.00\") & \"C\")","v":""}]
[null,null,null,null,null,null,null,{"$f":"IF(IF($B53>0,$B53-INDEX($B:$B,_xlfn.AGGREGATE(14,6,1/(LEN($B$1:INDEX(B:B,ROW()-1))>0)*ROW(B:B),1)),\"\")<>\"\",     ABS(IF($B53>0,$B53-INDEX($B:$B,_xlfn.AGGREGATE(14,6,1/(LEN($B$1:INDEX(B:B,ROW()-1))>0)*ROW(B:B),1)),\"\"))/'Time constants'!$C$8+IF(B53=B52,0,1)*'Time constants'!$C$7,\"\")","v":""},{"$f":"IF(OR(#REF!=\"High Resolution\",#REF!=\"High Flux\"),IF(#REF!=#REF!,0,1)*'Time constants'!#REF!+IF(D53=D52,0,1)*'Time constants'!$C$4,\"\")","v":{"$error":"#REF!"}},{"$f":"IF(IF(G53=\"\",0,G53/'Time constants'!$C$6)+IF(H53=\"\",0,H53)+IF(I53=\"\",0,I53)=0,\"\",IF(G53=\"\",0,G53/'Time constants'!$C$6)+IF(H53=\"\",0,H53)+IF(I53=\"\",0,I53))","v":{"$error":"#REF!"}},{"$error":"#REF!"},{"$f":"IF(C53=\"\",\"\",TEXT(C53,\"0\") &\", \" & TEXT(#REF!,\"0\") & \" \" & TEXT(D53,\"0.0\") & \" meV, \" & \"T=\" & TEXT(B53,\"0.00\") & \" K, \" &TEXT(G53,\"0.00\") & \"C\")","v":""}]
[null,null,null,null,null,null,null,{"$f":"IF(IF($B54>0,$B54-INDEX($B:$B,_xlfn.AGGREGATE(14,6,1/(LEN($B$1:INDEX(B:B,ROW()-1))>0)*ROW(B:B),1)),\"\")<>\"\",     ABS(IF($B54>0,$B54-INDEX($B:$B,_xlfn.AGGREGATE(14,6,1/(LEN($B$1:INDEX(B:B,ROW()-1))>0)*ROW(B:B),1)),\"\"))/'Time constants'!$C$8+IF(B54=B53,0,1)*'Time constants'!$C$7,\"\")","v":""},{"$f":"IF(OR(#REF!=\"High Resolution\",#REF!=\"High Flux\"),IF(#REF!=#REF!,0,1)*'Time constants'!#REF!+IF(D54=D53,0,1)*'Time constants'!$C$4,\"\")","v":{"$error":"#REF!"}},{"$f":"IF(IF(G54=\"\",0,G54/'Time constants'!$C$6)+IF(H54=\"\",0,H54)+IF(I54=\"\",0,I54)=0,\"\",IF(G54=\"\",0,G54/'Time constants'!$C$6)+IF(H54=\"\",0,H54)+IF(I54=\"\",0,I54))","v":{"$error":"#REF!"}},{"$error":"#REF!"},{"$f":"IF(C54=\"\",\"\",TEXT(C54,\"0\") &\", \" & TEXT(#REF!,\"0\") & \" \" & TEXT(D54,\"0.0\") & \" meV, \" & \"T=\" & TEXT(B54,\"0.00\") & \" K, \" &TEXT(G54,\"0.00\") & \"C\")","v":""}]
[null,null,null,null,null,null,null,{"$f":"IF(IF($B55>0,$B55-INDEX($B:$B,_xlfn.AGGREGATE(14,6,1/(LEN($B$1:INDEX(B:B,ROW()-1))>0)*ROW(B:B),1)),\"\")<>\"\",     ABS(IF($B55>0,$B55-INDEX($B:$B,_xlfn.AGGREGATE(14,6,1/(LEN($B$1:INDEX(B:B,ROW()-1))>0)*ROW(B:B),1)),\"\"))/'Time constants'!$C$8+IF(B55=B54,0,1)*'Time constants'!$C$7,\"\")","v":""},{"$f":"IF(OR(#REF!=\"High Resolution\",#REF!=\"High Flux\"),IF(#REF!=#REF!,0,1)*'Time constants'!#REF!+IF(D55=D54,0,1)*'Time constants'!$C$4,\"\")","v":{"$error":"#REF!"}},{"$f":"IF(IF(G55=\"\",0,G55/'Time constants'!$C$6)+IF(H55=\"\",0,H55)+IF(I55=\"\",0,I55)=0,\"\",IF(G55=\"\",0,G55/'Time constants'!$C$6)+IF(H55=\"\",0,H55)+IF(I55=\"\",0,I55))","v":{"$error":"#REF!"}},{"$error":"#REF!"},{"$f":"IF(C55=\"\",\"\",TEXT(C55,\"0\") &\", \" & TEXT(#REF!,\"0\") & \" \" & TEXT(D55,\"0.0\") & \" meV, \" & \"T=\" & TEXT(B55,\"0.00\") & \" K, \" &TEXT(G55,\"0.00\") & \"C\")","v":""}]
[null,null,null,null,null,null,null,{"$f":"IF(IF($B56>0,$B56-INDEX($B:$B,_xlfn.AGGREGATE(14,6,1/(LEN($B$1:INDEX(B:B,ROW()-1))>0)*ROW(B:B),1)),\"\")<>\"\",     ABS(IF($B56>0,$B56-INDEX($B:$B,_xlfn.AGGREGATE(14,6,1/(LEN($B$1:INDEX(B:B,ROW()-1))>0)*ROW(B:B),1)),\"\"))/'Time constants'!$C$8+IF(B56=B55,0,1)*'Time constants'!$C$7,\"\")","v":""},{"$f":"IF(OR(#REF!=\"High Resolution\",#REF!=\"High Flux\"),IF(#REF!=#REF!,0,1)*'Time constants'!#REF!+IF(D56=D55,0,1)*'Time constants'!$C$4,\"\")","v":{"$error":"#REF!"}},{"$f":"IF(IF(G56=\"\",0,G56/'Time constants'!$C$6)+IF(H56=\"\",0,H56)+IF(I56=\"\",0,I56)=0,\"\",IF(G56=\"\",0,G56/'Time constants'!$C$6)+IF(H56=\"\",0,H56)+IF(I56=\"\",0,I56))","v":{"$error":"#REF!"}},{"$error":"#REF!"},{"$f":"IF(C56=\"\",\"\",TEXT(C56,\"0\") &\", \" & TEXT(#REF!,\"0\") & \" \" & TEXT(D56,\"0.0\") & \" meV, \" & \"T=\" & TEXT(B56,\"0.00\") & \" K, \" &TEXT(G56,\"0.00\") & \"C\")","v":""}]
[null,null,null,null,null,null,null,{"$f":"IF(IF($B57>0,$B57-INDEX($B:$B,_xlfn.AGGREGATE(14,6,1/(LEN($B$1:INDEX(B:B,ROW()-1))>0)*ROW(B:B),1)),\"\")<>\"\",     ABS(IF($B57>0,$B57-INDEX($B:$B,_xlfn.AGGREGATE(14,6,1/(LEN($B$1:INDEX(B:B,ROW()-1))>0)*ROW(B:B),1)),\"\"))/'Time constants'!$C$8+IF(B57=B56,0,1)*'Time constants'!$C$7,\"\")","v":""},{"$f":"IF(OR(#REF!=\"High Resolution\",#REF!=\"High Flux\"),IF(#REF!=#REF!,0,1)*'Time constants'!#REF!+IF(D57=D56,0,1)*'Time constants'!$C$4,\"\")","v":{"$error":"#REF!"}},{"$f":"IF(IF(G57=\"\",0,G57/'Time constants'!$C$6)+IF(H57=\"\",0,H57)+IF(I57=\"\",0,I57)=0,\"\",IF(G57=\"\",0,G57/'Time constants'!$C$6)+IF(H57=\"\",0,H57)+IF(I57=\"\",0,I57))","v":{"$error":"#REF!"}},{"$error":"#REF!"},{"$f":"IF(C57=\"\",\"\",TEXT(C57,\"0\") &\", \" & TEXT(#REF!,\"0\") & \" \" & TEXT(D57,\"0.0\") & \" meV, \" & \"T=\" & TEXT(B57,\"0.00\") & \" K, \" &TEXT(G57,\"0.00\") & \"C\")","v":""}]
[null,null,null,null,null,null,null,{"$f":"IF(IF($B58>0,$B58-INDEX($B:$B,_xlfn.AGGREGATE(14,6,1/(LEN($B$1:INDEX(B:B,ROW()-1))>0)*ROW(B:B),1)),\"\")<>\"\",     ABS(IF($B58>0,$B58-INDEX($B:$B,_xlfn.AGGREGATE(14,6,1/(LEN($B$1:INDEX(B:B,ROW()-1))>0)*ROW(B:B),1)),\"\"))/'Time constants'!$C$8+IF(B58=B57,0,1)*'Time constants'!$C$7,\"\")","v":""},{"$f":"IF(OR(#REF!=\"High Resolution\",#REF!=\"High Flux\"),IF(#REF!=#REF!,0,1)*'Time constants'!#REF!+IF(D58=D57,0,1)*'Time constants'!$C$4,\"\")","v":{"$error":"#REF!"}},{"$f":"IF(IF(G58=\"\",0,G58/'Time constants'!$C$6)+IF(H58=\"\",0,H58)+IF(I58=\"\",0,I58)=0,\"\",IF(G58=\"\",0,G58/'Time constants'!$C$6)+IF(H58=\"\",0,H58)+IF(I58=\"\",0,I58))","v":{"$error":"#REF!"}},{"$error":"#REF!"},{"$f":"IF(C58=\"\",\"\",TEXT(C58,\"0\") &\", \" & TEXT(#REF!,\"0\") & \" \" & TEXT(D58,\"0.0\") & \" meV, \" & \"T=\" & TEXT(B58,\"0.00\") & \" K, \" &TEXT(G58,\"0.00\") & \"C\")","v":""}]
[null,null,null,null,null,null,null,{"$f":"IF(IF($B59>0,$B59-INDEX($B:$B,_xlfn.AGGREGATE(14,6,1/(LEN($B$1:INDEX(B:B,ROW()-1))>0)*ROW(B:B),1)),\"\")<>\"\",     ABS(IF($B59>0,$B59-INDEX($B:$B,_xlfn.AGGREGATE(14,6,1/(LEN($B$1:INDEX(B:B,ROW()-1))>0)*ROW(B:B),1)),\"\"))/'Time constants'!$C$8+IF(B59=B58,0,1)*'Time constants'!$C$7,\"\")","v":""},{"$f":"IF(OR(#REF!=\"High Resolution\",#REF!=\"High Flux\"),IF(#REF!=#REF!,0,1)*'Time constants'!#REF!+IF(D59=D58,0,1)*'Time constants'!$C$4,\"\")","v":{"$error":"#REF!"}},{"$f":"IF(IF(G59=\"\",0,G59/'Time constants'!$C$6)+IF(H59=\"\",0,H59)+IF(I59=\"\",0,I59)=0,\"\",IF(G59=\"\",0,G59/'Time constants'!$C$6)+IF(H59=\"\",0,H59)+IF(I59=\"\",0,I59))","v":{"$error":"#REF!"}},{"$error":"#REF!"},{"$f":"IF(C59=\"\",\"\",TEXT(C59,\"0\") &\", \" & TEXT(#REF!,\"0\") & \" \" & TEXT(D59,\"0.0\") & \" meV, \" & \"T=\" & TEXT(B59,\"0.00\") & \" K, \" &TEXT(G59,\"0.00\") & \"C\")","v":""}]
[null,null,null,null,null,null,null,{"$f":"IF(IF($B60>0,$B60-INDEX($B:$B,_xlfn.AGGREGATE(14,6,1/(LEN($B$1:INDEX(B:B,ROW()-1))>0)*ROW(B:B),1)),\"\")<>\"\",     ABS(IF($B60>0,$B60-INDEX($B:$B,_xlfn.AGGREGATE(14,6,1/(LEN($B$1:INDEX(B:B,ROW()-1))>0)*ROW(B:B),1)),\"\"))/'Time constants'!$C$8+IF(B60=B59,0,1)*'Time constants'!$C$7,\"\")","v":""},{"$f":"IF(OR(#REF!=\"High Resolution\",#REF!=\"High Flux\"),IF(#REF!=#REF!,0,1)*'Time constants'!#REF!+IF(D60=D59,0,1)*'Time constants'!$C$4,\"\")","v":{"$error":"#REF!"}},{"$f":"IF(IF(G60=\"\",0,G60/'Time constants'!$C$6)+IF(H60=\"\",0,H60)+IF(I60=\"\",0,I60)=0,\"\",IF(G60=\"\",0,G60/'Time constants'!$C$6)+IF(H60=\"\",0,H60)+IF(I60=\"\",0,I60))","v":{"$error":"#REF!"}},{"$error":"#REF!"},{"$f":"IF(C60=\"\",\"\",TEXT(C60,\"0\") &\", \" & TEXT(#REF!,\"0\") & \" \" & TEXT(D60,\"0.0\") & \" meV, \" & \"T=\" & TEXT(B60,\"0.00\") & \" K, \" &TEXT(G60,\"0.00\") & \"C\")","v":""}]
[null,null,null,null,null,null,null,{"$f":"IF(IF($B61>0,$B61-INDEX($B:$B,_xlfn.AGGREGATE(14,6,1/(LEN($B$1:INDEX(B:B,ROW()-1))>0)*ROW(B:B),1)),\"\")<>\"\",     ABS(IF($B61>0,$B61-INDEX($B:$B,_xlfn.AGGREGATE(14,6,1/(LEN($B$1:INDEX(B:B,ROW()-1))>0)*ROW(B:B),1)),\"\"))/'Time constants'!$C$8+IF(B61=B60,0,1)*'Time constants'!$C$7,\"\")","v":""},{"$f":"IF(OR(#REF!=\"High Resolution\",#REF!=\"High Flux\"),IF(#REF!=#REF!,0,1)*'Time constants'!#REF!+IF(D61=D60,0,1)*'Time constants'!$C$4,\"\")","v":{"$error":"#REF!"}},{"$f":"IF(IF(G61=\"\",0,G61/'Time constants'!$C$6)+IF(H61=\"\",0,H61)+IF(I61=\"\",0,I61)=0,\"\",IF(G61=\"\",0,G61/'Time constants'!$C$6)+IF(H61=\"\",0,H61)+IF(I61=\"\",0,I61))","v":{"$error":"#REF!"}},{"$error":"#REF!"},{"$f":"IF(C61=\"\",\"\",TEXT(C61,\"0\") &\", \" & TEXT(#REF!,\"0\") & \" \" & TEXT(D61,\"0.0\") & \" meV, \" & \"T=\" & TEXT(B61,\"0.00\") & \" K, \" &TEXT(G61,\"0.00\") & \"C\")","v":""}]
[null,null,null,null,null,null,null,{"$f":"IF(IF($B62>0,$B62-INDEX($B:$B,_xlfn.AGGREGATE(14,6,1/(LEN($B$1:INDEX(B:B,ROW()-1))>0)*ROW(B:B),1)),\"\")<>\"\",     ABS(IF($B62>0,$B62-INDEX($B:$B,_xlfn.AGGREGATE(14,6,1/(LEN($B$1:INDEX(B:B,ROW()-1))>0)*ROW(B:B),1)),\"\"))/'Time constants'!$C$8+IF(B62=B61,0,1)*'Time constants'!$C$7,\"\")","v":""},{"$f":"IF(OR(#REF!=\"High Resolution\",#REF!=\"High Flux\"),IF(#REF!=#REF!,0,1)*'Time constants'!#REF!+IF(D62=D61,0,1)*'Time constants'!$C$4,\"\")","v":{"$error":"#REF!"}},{"$f":"IF(IF(G62=\"\",0,G62/'Time constants'!$C$6)+IF(H62=\"\",0,H62)+IF(I62=\"\",0,I62)=0,\"\",IF(G62=\"\",0,G62/'Time constants'!$C$6)+IF(H62=\"\",0,H62)+IF(I62=\"\",0,I62))","v":{"$error":"#REF!"}},{"$error":"#REF!"},{"$f":"IF(C62=\"\",\"\",TEXT(C62,\"0\") &\", \" & TEXT(#REF!,\"0\") & \" \" & TEXT(D62,\"0.0\") & \" meV, \" & \"T=\" & TEXT(B62,\"0.00\") & \" K, \" &TEXT(G62,\"0.00\") & \"C\")","v":""}]
[null,null,null,null,null,null,null,{"$f":"IF(IF($B63>0,$B63-INDEX($B:$B,_xlfn.AGGREGATE(14,6,1/(LEN($B$1:INDEX(B:B,ROW()-1))>0)*ROW(B:B),1)),\"\")<>\"\",     ABS(IF($B63>0,$B63-INDEX($B:$B,_xlfn.AGGREGATE(14,6,1/(LEN($B$1:INDEX(B:B,ROW()-1))>0)*ROW(B:B),1)),\"\"))/'Time constants'!$C$8+IF(B63=B62,0,1)*'Time constants'!$C$7,\"\")","v":""},{"$f":"IF(OR(#REF!=\"High Resolution\",#REF!=\"High Flux\"),IF(#REF!=#REF!,0,1)*'Time constants'!#REF!+IF(D63=D62,0,1)*'Time constants'!$C$4,\"\")","v":{"$error":"#REF!"}},{"$f":"IF(IF(G63=\"\",0,G63/'Time constants'!$C$6)+IF(H63=\"\",0,H63)+IF(I63=\"\",0,I63)=0,\"\",IF(G63=\"\",0,G63/'Time constants'!$C$6)+IF(H63=\"\",0,H63)+IF(I63=\"\",0,I63))","v":{"$error":"#REF!"}},{"$error":"#REF!"},{"$f":"IF(C63=\"\",\"\",TEXT(C63,\"0\") &\", \" & TEXT(#REF!,\"0\") & \" \" & TEXT(D63,\"0.0\") & \" meV, \" & \"T=\" & TEXT(B63,\"0.00\") & \" K, \" &TEXT(G63,\"0.00\") & \"C\")","v":""}]
[null,null,null,null,null,null,null,{"$f":"IF(IF($B64>0,$B64-INDEX($B:$B,_xlfn.AGGREGATE(14,6,1/(LEN($B$1:INDEX(B:B,ROW()-1))>0)*ROW(B:B),1)),\"\")<>\"\",     ABS(IF($B64>0,$B64-INDEX($B:$B,_xlfn.AGGREGATE(14,6,1/(LEN($B$1:INDEX(B:B,ROW()-1))>0)*ROW(B:B),1)),\"\"))/'Time constants'!$C$8+IF(B64=B63,0,1)*'Time constants'!$C$7,\"\")","v":""},{"$f":"IF(OR(#REF!=\"High Resolution\",#REF!=\"High Flux\"),IF(#REF!=#REF!,0,1)*'Time constants'!#REF!+IF(D64=D63,0,1)*'Time constants'!$C$4,\"\")","v":{"$error":"#REF!"}},{"$f":"IF(IF(G64=\"\",0,G64/'Time constants'!$C$6)+IF(H64=\"\",0,H64)+IF(I64=\"\",0,I64)=0,\"\",IF(G64=\"\",0,G64/'Time constants'!$C$6)+IF(H64=\"\",0,H64)+IF(I64=\"\",0,I64))","v":{"$error":"#REF!"}},{"$error":"#REF!"},{"$f":"IF(C64=\"\",\"\",TEXT(C64,\"0\") &\", \" & TEXT(#REF!,\"0\") & \" \" & TEXT(D64,\"0.0\") & \" meV, \" & \"T=\" & TEXT(B64,\"0.00\") & \" K, \" &TEXT(G64,\"0.00\") & \"C\")","v":""}]
[null,null,null,null,null,null,null,{"$f":"IF(IF($B65>0,$B65-INDEX($B:$B,_xlfn.AGGREGATE(14,6,1/(LEN($B$1:INDEX(B:B,ROW()-1))>0)*ROW(B:B),1)),\"\")<>\"\",     ABS(IF($B65>0,$B65-INDEX($B:$B,_xlfn.AGGREGATE(14,6,1/(LEN($B$1:INDEX(B:B,ROW()-1))>0)*ROW(B:B),1)),\"\"))/'Time constants'!$C$8+IF(B65=B64,0,1)*'Time constants'!$C$7,\"\")","v":""},{"$f":"IF(OR(#REF!=\"High Resolution\",#REF!=\"High Flux\"),IF(#REF!=#REF!,0,1)*'Time constants'!#REF!+IF(D65=D64,0,1)*'Time constants'!$C$4,\"\")","v":{"$error":"#REF!"}},{"$f":"IF(IF(G65=\"\",0,G65/'Time constants'!$C$6)+IF(H65=\"\",0,H65)+IF(I65=\"\",0,I65)=0,\"\",IF(G65=\"\",0,G65/'Time constants'!$C$6)+IF(H65=\"\",0,H65)+IF(I65=\"\",0,I65))","v":{"$error":"#REF!"}},{"$error":"#REF!"},{"$f":"IF(C65=\"\",\"\",TEXT(C65,\"0\") &\", \" & TEXT(#REF!,\"0\") & \" \" & TEXT(D65,\"0.0\") & \" meV, \" & \"T=\" & TEXT(B65,\"0.00\") & \" K, \" &TEXT(G65,\"0.00\") & \"C\")","v":""}]
[null,null,null,null,null,null,null,{"$f":"IF(IF($B66>0,$B66-INDEX($B:$B,_xlfn.AGGREGATE(14,6,1/(LEN($B$1:INDEX(B:B,ROW()-1))>0)*ROW(B:B),1)),\"\")<>\"\",     ABS(IF($B66>0,$B66-INDEX($B:$B,_xlfn.AGGREGATE(14,6,1/(LEN($B$1:INDEX(B:B,ROW()-1))>0)*ROW(B:B),1)),\"\"))/'Time constants'!$C$8+IF(B66=B65,0,1)*'Time constants'!$C$7,\"\")","v":""},{"$f":"IF(OR(#REF!=\"High Resolution\",#REF!=\"High Flux\"),IF(#REF!=#REF!,0,1)*'Time constants'!#REF!+IF(D66=D65,0,1)*'Time constants'!$C$4,\"\")","v":{"$error":"#REF!"}},{"$f":"IF(IF(G66=\"\",0,G66/'Time constants'!$C$6)+IF(H66=\"\",0,H66)+IF(I66=\"\",0,I66)=0,\"\",IF(G66=\"\",0,G66/'Time constants'!$C$6)+IF(H66=\"\",0,H66)+IF(I66=\"\",0,I66))","v":{"$error":"#REF!"}},{"$error":"#REF!"},{"$f":"IF(C66=\"\",\"\",TEXT(C66,\"0\") &\", \" & TEXT(#REF!,\"0\") & \" \" & TEXT(D66,\"0.0\") & \" meV, \" & \"T=\" & TEXT(B66,\"0.00\") & \" K, \" &TEXT(G66,\"0.00\") & \"C\")","v":""}]
[null,null,null,null,null,null,null,{"$f":"IF(IF($B67>0,$B67-INDEX($B:$B,_xlfn.AGGREGATE(14,6,1/(LEN($B$1:INDEX(B:B,ROW()-1))>0)*ROW(B:B),1)),\"\")<>\"\",     ABS(IF($B67>0,$B67-INDEX($B:$B,_xlfn.AGGREGATE(14,6,1/(LEN($B$1:INDEX(B:B,ROW()-1))>0)*ROW(B:B),1)),\"\"))/'Time constants'!$C$8+IF(B67=B66,0,1)*'Time constants'!$C$7,\"\")","v":""},{"$f":"IF(OR(#REF!=\"High Resolution\",#REF!=\"High Flux\"),IF(#REF!=#REF!,0,1)*'Time constants'!#REF!+IF(D67=D66,0,1)*'Time constants'!$C$4,\"\")","v":{"$error":"#REF!"}},{"$f":"IF(IF(G67=\"\",0,G67/'Time constants'!$C$6)+IF(H67=\"\",0,H67)+IF(I67=\"\",0,I67)=0,\"\",IF(G67=\"\",0,G67/'Time constants'!$C$6)+IF(H67=\"\",0,H67)+IF(I67=\"\",0,I67))","v":{"$error":"#REF!"}},{"$error":"#REF!"},{"$f":"IF(C67=\"\",\"\",TEXT(C67,\"0\") &\", \" & TEXT(#REF!,\"0\") & \" \" & TEXT(D67,\"0.0\") & \" meV, \" & \"T=\" & TEXT(B67,\"0.00\") & \" K, \" &TEXT(G67,\"0.00\") & \"C\")","v":""}]
[null,null,null,null,null,null,null,{"$f":"IF(IF($B68>0,$B68-INDEX($B:$B,_xlfn.AGGREGATE(14,6,1/(LEN($B$1:INDEX(B:B,ROW()-1))>0)*ROW(B:B),1)),\"\")<>\"\",     ABS(IF($B68>0,$B68-INDEX($B:$B,_xlfn.AGGREGATE(14,6,1/(LEN($B$1:INDEX(B:B,ROW()-1))>0)*ROW(B:B),1)),\"\"))/'Time constants'!$C$8+IF(B68=B67,0,1)*'Time constants'!$C$7,\"\")","v":""},{"$f":"IF(OR(#REF!=\"High Resolution\",#REF!=\"High Flux\"),IF(#REF!=#REF!,0,1)*'Time constants'!#REF!+IF(D68=D67,0,1)*'Time constants'!$C$4,\"\")","v":{"$error":"#REF!"}},{"$f":"IF(IF(G68=\"\",0,G68/'Time constants'!$C$6)+IF(H68=\"\",0,H68)+IF(I68=\"\",0,I68)=0,\"\",IF(G68=\"\",0,G68/'Time constants'!$C$6)+IF(H68=\"\",0,H68)+IF(I68=\"\",0,I68))","v":{"$error":"#REF!"}},{"$error":"#REF!"},{"$f":"IF(C68=\"\",\"\",TEXT(C68,\"0\") &\", \" & TEXT(#REF!,\"0\") & \" \" & TEXT(D68,\"0.0\") & \" meV, \" & \"T=\" & TEXT(B68,\"0.00\") & \" K, \" &TEXT(G68,\"0.00\") & \"C\")","v":""}]
[null,null,null,null,null,null,null,{"$f":"IF(IF($B69>0,$B69-INDEX($B:$B,_xlfn.AGGREGATE(14,6,1/(LEN($B$1:INDEX(B:B,ROW()-1))>0)*ROW(B:B),1)),\"\")<>\"\",     ABS(IF($B69>0,$B69-INDEX($B:$B,_xlfn.AGGREGATE(14,6,1/(LEN($B$1:INDEX(B:B,ROW()-1))>0)*ROW(B:B),1)),\"\"))/'Time constants'!$C$8+IF(B69=B68,0,1)*'Time constants'!$C$7,\"\")","v":""},{"$f":"IF(OR(#REF!=\"High Resolution\",#REF!=\"High Flux\"),IF(#REF!=#REF!,0,1)*'Time constants'!#REF!+IF(D69=D68,0,1)*'Time constants'!$C$4,\"\")","v":{"$error":"#REF!"}},{"$f":"IF(IF(G69=\"\",0,G69/'Time constants'!$C$6)+IF(H69=\"\",0,H69)+IF(I69=\"\",0,I69)=0,\"\",IF(G69=\"\",0,G69/'Time constants'!$C$6)+IF(H69=\"\",0,H69)+IF(I69=\"\",0,I69))","v":{"$error":"#REF!"}},{"$error":"#REF!"},{"$f":"IF(C69=\"\",\"\",TEXT(C69,\"0\") &\", \" & TEXT(#REF!,\"0\") & \" \" & TEXT(D69,\"0.0\") & \" meV, \" & \"T=\" & TEXT(B69,\"0.00\") & \" K, \" &TEXT(G69,\"0.00\") & \"C\")","v":""}]
[null,null,null,null,null,null,null,{"$f":"IF(IF($B70>0,$B70-INDEX($B:$B,_xlfn.AGGREGATE(14,6,1/(LEN($B$1:INDEX(B:B,ROW()-1))>0)*ROW(B:B),1)),\"\")<>\"\",     ABS(IF($B70>0,$B70-INDEX($B:$B,_xlfn.AGGREGATE(14,6,1/(LEN($B$1:INDEX(B:B,ROW()-1))>0)*ROW(B:B),1)),\"\"))/'Time constants'!$C$8+IF(B70=B69,0,1)*'Time constants'!$C$7,\"\")","v":""},{"$f":"IF(OR(#REF!=\"High Resolution\",#REF!=\"High Flux\"),IF(#REF!=#REF!,0,1)*'Time constants'!#REF!+IF(D70=D69,0,1)*'Time constants'!$C$4,\"\")","v":{"$error":"#REF!"}},{"$f":"IF(IF(G70=\"\",0,G70/'Time constants'!$C$6)+IF(H70=\"\",0,H70)+IF(I70=\"\",0,I70)=0,\"\",IF(G70=\"\",0,G70/'Time constants'!$C$6)+IF(H70=\"\",0,H70)+IF(I70=\"\",0,I70))","v":{"$error":"#REF!"}},{"$error":"#REF!"},{"$f":"IF(C70=\"\",\"\",TEXT(C70,\"0\") &\", \" & TEXT(#REF!,\"0\") & \" \" & TEXT(D70,\"0.0\") & \" meV, \" & \"T=\" & TEXT(B70,\"0.00\") & \" K, \" &TEXT(G70,\"0.00\") & \"C\")","v":""}]
[null,null,null,null,null,null,null,{"$f":"IF(IF($B71>0,$B71-INDEX($B:$B,_xlfn.AGGREGATE(14,6,1/(LEN($B$1:INDEX(B:B,ROW()-1))>0)*ROW(B:B),1)),\"\")<>\"\",     ABS(IF($B71>0,$B71-INDEX($B:$B,_xlfn.AGGREGATE(14,6,1/(LEN($B$1:INDEX(B:B,ROW()-1))>0)*ROW(B:B),1)),\"\"))/'Time constants'!$C$8+IF(B71=B70,0,1)*'Time constants'!$C$7,\"\")","v":""},{"$f":"IF(OR(#REF!=\"High Resolution\",#REF!=\"High Flux\"),IF(#REF!=#REF!,0,1)*'Time constants'!#REF!+IF(D71=D70,0,1)*'Time constants'!$C$4,\"\")","v":{"$error":"#REF!"}},{"$f":"IF(IF(G71=\"\",0,G71/'Time constants'!$C$6)+IF(H71=\"\",0,H71)+IF(I71=\"\",0,I71)=0,\"\",IF(G71=\"\",0,G71/'Time constants'!$C$6)+IF(H71=\"\",0,H71)+IF(I71=\"\",0,I71))","v":{"$error":"#REF!"}},{"$error":"#REF!"},{"$f":"IF(C71=\"\",\"\",TEXT(C71,\"0\") &\", \" & TEXT(#REF!,\"0\") & \" \" & TEXT(D71,\"0.0\") & \" meV, \" & \"T=\" & TEXT(B71,\"0.00\") & \" K, \" &TEXT(G71,\"0.00\") & \"C\")","v":""}]
[null,null,null,null,null,null,null,{"$f":"IF(IF($B72>0,$B72-INDEX($B:$B,_xlfn.AGGREGATE(14,6,1/(LEN($B$1:INDEX(B:B,ROW()-1))>0)*ROW(B:B),1)),\"\")<>\"\",     ABS(IF($B72>0,$B72-INDEX($B:$B,_xlfn.AGGREGATE(14,6,1/(LEN($B$1:INDEX(B:B,ROW()-1))>0)*ROW(B:B),1)),\"\"))/'Time constants'!$C$8+IF(B72=B71,0,1)*'Time constants'!$C$7,\"\")","v":""},{"$f":"IF(OR(#REF!=\"High Resolution\",#REF!=\"High Flux\"),IF(#REF!=#REF!,0,1)*'Time constants'!#REF!+IF(D72=D71,0,1)*'Time constants'!$C$4,\"\")","v":{"$error":"#REF!"}},{"$f":"IF(IF(G72=\"\",0,G72/'Time constants'!$C$6)+IF(H72=\"\",0,H72)+IF(I72=\"\",0,I72)=0,\"\",IF(G72=\"\",0,G72/'Time constants'!$C$6)+IF(H72=\"\",0,H72)+IF(I72=\"\",0,I72))","v":{"$error":"#REF!"}},{"$error":"#REF!"},{"$f":"IF(C72=\"\",\"\",TEXT(C72,\"0\") &\", \" & TEXT(#REF!,\"0\") & \" \" & TEXT(D72,\"0.0\") & \" meV, \" & \"T=\" & TEXT(B72,\"0.00\") & \" K, \" &TEXT(G72,\"0.00\") & \"C\")","v":""}]
[null,null,null,null,null,null,null,{"$f":"IF(IF($B73>0,$B73-INDEX($B:$B,_xlfn.AGGREGATE(14,6,1/(LEN($B$1:INDEX(B:B,ROW()-1))>0)*ROW(B:B),1)),\"\")<>\"\",     ABS(IF($B73>0,$B73-INDEX($B:$B,_xlfn.AGGREGATE(14,6,1/(LEN($B$1:INDEX(B:B,ROW()-1))>0)*ROW(B:B),1)),\"\"))/'Time constants'!$C$8+IF(B73=B72,0,1)*'Time constants'!$C$7,\"\")","v":""},{"$f":"IF(OR(#REF!=\"High Resolution\",#REF!=\"High Flux\"),IF(#REF!=#REF!,0,1)*'Time constants'!#REF!+IF(D73=D72,0,1)*'Time constants'!$C$4,\"\")","v":{"$error":"#REF!"}},{"$f":"IF(IF(G73=\"\",0,G73/'Time constants'!$C$6)+IF(H73=\"\",0,H73)+IF(I73=\"\",0,I73)=0,\"\",IF(G73=\"\",0,G73/'Time constants'!$C$6)+IF(H73=\"\",0,H73)+IF(I73=\"\",0,I73))","v":{"$error":"#REF!"}},{"$error":"#REF!"},{"$f":"IF(C73=\"\",\"\",TEXT(C73,\"0\") &\", \" & TEXT(#REF!,\"0\") & \" \" & TEXT(D73,\"0.0\") & \" meV, \" & \"T=\" & TEXT(B73,\"0.00\") & \" K, \" &TEXT(G73,\"0.00\") & \"C\")","v":""}]
[null,null,null,null,null,null,null,{"$f":"IF(IF($B74>0,$B74-INDEX($B:$B,_xlfn.AGGREGATE(14,6,1/(LEN($B$1:INDEX(B:B,ROW()-1))>0)*ROW(B:B),1)),\"\")<>\"\",     ABS(IF($B74>0,$B74-INDEX($B:$B,_xlfn.AGGREGATE(14,6,1/(LEN($B$1:INDEX(B:B,ROW()-1))>0)*ROW(B:B),1)),\"\"))/'Time constants'!$C$8+IF(B74=B73,0,1)*'Time constants'!$C$7,\"\")","v":""},{"$f":"IF(OR(#REF!=\"High Resolution\",#REF!=\"High Flux\"),IF(#REF!=#REF!,0,1)*'Time constants'!#REF!+IF(D74=D73,0,1)*'Time constants'!$C$4,\"\")","v":{"$error":"#REF!"}},{"$f":"IF(IF(G74=\"\",0,G74/'Time constants'!$C$6)+IF(H74=\"\",0,H74)+IF(I74=\"\",0,I74)=0,\"\",IF(G74=\"\",0,G74/'Time constants'!$C$6)+IF(H74=\"\",0,H74)+IF(I74=\"\",0,I74))","v":{"$error":"#REF!"}},{"$error":"#REF!"},{"$f":"IF(C74=\"\",\"\",TEXT(C74,\"0\") &\", \" & TEXT(#REF!,\"0\") & \" \" & TEXT(D74,\"0.0\") & \" meV, \" & \"T=\" & TEXT(B74,\"0.00\") & \" K, \" &TEXT(G74,\"0.00\") & \"C\")","v":""}]
[null,null,null,null,null,null,null,{"$f":"IF(IF($B75>0,$B75-INDEX($B:$B,_xlfn.AGGREGATE(14,6,1/(LEN($B$1:INDEX(B:B,ROW()-1))>0)*ROW(B:B),1)),\"\")<>\"\",     ABS(IF($B75>0,$B75-INDEX($B:$B,_xlfn.AGGREGATE(14,6,1/(LEN($B$1:INDEX(B:B,ROW()-1))>0)*ROW(B:B),1)),\"\"))/'Time constants'!$C$8+IF(B75=B74,0,1)*'Time constants'!$C$7,\"\")","v":""},{"$f":"IF(OR(#REF!=\"High Resolution\",#REF!=\"High Flux\"),IF(#REF!=#REF!,0,1)*'Time constants'!#REF!+IF(D75=D74,0,1)*'Time constants'!$C$4,\"\")","v":{"$error":"#REF!"}},{"$f":"IF(IF(G75=\"\",0,G75/'Time constants'!$C$6)+IF(H75=\"\",0,H75)+IF(I75=\"\",0,I75)=0,\"\",IF(G75=\"\",0,G75/'Time constants'!$C$6)+IF(H75=\"\",0,H75)+IF(I75=\"\",0,I75))","v":{"$error":"#REF!"}},{"$error":"#REF!"},{"$f":"IF(C75=\"\",\"\",TEXT(C75,\"0\") &\", \" & TEXT(#REF!,\"0\") & \" \" & TEXT(D75,\"0.0\") & \" meV, \" & \"T=\" & TEXT(B75,\"0.00\") & \" K, \" &TEXT(G75,\"0.00\") & \"C\")","v":""}]
[null,null,null,null,null,null,null,{"$f":"IF(IF($B76>0,$B76-INDEX($B:$B,_xlfn.AGGREGATE(14,6,1/(LEN($B$1:INDEX(B:B,ROW()-1))>0)*ROW(B:B),1)),\"\")<>\"\",     ABS(IF($B76>0,$B76-INDEX($B:$B,_xlfn.AGGREGATE(14,6,1/(LEN($B$1:INDEX(B:B,ROW()-1))>0)*ROW(B:B),1)),\"\"))/'Time constants'!$C$8+IF(B76=B75,0,1)*'Time constants'!$C$7,\"\")","v":""},{"$f":"IF(OR(#REF!=\"High Resolution\",#REF!=\"High Flux\"),IF(#REF!=#REF!,0,1)*'Time constants'!#REF!+IF(D76=D75,0,1)*'Time constants'!$C$4,\"\")","v":{"$error":"#REF!"}},{"$f":"IF(IF(G76=\"\",0,G76/'Time constants'!$C$6)+IF(H76=\"\",0,H76)+IF(I76=\"\",0,I76)=0,\"\",IF(G76=\"\",0,G76/'Time constants'!$C$6)+IF(H76=\"\",0,H76)+IF(I76=\"\",0,I76))","v":{"$error":"#REF!"}},{"$error":"#REF!"},{"$f":"IF(C76=\"\",\"\",TEXT(C76,\"0\") &\", \" & TEXT(#REF!,\"0\") & \" \" & TEXT(D76,\"0.0\") & \" meV, \" & \"T=\" & TEXT(B76,\"0.00\") & \" K, \" &TEXT(G76,\"0.00\") & \"C\")","v":""}]
[null,null,null,null,null,null,null,{"$f":"IF(IF($B77>0,$B77-INDEX($B:$B,_xlfn.AGGREGATE(14,6,1/(LEN($B$1:INDEX(B:B,ROW()-1))>0)*ROW(B:B),1)),\"\")<>\"\",     ABS(IF($B77>0,$B77-INDEX($B:$B,_xlfn.AGGREGATE(14,6,1/(LEN($B$1:INDEX(B:B,ROW()-1))>0)*ROW(B:B),1)),\"\"))/'Time constants'!$C$8+IF(B77=B76,0,1)*'Time constants'!$C$7,\"\")","v":""},{"$f":"IF(OR(#REF!=\"High Resolution\",#REF!=\"High Flux\"),IF(#REF!=#REF!,0,1)*'Time constants'!#REF!+IF(D77=D76,0,1)*'Time constants'!$C$4,\"\")","v":{"$error":"#REF!"}},{"$f":"IF(IF(G77=\"\",0,G77/'Time constants'!$C$6)+IF(H77=\"\",0,H77)+IF(I77=\"\",0,I77)=0,\"\",IF(G77=\"\",0,G77/'Time constants'!$C$6)+IF(H77=\"\",0,H77)+IF(I77=\"\",0,I77))","v":{"$error":"#REF!"}},{"$error":"#REF!"},{"$f":"IF(C77=\"\",\"\",TEXT(C77,\"0\") &\", \" & TEXT(#REF!,\"0\") & \" \" & TEXT(D77,\"0.0\") & \" meV, \" & \"T=\" & TEXT(B77,\"0.00\") & \" K, \" &TEXT(G77,\"0.00\") & \"C\")","v":""}]
[null,null,null,null,null,null,null,{"$f":"IF(IF($B78>0,$B78-INDEX($B:$B,_xlfn.AGGREGATE(14,6,1/(LEN($B$1:INDEX(B:B,ROW()-1))>0)*ROW(B:B),1)),\"\")<>\"\",     ABS(IF($B78>0,$B78-INDEX($B:$B,_xlfn.AGGREGATE(14,6,1/(LEN($B$1:INDEX(B:B,ROW()-1))>0)*ROW(B:B),1)),\"\"))/'Time constants'!$C$8+IF(B78=B77,0,1)*'Time constants'!$C$7,\"\")","v":""},{"$f":"IF(OR(#REF!=\"High Resolution\",#REF!=\"High Flux\"),IF(#REF!=#REF!,0,1)*'Time constants'!#REF!+IF(D78=D77,0,1)*'Time constants'!$C$4,\"\")","v":{"$error":"#REF!"}},{"$f":"IF(IF(G78=\"\",0,G78/'Time constants'!$C$6)+IF(H78=\"\",0,H78)+IF(I78=\"\",0,I78)=0,\"\",IF(G78=\"\",0,G78/'Time constants'!$C$6)+IF(H78=\"\",0,H78)+IF(I78=\"\",0,I78))","v":{"$error":"#REF!"}},{"$error":"#REF!"},{"$f":"IF(C78=\"\",\"\",TEXT(C78,\"0\") &\", \" & TEXT(#REF!,\"0\") & \" \" & TEXT(D78,\"0.0\") & \" meV, \" & \"T=\" & TEXT(B78,\"0.00\") & \" K, \" &TEXT(G78,\"0.00\") & \"C\")","v":""}]
[null,null,null,null,null,null,null,{"$f":"IF(IF($B79>0,$B79-INDEX($B:$B,_xlfn.AGGREGATE(14,6,1/(LEN($B$1:INDEX(B:B,ROW()-1))>0)*ROW(B:B),1)),\"\")<>\"\",     ABS(IF($B79>0,$B79-INDEX($B:$B,_xlfn.AGGREGATE(14,6,1/(LEN($B$1:INDEX(B:B,ROW()-1))>0)*ROW(B:B),1)),\"\"))/'Time constants'!$C$8+IF(B79=B78,0,1)*'Time constants'!$C$7,\"\")","v":""},{"$f":"IF(OR(#REF!=\"High Resolution\",#REF!=\"High Flux\"),IF(#REF!=#REF!,0,1)*'Time constants'!#REF!+IF(D79=D78,0,1)*'Time constants'!$C$4,\"\")","v":{"$error":"#REF!"}},{"$f":"IF(IF(G79=\"\",0,G79/'Time constants'!$C$6)+IF(H79=\"\",0,H79)+IF(I79=\"\",0,I79)=0,\"\",IF(G79=\"\",0,G79/'Time constants'!$C$6)+IF(H79=\"\",0,H79)+IF(I79=\"\",0,I79))","v":{"$error":"#REF!"}},{"$error":"#REF!"},{"$f":"IF(C79=\"\",\"\",TEXT(C79,\"0\") &\", \" & TEXT(#REF!,\"0\") & \" \" & TEXT(D79,\"0.0\") & \" meV, \" & \"T=\" & TEXT(B79,\"0.00\") & \" K, \" &TEXT(G79,\"0.00\") & \"C\")","v":""}]
[null,null,null,null,null,null,null,{"$f":"IF(IF($B80>0,$B80-INDEX($B:$B,_xlfn.AGGREGATE(14,6,1/(LEN($B$1:INDEX(B:B,ROW()-1))>0)*ROW(B:B),1)),\"\")<>\"\",     ABS(IF($B80>0,$B80-INDEX($B:$B,_xlfn.AGGREGATE(14,6,1/(LEN($B$1:INDEX(B:B,ROW()-1))>0)*ROW(B:B),1)),\"\"))/'Time constants'!$C$8+IF(B80=B79,0,1)*'Time constants'!$C$7,\"\")","v":""},{"$f":"IF(OR(#REF!=\"High Resolution\",#REF!=\"High Flux\"),IF(#REF!=#REF!,0,1)*'Time constants'!#REF!+IF(D80=D79,0,1)*'Time constants'!$C$4,\"\")","v":{"$error":"#REF!"}},{"$f":"IF(IF(G80=\"\",0,G80/'Time constants'!$C$6)+IF(H80=\"\",0,H80)+IF(I80=\"\",0,I80)=0,\"\",IF(G80=\"\",0,G80/'Time constants'!$C$6)+IF(H80=\"\",0,H80)+IF(I80=\"\",0,I80))","v":{"$error":"#REF!"}},{"$error":"#REF!"},{"$f":"IF(C80=\"\",\"\",TEXT(C80,\"0\") &\", \" & TEXT(#REF!,\"0\") & \" \" & TEXT(D80,\"0.0\") & \" meV, \" & \"T=\" & TEXT(B80,\"0.00\") & \" K, \" &TEXT(G80,\"0.00\") & \"C\")","v":""}]
[null,null,null,null,null,null,null,{"$f":"IF(IF($B81>0,$B81-INDEX($B:$B,_xlfn.AGGREGATE(14,6,1/(LEN($B$1:INDEX(B:B,ROW()-1))>0)*ROW(B:B),1)),\"\")<>\"\",     ABS(IF($B81>0,$B81-INDEX($B:$B,_xlfn.AGGREGATE(14,6,1/(LEN($B$1:INDEX(B:B,ROW()-1))>0)*ROW(B:B),1)),\"\"))/'Time constants'!$C$8+IF(B81=B80,0,1)*'Time constants'!$C$7,\"\")","v":""},{"$f":"IF(OR(#REF!=\"High Resolution\",#REF!=\"High Flux\"),IF(#REF!=#REF!,0,1)*'Time constants'!#REF!+IF(D81=D80,0,1)*'Time constants'!$C$4,\"\")","v":{"$error":"#REF!"}},{"$f":"IF(IF(G81=\"\",0,G81/'Time constants'!$C$6)+IF(H81=\"\",0,H81)+IF(I81=\"\",0,I81)=0,\"\",IF(G81=\"\",0,G81/'Time constants'!$C$6)+IF(H81=\"\",0,H81)+IF(I81=\"\",0,I81))","v":{"$error":"#REF!"}},{"$error":"#REF!"},{"$f":"IF(C81=\"\",\"\",TEXT(C81,\"0\") &\", \" & TEXT(#REF!,\"0\") & \" \" & TEXT(D81,\"0.0\") & \" meV, \" & \"T=\" & TEXT(B81,\"0.00\") & \" K, \" &TEXT(G81,\"0.00\") & \"C\")","v":""}]
[null,null,null,null,null,null,null,{"$f":"IF(IF($B82>0,$B82-INDEX($B:$B,_xlfn.AGGREGATE(14,6,1/(LEN($B$1:INDEX(B:B,ROW()-1))>0)*ROW(B:B),1)),\"\")<>\"\",     ABS(IF($B82>0,$B82-INDEX($B:$B,_xlfn.AGGREGATE(14,6,1/(LEN($B$1:INDEX(B:B,ROW()-1))>0)*ROW(B:B),1)),\"\"))/'Time constants'!$C$8+IF(B82=B81,0,1)*'Time constants'!$C$7,\"\")","v":""},{"$f":"IF(OR(#REF!=\"High Resolution\",#REF!=\"High Flux\"),IF(#REF!=#REF!,0,1)*'Time constants'!#REF!+IF(D82=D81,0,1)*'Time constants'!$C$4,\"\")","v":{"$error":"#REF!"}},{"$f":"IF(IF(G82=\"\",0,G82/'Time constants'!$C$6)+IF(H82=\"\",0,H82)+IF(I82=\"\",0,I82)=0,\"\",IF(G82=\"\",0,G82/'Time constants'!$C$6)+IF(H82=\"\",0,H82)+IF(I82=\"\",0,I82))","v":{"$error":"#REF!"}},{"$error":"#REF!"},{"$f":"IF(C82=\"\",\"\",TEXT(C82,\"0\") &\", \" & TEXT(#REF!,\"0\") & \" \" & TEXT(D82,\"0.0\") & \" meV, \" & \"T=\" & TEXT(B82,\"0.00\") & \" K, \" &TEXT(G82,\"0.00\") & \"C\")","v":""}]
[null,null,null,null,null,null,null,{"$f":"IF(IF($B83>0,$B83-INDEX($B:$B,_xlfn.AGGREGATE(14,6,1/(LEN($B$1:INDEX(B:B,ROW()-1))>0)*ROW(B:B),1)),\"\")<>\"\",     ABS(IF($B83>0,$B83-INDEX($B:$B,_xlfn.AGGREGATE(14,6,1/(LEN($B$1:INDEX(B:B,ROW()-1))>0)*ROW(B:B),1)),\"\"))/'Time constants'!$C$8+IF(B83=B82,0,1)*'Time constants'!$C$7,\"\")","v":""},{"$f":"IF(OR(#REF!=\"High Resolution\",#REF!=\"High Flux\"),IF(#REF!=#REF!,0,1)*'Time constants'!#REF!+IF(D83=D82,0,1)*'Time constants'!$C$4,\"\")","v":{"$error":"#REF!"}},{"$f":"IF(IF(G83=\"\",0,G83/'Time constants'!$C$6)+IF(H83=\"\",0,H83)+IF(I83=\"\",0,I83)=0,\"\",IF(G83=\"\",0,G83/'Time constants'!$C$6)+IF(H83=\"\",0,H83)+IF(I83=\"\",0,I83))","v":{"$error":"#REF!"}},{"$f":"IF(J83=\"\",\"\",J83/60+K82)","v":{"$error":"#REF!"}},{"$f":"IF(C83=\"\",\"\",TEXT(C83,\"0\") &\", \" & TEXT(#REF!,\"0\") & \" \" & TEXT(D83,\"0.0\") & \" meV, \" & \"T=\" & TEXT(B83,\"0.00\") & \" K, \" &TEXT(G83,\"0.00\") & \"C\")","v":""}]
[null,null,null,null,null,null,null,{"$f":"IF(IF($B84>0,$B84-INDEX($B:$B,_xlfn.AGGREGATE(14,6,1/(LEN($B$1:INDEX(B:B,ROW()-1))>0)*ROW(B:B),1)),\"\")<>\"\",     ABS(IF($B84>0,$B84-INDEX($B:$B,_xlfn.AGGREGATE(14,6,1/(LEN($B$1:INDEX(B:B,ROW()-1))>0)*ROW(B:B),1)),\"\"))/'Time constants'!$C$8+IF(B84=B83,0,1)*'Time constants'!$C$7,\"\")","v":""},{"$f":"IF(OR(#REF!=\"High Resolution\",#REF!=\"High Flux\"),IF(#REF!=#REF!,0,1)*'Time constants'!#REF!+IF(D84=D83,0,1)*'Time constants'!$C$4,\"\")","v":{"$error":"#REF!"}},{"$f":"IF(IF(G84=\"\",0,G84/'Time constants'!$C$6)+IF(H84=\"\",0,H84)+IF(I84=\"\",0,I84)=0,\"\",IF(G84=\"\",0,G84/'Time constants'!$C$6)+IF(H84=\"\",0,H84)+IF(I84=\"\",0,I84))","v":{"$error":"#REF!"}},{"$error":"#REF!"},{"$f":"IF(C84=\"\",\"\",TEXT(C84,\"0\") &\", \" & TEXT(#REF!,\"0\") & \" \" & TEXT(D84,\"0.0\") & \" meV, \" & \"T=\" & TEXT(B84,\"0.00\") & \" K, \" &TEXT(G84,\"0.00\") & \"C\")","v":""}]
[null,null,null,null,null,null,null,{"$f":"IF(IF($B85>0,$B85-INDEX($B:$B,_xlfn.AGGREGATE(14,6,1/(LEN($B$1:INDEX(B:B,ROW()-1))>0)*ROW(B:B),1)),\"\")<>\"\",     ABS(IF($B85>0,$B85-INDEX($B:$B,_xlfn.AGGREGATE(14,6,1/(LEN($B$1:INDEX(B:B,ROW()-1))>0)*ROW(B:B),1)),\"\"))/'Time constants'!$C$8+IF(B85=B84,0,1)*'Time constants'!$C$7,\"\")","v":""},{"$f":"IF(OR(#REF!=\"High Resolution\",#REF!=\"High Flux\"),IF(#REF!=#REF!,0,1)*'Time constants'!#REF!+IF(D85=D84,0,1)*'Time constants'!$C$4,\"\")","v":{"$error":"#REF!"}},{"$f":"IF(IF(G85=\"\",0,G85/'Time constants'!$C$6)+IF(H85=\"\",0,H85)+IF(I85=\"\",0,I85)=0,\"\",IF(G85=\"\",0,G85/'Time constants'!$C$6)+IF(H85=\"\",0,H85)+IF(I85=\"\",0,I85))","v":{"$error":"#REF!"}},{"$error":"#REF!"},{"$f":"IF(C85=\"\",\"\",TEXT(C85,\"0\") &\", \" & TEXT(#REF!,\"0\") & \" \" & TEXT(D85,\"0.0\") & \" meV, \" & \"T=\" & TEXT(B85,\"0.00\") & \" K, \" &TEXT(G85,\"0.00\") & \"C\")","v":""}]
[null,null,null,null,null,null,null,{"$f":"IF(IF($B86>0,$B86-INDEX($B:$B,_xlfn.AGGREGATE(14,6,1/(LEN($B$1:INDEX(B:B,ROW()-1))>0)*ROW(B:B),1)),\"\")<>\"\",     ABS(IF($B86>0,$B86-INDEX($B:$B,_xlfn.AGGREGATE(14,6,1/(LEN($B$1:INDEX(B:B,ROW()-1))>0)*ROW(B:B),1)),\"\"))/'Time constants'!$C$8+IF(B86=B85,0,1)*'Time constants'!$C$7,\"\")","v":""},{"$f":"IF(OR(#REF!=\"High Resolution\",#REF!=\"High Flux\"),IF(#REF!=#REF!,0,1)*'Time constants'!#REF!+IF(D86=D85,0,1)*'Time constants'!$C$4,\"\")","v":{"$error":"#REF!"}},{"$f":"IF(IF(G86=\"\",0,G86/'Time constants'!$C$6)+IF(H86=\"\",0,H86)+IF(I86=\"\",0,I86)=0,\"\",IF(G86=\"\",0,G86/'Time constants'!$C$6)+IF(H86=\"\",0,H86)+IF(I86=\"\",0,I86))","v":{"$error":"#REF!"}},{"$error":"#REF!"},{"$f":"IF(C86=\"\",\"\",TEXT(C86,\"0\") &\", \" & TEXT(#REF!,\"0\") & \" \" & TEXT(D86,\"0.0\") & \" meV, \" & \"T=\" & TEXT(B86,\"0.00\") & \" K, \" &TEXT(G86,\"0.00\") & \"C\")","v":""}]
[null,null,null,null,null,null,null,{"$f":"IF(IF($B87>0,$B87-INDEX($B:$B,_xlfn.AGGREGATE(14,6,1/(LEN($B$1:INDEX(B:B,ROW()-1))>0)*ROW(B:B),1)),\"\")<>\"\",     ABS(IF($B87>0,$B87-INDEX($B:$B,_xlfn.AGGREGATE(14,6,1/(LEN($B$1:INDEX(B:B,ROW()-1))>0)*ROW(B:B),1)),\"\"))/'Time constants'!$C$8+IF(B87=B86,0,1)*'Time constants'!$C$7,\"\")","v":""},{"$f":"IF(OR(#REF!=\"High Resolution\",#REF!=\"High Flux\"),IF(#REF!=#REF!,0,1)*'Time constants'!#REF!+IF(D87=D86,0,1)*'Time constants'!$C$4,\"\")","v":{"$error":"#REF!"}},{"$f":"IF(IF(G87=\"\",0,G87/'Time constants'!$C$6)+IF(H87=\"\",0,H87)+IF(I87=\"\",0,I87)=0,\"\",IF(G87=\"\",0,G87/'Time constants'!$C$6)+IF(H87=\"\",0,H87)+IF(I87=\"\",0,I87))","v":{"$error":"#REF!"}},{"$error":"#REF!"},{"$f":"IF(C87=\"\",\"\",TEXT(C87,\"0\") &\", \" & TEXT(#REF!,\"0\") & \" \" & TEXT(D87,\"0.0\") & \" meV, \" & \"T=\" & TEXT(B87,\"0.00\") & \" K, \" &TEXT(G87,\"0.00\") & \"C\")","v":""}]
[null,null,null,null,null,null,null,{"$f":"IF(IF($B88>0,$B88-INDEX($B:$B,_xlfn.AGGREGATE(14,6,1/(LEN($B$1:INDEX(B:B,ROW()-1))>0)*ROW(B:B),1)),\"\")<>\"\",     ABS(IF($B88>0,$B88-INDEX($B:$B,_xlfn.AGGREGATE(14,6,1/(LEN($B$1:INDEX(B:B,ROW()-1))>0)*ROW(B:B),1)),\"\"))/'Time constants'!$C$8+IF(B88=B87,0,1)*'Time constants'!$C$7,\"\")","v":""},{"$f":"IF(OR(#REF!=\"High Resolution\",#REF!=\"High Flux\"),IF(#REF!=#REF!,0,1)*'Time constants'!#REF!+IF(D88=D87,0,1)*'Time constants'!$C$4,\"\")","v":{"$error":"#REF!"}},{"$f":"IF(IF(G88=\"\",0,G88/'Time constants'!$C$6)+IF(H88=\"\",0,H88)+IF(I88=\"\",0,I88)=0,\"\",IF(G88=\"\",0,G88/'Time constants'!$C$6)+IF(H88=\"\",0,H88)+IF(I88=\"\",0,I88))","v":{"$error":"#REF!"}},{"$error":"#REF!"},{"$f":"IF(C88=\"\",\"\",TEXT(C88,\"0\") &\", \" & TEXT(#REF!,\"0\") & \" \" & TEXT(D88,\"0.0\") & \" meV, \" & \"T=\" & TEXT(B88,\"0.00\") & \" K, \" &TEXT(G88,\"0.00\") & \"C\")","v":""}]
[null,null,null,null,null,null,null,{"$f":"IF(IF($B89>0,$B89-INDEX($B:$B,_xlfn.AGGREGATE(14,6,1/(LEN($B$1:INDEX(B:B,ROW()-1))>0)*ROW(B:B),1)),\"\")<>\"\",     ABS(IF($B89>0,$B89-INDEX($B:$B,_xlfn.AGGREGATE(14,6,1/(LEN($B$1:INDEX(B:B,ROW()-1))>0)*ROW(B:B),1)),\"\"))/'Time constants'!$C$8+IF(B89=B88,0,1)*'Time constants'!$C$7,\"\")","v":""},{"$f":"IF(OR(#REF!=\"High Resolution\",#REF!=\"High Flux\"),IF(#REF!=#REF!,0,1)*'Time constants'!#REF!+IF(D89=D88,0,1)*'Time constants'!$C$4,\"\")","v":{"$error":"#REF!"}},{"$f":"IF(IF(G89=\"\",0,G89/'Time constants'!$C$6)+IF(H89=\"\",0,H89)+IF(I89=\"\",0,I89)=0,\"\",IF(G89=\"\",0,G89/'Time constants'!$C$6)+IF(H89=\"\",0,H89)+IF(I89=\"\",0,I89))","v":{"$error":"#REF!"}},{"$error":"#REF!"},{"$f":"IF(C89=\"\",\"\",TEXT(C89,\"0\") &\", \" & TEXT(#REF!,\"0\") & \" \" & TEXT(D89,\"0.0\") & \" meV, \" & \"T=\" & TEXT(B89,\"0.00\") & \" K, \" &TEXT(G89,\"0.00\") & \"C\")","v":""}]
[null,null,null,null,null,null,null,{"$f":"IF(IF($B90>0,$B90-INDEX($B:$B,_xlfn.AGGREGATE(14,6,1/(LEN($B$1:INDEX(B:B,ROW()-1))>0)*ROW(B:B),1)),\"\")<>\"\",     ABS(IF($B90>0,$B90-INDEX($B:$B,_xlfn.AGGREGATE(14,6,1/(LEN($B$1:INDEX(B:B,ROW()-1))>0)*ROW(B:B),1)),\"\"))/'Time constants'!$C$8+IF(B90=B89,0,1)*'Time constants'!$C$7,\"\")","v":""},{"$f":"IF(OR(#REF!=\"High Resolution\",#REF!=\"High Flux\"),IF(#REF!=#REF!,0,1)*'Time constants'!#REF!+IF(D90=D89,0,1)*'Time constants'!$C$4,\"\")","v":{"$error":"#REF!"}},{"$f":"IF(IF(G90=\"\",0,G90/'Time constants'!$C$6)+IF(H90=\"\",0,H90)+IF(I90=\"\",0,I90)=0,\"\",IF(G90=\"\",0,G90/'Time constants'!$C$6)+IF(H90=\"\",0,H90)+IF(I90=\"\",0,I90))","v":{"$error":"#REF!"}},{"$error":"#REF!"},{"$f":"IF(C90=\"\",\"\",TEXT(C90,\"0\") &\", \" & TEXT(#REF!,\"0\") & \" \" & TEXT(D90,\"0.0\") & \" meV, \" & \"T=\" & TEXT(B90,\"0.00\") & \" K, \" &TEXT(G90,\"0.00\") & \"C\")","v":""}]
[null,null,null,null,null,null,null,{"$f":"IF(IF($B91>0,$B91-INDEX($B:$B,_xlfn.AGGREGATE(14,6,1/(LEN($B$1:INDEX(B:B,ROW()-1))>0)*ROW(B:B),1)),\"\")<>\"\",     ABS(IF($B91>0,$B91-INDEX($B:$B,_xlfn.AGGREGATE(14,6,1/(LEN($B$1:INDEX(B:B,ROW()-1))>0)*ROW(B:B),1)),\"\"))/'Time constants'!$C$8+IF(B91=B90,0,1)*'Time constants'!$C$7,\"\")","v":""},{"$f":"IF(OR(#REF!=\"High Resolution\",#REF!=\"High Flux\"),IF(#REF!=#REF!,0,1)*'Time constants'!#REF!+IF(D91=D90,0,1)*'Time constants'!$C$4,\"\")","v":{"$error":"#REF!"}},{"$f":"IF(IF(G91=\"\",0,G91/'Time constants'!$C$6)+IF(H91=\"\",0,H91)+IF(I91=\"\",0,I91)=0,\"\",IF(G91=\"\",0,G91/'Time constants'!$C$6)+IF(H91=\"\",0,H91)+IF(I91=\"\",0,I91))","v":{"$error":"#REF!"}},{"$error":"#REF!"},{"$f":"IF(C91=\"\",\"\",TEXT(C91,\"0\") &\", \" & TEXT(#REF!,\"0\") & \" \" & TEXT(D91,\"0.0\") & \" meV, \" & \"T=\" & TEXT(B91,\"0.00\") & \" K, \" &TEXT(G91,\"0.00\") & \"C\")","v":""}]
[null,null,null,null,null,null,null,{"$f":"IF(IF($B92>0,$B92-INDEX($B:$B,_xlfn.AGGREGATE(14,6,1/(LEN($B$1:INDEX(B:B,ROW()-1))>0)*ROW(B:B),1)),\"\")<>\"\",     ABS(IF($B92>0,$B92-INDEX($B:$B,_xlfn.AGGREGATE(14,6,1/(LEN($B$1:INDEX(B:B,ROW()-1))>0)*ROW(B:B),1)),\"\"))/'Time constants'!$C$8+IF(B92=B91,0,1)*'Time constants'!$C$7,\"\")","v":""},{"$f":"IF(OR(#REF!=\"High Resolution\",#REF!=\"High Flux\"),IF(#REF!=#REF!,0,1)*'Time constants'!#REF!+IF(D92=D91,0,1)*'Time constants'!$C$4,\"\")","v":{"$error":"#REF!"}},{"$f":"IF(IF(G92=\"\",0,G92/'Time constants'!$C$6)+IF(H92=\"\",0,H92)+IF(I92=\"\",0,I92)=0,\"\",IF(G92=\"\",0,G92/'Time constants'!$C$6)+IF(H92=\"\",0,H92)+IF(I92=\"\",0,I92))","v":{"$error":"#REF!"}},{"$error":"#REF!"},{"$f":"IF(C92=\"\",\"\",TEXT(C92,\"0\") &\", \" & TEXT(#REF!,\"0\") & \" \" & TEXT(D92,\"0.0\") & \" meV, \" & \"T=\" & TEXT(B92,\"0.00\") & \" K, \" &TEXT(G92,\"0.00\") & \"C\")","v":""}]
[null,null,null,null,null,null,null,{"$f":"IF(IF($B93>0,$B93-INDEX($B:$B,_xlfn.AGGREGATE(14,6,1/(LEN($B$1:INDEX(B:B,ROW()-1))>0)*ROW(B:B),1)),\"\")<>\"\",     ABS(IF($B93>0,$B93-INDEX($B:$B,_xlfn.AGGREGATE(14,6,1/(LEN($B$1:INDEX(B:B,ROW()-1))>0)*ROW(B:B),1)),\"\"))/'Time constants'!$C$8+IF(B93=B92,0,1)*'Time constants'!$C$7,\"\")","v":""},{"$f":"IF(OR(#REF!=\"High Resolution\",#REF!=\"High Flux\"),IF(#REF!=#REF!,0,1)*'Time constants'!#REF!+IF(D93=D92,0,1)*'Time constants'!$C$4,\"\")","v":{"$error":"#REF!"}},{"$f":"IF(IF(G93=\"\",0,G93/'Time constants'!$C$6)+IF(H93=\"\",0,H93)+IF(I93=\"\",0,I93)=0,\"\",IF(G93=\"\",0,G93/'Time constants'!$C$6)+IF(H93=\"\",0,H93)+IF(I93=\"\",0,I93))","v":{"$error":"#REF!"}},{"$error":"#REF!"},{"$f":"IF(C93=\"\",\"\",TEXT(C93,\"0\") &\", \" & TEXT(#REF!,\"0\") & \" \" & TEXT(D93,\"0.0\") & \" meV, \" & \"T=\" & TEXT(B93,\"0.00\") & \" K, \" &TEXT(G93,\"0.00\") & \"C\")","v":""}]
[null,null,null,null,null,null,null,{"$f":"IF(IF($B94>0,$B94-INDEX($B:$B,_xlfn.AGGREGATE(14,6,1/(LEN($B$1:INDEX(B:B,ROW()-1))>0)*ROW(B:B),1)),\"\")<>\"\",     ABS(IF($B94>0,$B94-INDEX($B:$B,_xlfn.AGGREGATE(14,6,1/(LEN($B$1:INDEX(B:B,ROW()-1))>0)*ROW(B:B),1)),\"\"))/'Time constants'!$C$8+IF(B94=B93,0,1)*'Time constants'!$C$7,\"\")","v":""},{"$f":"IF(OR(#REF!=\"High Resolution\",#REF!=\"High Flux\"),IF(#REF!=#REF!,0,1)*'Time constants'!#REF!+IF(D94=D93,0,1)*'Time constants'!$C$4,\"\")","v":{"$error":"#REF!"}},{"$f":"IF(IF(G94=\"\",0,G94/'Time constants'!$C$6)+IF(H94=\"\",0,H94)+IF(I94=\"\",0,I94)=0,\"\",IF(G94=\"\",0,G94/'Time constants'!$C$6)+IF(H94=\"\",0,H94)+IF(I94=\"\",0,I94))","v":{"$error":"#REF!"}},{"$error":"#REF!"},{"$f":"IF(C94=\"\",\"\",TEXT(C94,\"0\") &\", \" & TEXT(#REF!,\"0\") & \" \" & TEXT(D94,\"0.0\") & \" meV, \" & \"T=\" & TEXT(B94,\"0.00\") & \" K, \" &TEXT(G94,\"0.00\") & \"C\")","v":""}]
[null,null,null,null,null,null,null,{"$f":"IF(IF($B95>0,$B95-INDEX($B:$B,_xlfn.AGGREGATE(14,6,1/(LEN($B$1:INDEX(B:B,ROW()-1))>0)*ROW(B:B),1)),\"\")<>\"\",     ABS(IF($B95>0,$B95-INDEX($B:$B,_xlfn.AGGREGATE(14,6,1/(LEN($B$1:INDEX(B:B,ROW()-1))>0)*ROW(B:B),1)),\"\"))/'Time constants'!$C$8+IF(B95=B94,0,1)*'Time constants'!$C$7,\"\")","v":""},{"$f":"IF(OR(#REF!=\"High Resolution\",#REF!=\"High Flux\"),IF(#REF!=#REF!,0,1)*'Time constants'!#REF!+IF(D95=D94,0,1)*'Time constants'!$C$4,\"\")","v":{"$error":"#REF!"}},{"$f":"IF(IF(G95=\"\",0,G95/'Time constants'!$C$6)+IF(H95=\"\",0,H95)+IF(I95=\"\",0,I95)=0,\"\",IF(G95=\"\",0,G95/'Time constants'!$C$6)+IF(H95=\"\",0,H95)+IF(I95=\"\",0,I95))","v":{"$error":"#REF!"}},{"$error":"#REF!"},{"$f":"IF(C95=\"\",\"\",TEXT(C95,\"0\") &\", \" & TEXT(#REF!,\"0\") & \" \" & TEXT(D95,\"0.0\") & \" meV, \" & \"T=\" & TEXT(B95,\"0.00\") & \" K, \" &TEXT(G95,\"0.00\") & \"C\")","v":""}]
[null,null,null,null,null,null,null,{"$f":"IF(IF($B96>0,$B96-INDEX($B:$B,_xlfn.AGGREGATE(14,6,1/(LEN($B$1:INDEX(B:B,ROW()-1))>0)*ROW(B:B),1)),\"\")<>\"\",     ABS(IF($B96>0,$B96-INDEX($B:$B,_xlfn.AGGREGATE(14,6,1/(LEN($B$1:INDEX(B:B,ROW()-1))>0)*ROW(B:B),1)),\"\"))/'Time constants'!$C$8+IF(B96=B95,0,1)*'Time constants'!$C$7,\"\")","v":""},{"$f":"IF(OR(#REF!=\"High Resolution\",#REF!=\"High Flux\"),IF(#REF!=#REF!,0,1)*'Time constants'!#REF!+IF(D96=D95,0,1)*'Time constants'!$C$4,\"\")","v":{"$error":"#REF!"}},{"$f":"IF(IF(G96=\"\",0,G96/'Time constants'!$C$6)+IF(H96=\"\",0,H96)+IF(I96=\"\",0,I96)=0,\"\",IF(G96=\"\",0,G96/'Time constants'!$C$6)+IF(H96=\"\",0,H96)+IF(I96=\"\",0,I96))","v":{"$error":"#REF!"}},{"$error":"#REF!"},{"$f":"IF(C96=\"\",\"\",TEXT(C96,\"0\") &\", \" & TEXT(#REF!,\"0\") & \" \" & TEXT(D96,\"0.0\") & \" meV, \" & \"T=\" & TEXT(B96,\"0.00\") & \" K, \" &TEXT(G96,\"0.00\") & \"C\")","v":""}]
[null,null,null,null,null,null,null,{"$f":"IF(IF($B97>0,$B97-INDEX($B:$B,_xlfn.AGGREGATE(14,6,1/(LEN($B$1:INDEX(B:B,ROW()-1))>0)*ROW(B:B),1)),\"\")<>\"\",     ABS(IF($B97>0,$B97-INDEX($B:$B,_xlfn.AGGREGATE(14,6,1/(LEN($B$1:INDEX(B:B,ROW()-1))>0)*ROW(B:B),1)),\"\"))/'Time constants'!$C$8+IF(B97=B96,0,1)*'Time constants'!$C$7,\"\")","v":""},{"$f":"IF(OR(#REF!=\"High Resolution\",#REF!=\"High Flux\"),IF(#REF!=#REF!,0,1)*'Time constants'!#REF!+IF(D97=D96,0,1)*'Time constants'!$C$4,\"\")","v":{"$error":"#REF!"}},{"$f":"IF(IF(G97=\"\",0,G97/'Time constants'!$C$6)+IF(H97=\"\",0,H97)+IF(I97=\"\",0,I97)=0,\"\",IF(G97=\"\",0,G97/'Time constants'!$C$6)+IF(H97=\"\",0,H97)+IF(I97=\"\",0,I97))","v":{"$error":"#REF!"}},{"$error":"#REF!"},{"$f":"IF(C97=\"\",\"\",TEXT(C97,\"0\") &\", \" & TEXT(#REF!,\"0\") & \" \" & TEXT(D97,\"0.0\") & \" meV, \" & \"T=\" & TEXT(B97,\"0.00\") & \" K, \" &TEXT(G97,\"0.00\") & \"C\")","v":""}]
[null,null,null,null,null,null,null,{"$f":"IF(IF($B98>0,$B98-INDEX($B:$B,_xlfn.AGGREGATE(14,6,1/(LEN($B$1:INDEX(B:B,ROW()-1))>0)*ROW(B:B),1)),\"\")<>\"\",     ABS(IF($B98>0,$B98-INDEX($B:$B,_xlfn.AGGREGATE(14,6,1/(LEN($B$1:INDEX(B:B,ROW()-1))>0)*ROW(B:B),1)),\"\"))/'Time constants'!$C$8+IF(B98=B97,0,1)*'Time constants'!$C$7,\"\")","v":""},{"$f":"IF(OR(#REF!=\"High Resolution\",#REF!=\"High Flux\"),IF(#REF!=#REF!,0,1)*'Time constants'!#REF!+IF(D98=D97,0,1)*'Time constants'!$C$4,\"\")","v":{"$error":"#REF!"}},{"$f":"IF(IF(G98=\"\",0,G98/'Time constants'!$C$6)+IF(H98=\"\",0,H98)+IF(I98=\"\",0,I98)=0,\"\",IF(G98=\"\",0,G98/'Time constants'!$C$6)+IF(H98=\"\",0,H98)+IF(I98=\"\",0,I98))","v":{"$error":"#REF!"}},{"$error":"#REF!"},{"$f":"IF(C98=\"\",\"\",TEXT(C98,\"0\") &\", \" & TEXT(#REF!,\"0\") & \" \" & TEXT(D98,\"0.0\") & \" meV, \" & \"T=\" & TEXT(B98,\"0.00\") & \" K, \" &TEXT(G98,\"0.00\") & \"C\")","v":""}]
[null,null,null,null,null,null,null,{"$f":"IF(IF($B99>0,$B99-INDEX($B:$B,_xlfn.AGGREGATE(14,6,1/(LEN($B$1:INDEX(B:B,ROW()-1))>0)*ROW(B:B),1)),\"\")<>\"\",     ABS(IF($B99>0,$B99-INDEX($B:$B,_xlfn.AGGREGATE(14,6,1/(LEN($B$1:INDEX(B:B,ROW()-1))>0)*ROW(B:B),1)),\"\"))/'Time constants'!$C$8+IF(B99=B98,0,1)*'Time constants'!$C$7,\"\")","v":""},{"$f":"IF(OR(#REF!=\"High Resolution\",#REF!=\"High Flux\"),IF(#REF!=#REF!,0,1)*'Time constants'!#REF!+IF(D99=D98,0,1)*'Time constants'!$C$4,\"\")","v":{"$error":"#REF!"}},{"$f":"IF(IF(G99=\"\",0,G99/'Time constants'!$C$6)+IF(H99=\"\",0,H99)+IF(I99=\"\",0,I99)=0,\"\",IF(G99=\"\",0,G99/'Time constants'!$C$6)+IF(H99=\"\",0,H99)+IF(I99=\"\",0,I99))","v":{"$error":"#REF!"}},{"$error":"#REF!"},{"$f":"IF(C99=\"\",\"\",TEXT(C99,\"0\") &\", \" & TEXT(#REF!,\"0\") & \" \" & TEXT(D99,\"0.0\") & \" meV, \" & \"T=\" & TEXT(B99,\"0.00\") & \" K, \" &TEXT(G99,\"0.00\") & \"C\")","v":""}]
[null,null,null,null,null,null,null,{"$f":"IF(IF($B100>0,$B100-INDEX($B:$B,_xlfn.AGGREGATE(14,6,1/(LEN($B$1:INDEX(B:B,ROW()-1))>0)*ROW(B:B),1)),\"\")<>\"\",     ABS(IF($B100>0,$B100-INDEX($B:$B,_xlfn.AGGREGATE(14,6,1/(LEN($B$1:INDEX(B:B,ROW()-1))>0)*ROW(B:B),1)),\"\"))/'Time constants'!$C$8+IF(B100=B99,0,1)*'Time constants'!$C$7,\"\")","v":""},{"$f":"IF(OR(#REF!=\"High Resolution\",#REF!=\"High Flux\"),IF(#REF!=#REF!,0,1)*'Time constants'!#REF!+IF(D100=D99,0,1)*'Time constants'!$C$4,\"\")","v":{"$error":"#REF!"}},{"$f":"IF(IF(G100=\"\",0,G100/'Time constants'!$C$6)+IF(H100=\"\",0,H100)+IF(I100=\"\",0,I100)=0,\"\",IF(G100=\"\",0,G100/'Time constants'!$C$6)+IF(H100=\"\",0,H100)+IF(I100=\"\",0,I100))","v":{"$error":"#REF!"}},{"$error":"#REF!"},{"$f":"IF(C100=\"\",\"\",TEXT(C100,\"0\") &\", \" & TEXT(#REF!,\"0\") & \" \" & TEXT(D100,\"0.0\") & \" meV, \" & \"T=\" & TEXT(B100,\"0.00\") & \" K, \" &TEXT(G100,\"0.00\") & \"C\")","v":""}]
[null,null,null,null,null,null,null,{"$f":"IF(IF($B101>0,$B101-INDEX($B:$B,_xlfn.AGGREGATE(14,6,1/(LEN($B$1:INDEX(B:B,ROW()-1))>0)*ROW(B:B),1)),\"\")<>\"\",     ABS(IF($B101>0,$B101-INDEX($B:$B,_xlfn.AGGREGATE(14,6,1/(LEN($B$1:INDEX(B:B,ROW()-1))>0)*ROW(B:B),1)),\"\"))/'Time constants'!$C$8+IF(B101=B100,0,1)*'Time constants'!$C$7,\"\")","v":""},{"$f":"IF(OR(#REF!=\"High Resolution\",#REF!=\"High Flux\"),IF(#REF!=#REF!,0,1)*'Time constants'!#REF!+IF(D101=D100,0,1)*'Time constants'!$C$4,\"\")","v":{"$error":"#REF!"}},{"$f":"IF(IF(G101=\"\",0,G101/'Time constants'!$C$6)+IF(H101=\"\",0,H101)+IF(I101=\"\",0,I101)=0,\"\",IF(G101=\"\",0,G101/'Time constants'!$C$6)+IF(H101=\"\",0,H101)+IF(I101=\"\",0,I101))","v":{"$error":"#REF!"}},{"$error":"#REF!"},{"$f":"IF(C101=\"\",\"\",TEXT(C101,\"0\") &\", \" & TEXT(#REF!,\"0\") & \" \" & TEXT(D101,\"0.0\") & \" meV, \" & \"T=\" & TEXT(B101,\"0.00\") & \" K, \" &TEXT(G101,\"0.00\") & \"C\")","v":""}]
[null,null,null,null,null,null,null,{"$f":"IF(IF($B102>0,$B102-INDEX($B:$B,_xlfn.AGGREGATE(14,6,1/(LEN($B$1:INDEX(B:B,ROW()-1))>0)*ROW(B:B),1)),\"\")<>\"\",     ABS(IF($B102>0,$B102-INDEX($B:$B,_xlfn.AGGREGATE(14,6,1/(LEN($B$1:INDEX(B:B,ROW()-1))>0)*ROW(B:B),1)),\"\"))/'Time constants'!$C$8+IF(B102=B101,0,1)*'Time constants'!$C$7,\"\")","v":""},{"$f":"IF(OR(#REF!=\"High Resolution\",#REF!=\"High Flux\"),IF(#REF!=#REF!,0,1)*'Time constants'!#REF!+IF(D102=D101,0,1)*'Time constants'!$C$4,\"\")","v":{"$error":"#REF!"}},{"$f":"IF(IF(G102=\"\",0,G102/'Time constants'!$C$6)+IF(H102=\"\",0,H102)+IF(I102=\"\",0,I102)=0,\"\",IF(G102=\"\",0,G102/'Time constants'!$C$6)+IF(H102=\"\",0,H102)+IF(I102=\"\",0,I102))","v":{"$error":"#REF!"}},{"$error":"#REF!"},{"$f":"IF(C102=\"\",\"\",TEXT(C102,\"0\") &\", \" & TEXT(#REF!,\"0\") & \" \" & TEXT(D102,\"0.0\") & \" meV, \" & \"T=\" & TEXT(B102,\"0.00\") & \" K, \" &TEXT(G102,\"0.00\") & \"C\")","v":""}]
[null,null,null,null,null,null,null,{"$f":"IF(IF($B103>0,$B103-INDEX($B:$B,_xlfn.AGGREGATE(14,6,1/(LEN($B$1:INDEX(B:B,ROW()-1))>0)*ROW(B:B),1)),\"\")<>\"\",     ABS(IF($B103>0,$B103-INDEX($B:$B,_xlfn.AGGREGATE(14,6,1/(LEN($B$1:INDEX(B:B,ROW()-1))>0)*ROW(B:B),1)),\"\"))/'Time constants'!$C$8+IF(B103=B102,0,1)*'Time constants'!$C$7,\"\")","v":""},{"$f":"IF(OR(#REF!=\"High Resolution\",#REF!=\"High Flux\"),IF(#REF!=#REF!,0,1)*'Time constants'!#REF!+IF(D103=D102,0,1)*'Time constants'!$C$4,\"\")","v":{"$error":"#REF!"}},{"$f":"IF(IF(G103=\"\",0,G103/'Time constants'!$C$6)+IF(H103=\"\",0,H103)+IF(I103=\"\",0,I103)=0,\"\",IF(G103=\"\",0,G103/'Time constants'!$C$6)+IF(H103=\"\",0,H103)+IF(I103=\"\",0,I103))","v":{"$error":"#REF!"}},{"$error":"#REF!"},{"$f":"IF(C103=\"\",\"\",TEXT(C103,\"0\") &\", \" & TEXT(#REF!,\"0\") & \" \" & TEXT(D103,\"0.0\") & \" meV, \" & \"T=\" & TEXT(B103,\"0.00\") & \" K, \" &TEXT(G103,\"0.00\") & \"C\")","v":""}]
[null,null,null,null,null,null,null,{"$f":"IF(IF($B104>0,$B104-INDEX($B:$B,_xlfn.AGGREGATE(14,6,1/(LEN($B$1:INDEX(B:B,ROW()-1))>0)*ROW(B:B),1)),\"\")<>\"\",     ABS(IF($B104>0,$B104-INDEX($B:$B,_xlfn.AGGREGATE(14,6,1/(LEN($B$1:INDEX(B:B,ROW()-1))>0)*ROW(B:B),1)),\"\"))/'Time constants'!$C$8+IF(B104=B103,0,1)*'Time constants'!$C$7,\"\")","v":""},{"$f":"IF(OR(#REF!=\"High Resolution\",#REF!=\"High Flux\"),IF(#REF!=#REF!,0,1)*'Time constants'!#REF!+IF(D104=D103,0,1)*'Time constants'!$C$4,\"\")","v":{"$error":"#REF!"}},{"$f":"IF(IF(G104=\"\",0,G104/'Time constants'!$C$6)+IF(H104=\"\",0,H104)+IF(I104=\"\",0,I104)=0,\"\",IF(G104=\"\",0,G104/'Time constants'!$C$6)+IF(H104=\"\",0,H104)+IF(I104=\"\",0,I104))","v":{"$error":"#REF!"}},{"$error":"#REF!"},{"$f":"IF(C104=\"\",\"\",TEXT(C104,\"0\") &\", \" & TEXT(#REF!,\"0\") & \" \" & TEXT(D104,\"0.0\") & \" meV, \" & \"T=\" & TEXT(B104,\"0.00\") & \" K, \" &TEXT(G104,\"0.00\") & \"C\")","v":""}]
[null,null,null,null,null,null,null,{"$f":"IF(IF($B105>0,$B105-INDEX($B:$B,_xlfn.AGGREGATE(14,6,1/(LEN($B$1:INDEX(B:B,ROW()-1))>0)*ROW(B:B),1)),\"\")<>\"\",     ABS(IF($B105>0,$B105-INDEX($B:$B,_xlfn.AGGREGATE(14,6,1/(LEN($B$1:INDEX(B:B,ROW()-1))>0)*ROW(B:B),1)),\"\"))/'Time constants'!$C$8+IF(B105=B104,0,1)*'Time constants'!$C$7,\"\")","v":""},{"$f":"IF(OR(#REF!=\"High Resolution\",#REF!=\"High Flux\"),IF(#REF!=#REF!,0,1)*'Time constants'!#REF!+IF(D105=D104,0,1)*'Time constants'!$C$4,\"\")","v":{"$error":"#REF!"}},{"$f":"IF(IF(G105=\"\",0,G105/'Time constants'!$C$6)+IF(H105=\"\",0,H105)+IF(I105=\"\",0,I105)=0,\"\",IF(G105=\"\",0,G105/'Time constants'!$C$6)+IF(H105=\"\",0,H105)+IF(I105=\"\",0,I105))","v":{"$error":"#REF!"}},{"$error":"#REF!"},{"$f":"IF(C105=\"\",\"\",TEXT(C105,\"0\") &\", \" & TEXT(#REF!,\"0\") & \" \" & TEXT(D105,\"0.0\") & \" meV, \" & \"T=\" & TEXT(B105,\"0.00\") & \" K, \" &TEXT(G105,\"0.00\") & \"C\")","v":""}]
[null,null,null,null,null,null,null,{"$f":"IF(IF($B106>0,$B106-INDEX($B:$B,_xlfn.AGGREGATE(14,6,1/(LEN($B$1:INDEX(B:B,ROW()-1))>0)*ROW(B:B),1)),\"\")<>\"\",     ABS(IF($B106>0,$B106-INDEX($B:$B,_xlfn.AGGREGATE(14,6,1/(LEN($B$1:INDEX(B:B,ROW()-1))>0)*ROW(B:B),1)),\"\"))/'Time constants'!$C$8+IF(B106=B105,0,1)*'Time constants'!$C$7,\"\")","v":""},{"$f":"IF(OR(#REF!=\"High Resolution\",#REF!=\"High Flux\"),IF(#REF!=#REF!,0,1)*'Time constants'!#REF!+IF(D106=D105,0,1)*'Time constants'!$C$4,\"\")","v":{"$error":"#REF!"}},{"$f":"IF(IF(G106=\"\",0,G106/'Time constants'!$C$6)+IF(H106=\"\",0,H106)+IF(I106=\"\",0,I106)=0,\"\",IF(G106=\"\",0,G106/'Time constants'!$C$6)+IF(H106=\"\",0,H106)+IF(I106=\"\",0,I106))","v":{"$error":"#REF!"}},{"$error":"#REF!"},{"$f":"IF(C106=\"\",\"\",TEXT(C106,\"0\") &\", \" & TEXT(#REF!,\"0\") & \" \" & TEXT(D106,\"0.0\") & \" meV, \" & \"T=\" & TEXT(B106,\"0.00\") & \" K, \" &TEXT(G106,\"0.00\") & \"C\")","v":""}]

{"sheet":"Time constants","index":2,"n_rows":8,"n_cols":3,"rows_kept":8,"cut":false,"hidden":false,"merged":[]}
["T"]
[]
[]
[null,"Time to change incident energy (minutes)",5]
[null,"Time to change detector vessel angle (minutes)",5]
[null,"Coulombs per minute at 1.4 MW power",{"$f":"4.9/60","v":8.1666666666666679E-2}]
[null,"Time to equilibrate temperature (minutes)",3]
[null,"Cooling & warming time, linear (K/min)",3.22]